BEGIN:VCALENDAR
VERSION:2.0
PRODID:-//Norris Community Library - ECPv6.15.20//NONSGML v1.0//EN
CALSCALE:GREGORIAN
METHOD:PUBLISH
X-WR-CALNAME:Norris Community Library
X-ORIGINAL-URL:https://norriscommunitylibrary.com
X-WR-CALDESC:Events for Norris Community Library
REFRESH-INTERVAL;VALUE=DURATION:PT1H
X-Robots-Tag:noindex
X-PUBLISHED-TTL:PT1H
BEGIN:VTIMEZONE
TZID:UTC
BEGIN:STANDARD
TZOFFSETFROM:+0000
TZOFFSETTO:+0000
TZNAME:UTC
DTSTART:20220101T000000
END:STANDARD
END:VTIMEZONE
BEGIN:VEVENT
DTSTART;TZID=UTC:20250715T153000
DTEND;TZID=UTC:20250715T163000
DTSTAMP:20260423T220235
CREATED:20250517T145954Z
LAST-MODIFIED:20250527T214706Z
UID:3601-1752593400-1752597000@norriscommunitylibrary.com
SUMMARY:Teen Around
DESCRIPTION:Teen Around is a free program for ages 12 to 19 with a fun\, unique activity each meeting! No RSVP\, just bring yourself and your friends to hang out! At this week’s meeting we’re having a Manga Drawing Class!
URL:https://norriscommunitylibrary.com/event/teen-around-6
CATEGORIES:Summer Reading,Teen Around,Teens
ATTACH;FMTTYPE=image/png:https://norriscommunitylibrary.com/wp-content/uploads/2025/05/Teen-Around-landscape.png
END:VEVENT
BEGIN:VEVENT
DTSTART;TZID=UTC:20250708T153000
DTEND;TZID=UTC:20250708T163000
DTSTAMP:20260423T220235
CREATED:20250516T213210Z
LAST-MODIFIED:20250527T214621Z
UID:3596-1751988600-1751992200@norriscommunitylibrary.com
SUMMARY:Teen Around
DESCRIPTION:Teen Around is a free program for ages 12 to 19 with a fun\, unique activity each meeting! No RSVP\, just bring yourself and your friends to hang out! At this week’s meeting we’re making Color Bracelets!
URL:https://norriscommunitylibrary.com/event/teen-around-5
CATEGORIES:Summer Reading,Teen Around,Teens
ATTACH;FMTTYPE=image/png:https://norriscommunitylibrary.com/wp-content/uploads/2025/05/Teen-Around-landscape.png
END:VEVENT
BEGIN:VEVENT
DTSTART;TZID=UTC:20250701T153000
DTEND;TZID=UTC:20250701T163000
DTSTAMP:20260423T220235
CREATED:20250516T212819Z
LAST-MODIFIED:20250527T214745Z
UID:3594-1751383800-1751387400@norriscommunitylibrary.com
SUMMARY:Teen Around
DESCRIPTION:Teen Around is a free program for ages 12 to 19 with a fun\, unique activity each meeting! No RSVP\, just bring yourself and your friends to hang out! At this week’s meeting we’re making a Candy Salad!
URL:https://norriscommunitylibrary.com/event/teen-around-4
CATEGORIES:Summer Reading,Teen Around,Teens
ATTACH;FMTTYPE=image/png:https://norriscommunitylibrary.com/wp-content/uploads/2025/05/Teen-Around-landscape.png
END:VEVENT
BEGIN:VEVENT
DTSTART;TZID=UTC:20250628T170000
DTEND;TZID=UTC:20250628T190000
DTSTAMP:20260423T220235
CREATED:20250516T195505Z
LAST-MODIFIED:20250529T141725Z
UID:3548-1751130000-1751137200@norriscommunitylibrary.com
SUMMARY:Waltz & Swing Class
DESCRIPTION:Join Nina at the Norris Community Center to learn some ballroom dance! Perfect for those teens and adults who have never tried waltz or east coast swing before\, it’s completely free and open to all! All you need is some water\, comfortable dancing shoes and clothes\, and a willingness to dance! We will spend about an hour on each dance. Questions? Feel free to send us a message or email us at questions@norriscommunitylibrary.com
URL:https://norriscommunitylibrary.com/event/waltz-swing-class
CATEGORIES:Adults,All Ages,Summer Reading,Teens
ATTACH;FMTTYPE=image/jpeg:https://norriscommunitylibrary.com/wp-content/uploads/2025/05/srp-programs.jpg
END:VEVENT
BEGIN:VEVENT
DTSTART;TZID=UTC:20250617T153000
DTEND;TZID=UTC:20250617T163000
DTSTAMP:20260423T220235
CREATED:20250516T192128Z
LAST-MODIFIED:20250527T214554Z
UID:3541-1750174200-1750177800@norriscommunitylibrary.com
SUMMARY:Teen Around
DESCRIPTION:Teen Around is a free program for ages 12 to 19 with a fun\, unique activity each meeting! No RSVP\, just bring yourself and your friends to hang out! At this week’s meeting we’re making Bleach Tie Dye Patches!
URL:https://norriscommunitylibrary.com/event/teen-around-3
CATEGORIES:Summer Reading,Teen Around,Teens
ATTACH;FMTTYPE=image/png:https://norriscommunitylibrary.com/wp-content/uploads/2025/05/Teen-Around-landscape.png
END:VEVENT
BEGIN:VEVENT
DTSTART;TZID=UTC:20250610T153000
DTEND;TZID=UTC:20250610T163000
DTSTAMP:20260423T220235
CREATED:20250516T191918Z
LAST-MODIFIED:20250527T214531Z
UID:3539-1749569400-1749573000@norriscommunitylibrary.com
SUMMARY:Teen Around
DESCRIPTION:Teen Around is a free program for ages 12 to 19 with a fun\, unique activity each meeting! No RSVP\, just bring yourself and your friends to hang out! At this week’s meeting we’re Designing Zines!
URL:https://norriscommunitylibrary.com/event/teen-around-2
CATEGORIES:Summer Reading,Teen Around,Teens
ATTACH;FMTTYPE=image/png:https://norriscommunitylibrary.com/wp-content/uploads/2025/05/Teen-Around-landscape.png
END:VEVENT
BEGIN:VEVENT
DTSTART;TZID=UTC:20250603T153000
DTEND;TZID=UTC:20250603T163000
DTSTAMP:20260423T220235
CREATED:20250516T191716Z
LAST-MODIFIED:20250527T214503Z
UID:3537-1748964600-1748968200@norriscommunitylibrary.com
SUMMARY:Teen Around
DESCRIPTION:Teen Around is a free program for ages 12 to 19 with a fun\, unique activity each meeting! No RSVP\, just bring yourself and your friends to hang out! At this week’s meeting we’re doing an Oreo Taste Test!
URL:https://norriscommunitylibrary.com/event/teen-around
CATEGORIES:Summer Reading,Teen Around,Teens
ATTACH;FMTTYPE=image/png:https://norriscommunitylibrary.com/wp-content/uploads/2025/05/Teen-Around-landscape.png
END:VEVENT
BEGIN:VEVENT
DTSTART;TZID=UTC:20241009T160000
DTEND;TZID=UTC:20241009T170000
DTSTAMP:20260423T220235
CREATED:20240927T193008Z
LAST-MODIFIED:20240927T193008Z
UID:1881-1728489600-1728493200@norriscommunitylibrary.com
SUMMARY:Pumpkin Painting Party
DESCRIPTION:Get ready for our annual pumpkin painting party! Bring your own pumpkin and we’ll supply the paint. You can take your pumpkin home with you or display it at the library.
URL:https://norriscommunitylibrary.com/event/pumpkin-painting-party-2
CATEGORIES:Adults,All Ages,Kids,Teens
END:VEVENT
BEGIN:VEVENT
DTSTART;TZID=UTC:20241005T200000
DTEND;TZID=UTC:20241005T220000
DTSTAMP:20260423T220235
CREATED:20240903T210805Z
LAST-MODIFIED:20240927T205800Z
UID:1816-1728158400-1728165600@norriscommunitylibrary.com
SUMMARY:Movies on the Commons
DESCRIPTION:UPDATE: The showing of Barbie has been moved to Saturday\, October 5th at 8:00pm due to inclement weather. \n\nThanks to the generosity of the Norris Lions Club and the Friends of the Norris Library\, Movies on the Commons is back! This September\, we are glad to offer three free movies\, Saturday nights at 8pm.\nThe lineup includes If (PG\, 9/14)\, Elemental (PG\, 9/21)\, and Barbie (PG-13\, 9/28) and they will all be played on the Norris Commons. Bring your blankets and lawn chairs and we’ll see you there!
URL:https://norriscommunitylibrary.com/event/movies-on-the-commons-3
CATEGORIES:Adults,All Ages,Community Events,Kids,Teens
ATTACH;FMTTYPE=image/jpeg:https://norriscommunitylibrary.com/wp-content/uploads/2024/09/movies.jpg
END:VEVENT
BEGIN:VEVENT
DTSTART;TZID=UTC:20240921T200000
DTEND;TZID=UTC:20240921T220000
DTSTAMP:20260423T220235
CREATED:20240903T210717Z
LAST-MODIFIED:20240903T210717Z
UID:1814-1726948800-1726956000@norriscommunitylibrary.com
SUMMARY:Movies on the Commons
DESCRIPTION:Thanks to the generosity of the Norris Lions Club and the Friends of the Norris Library\, Movies on the Commons is back! This September\, we are glad to offer three free movies\, Saturday nights at 8pm.\nThe lineup includes If (PG\, 9/14)\, Elemental (PG\, 9/21)\, and Barbie (PG-13\, 9/28) and they will all be played on the Norris Commons. Bring your blankets and lawn chairs and we’ll see you there!
URL:https://norriscommunitylibrary.com/event/movies-on-the-commons-2
CATEGORIES:Adults,All Ages,Community Events,Kids,Teens
ATTACH;FMTTYPE=image/jpeg:https://norriscommunitylibrary.com/wp-content/uploads/2024/09/MoviesCommons-square-promo.jpg
END:VEVENT
BEGIN:VEVENT
DTSTART;TZID=UTC:20240914T200000
DTEND;TZID=UTC:20240914T220000
DTSTAMP:20260423T220235
CREATED:20240903T210614Z
LAST-MODIFIED:20240903T210950Z
UID:1812-1726344000-1726351200@norriscommunitylibrary.com
SUMMARY:Movies on the Commons
DESCRIPTION:Thanks to the generosity of the Norris Lions Club and the Friends of the Norris Library\, Movies on the Commons is back! This September\, we are glad to offer three free movies\, Saturday nights at 8pm.\nThe lineup includes If (PG\, 9/14)\, Elemental (PG\, 9/21)\, and Barbie (PG-13\, 9/28) and they will all be played on the Norris Commons. Bring your blankets and lawn chairs and we’ll see you there!
URL:https://norriscommunitylibrary.com/event/movies-on-the-commons
CATEGORIES:Adults,All Ages,Kids,Teens
ATTACH;FMTTYPE=image/jpeg:https://norriscommunitylibrary.com/wp-content/uploads/2024/09/MoviesCommons-square-promo.jpg
END:VEVENT
BEGIN:VEVENT
DTSTART;TZID=UTC:20240730T160000
DTEND;TZID=UTC:20240730T180000
DTSTAMP:20260423T220235
CREATED:20240618T181033Z
LAST-MODIFIED:20240618T181033Z
UID:1413-1722355200-1722362400@norriscommunitylibrary.com
SUMMARY:Family Game Night
DESCRIPTION:Family Game Night is scheduled every last Tuesday of the month from 4-6pm. We’ll have games and puzzles for the whole family! Popcorn will be provided\, but patrons are welcome to bring their own snacks and beverages!
URL:https://norriscommunitylibrary.com/event/family-game-night-9
CATEGORIES:Adults,All Ages,Family Game Night,Kids,Teens
ATTACH;FMTTYPE=image/jpeg:https://norriscommunitylibrary.com/wp-content/uploads/2023/07/Family-Game-Night.jpg
END:VEVENT
BEGIN:VEVENT
DTSTART;TZID=UTC:20240710T160000
DTEND;TZID=UTC:20240710T170000
DTSTAMP:20260423T220235
CREATED:20240618T152323Z
LAST-MODIFIED:20240618T152323Z
UID:1390-1720627200-1720630800@norriscommunitylibrary.com
SUMMARY:Teen Out!: Video Game Night
DESCRIPTION:Teens can join us Wednesday\, July 10th from 4:00pm-5:00pm for a special video game night!
URL:https://norriscommunitylibrary.com/event/teen-out-video-game-night
CATEGORIES:Summer Reading,Teen Out!,Teens
ATTACH;FMTTYPE=image/jpeg:https://norriscommunitylibrary.com/wp-content/uploads/2023/07/Teen-Out.jpg
END:VEVENT
BEGIN:VEVENT
DTSTART;TZID=UTC:20240626T160000
DTEND;TZID=UTC:20240626T170000
DTSTAMP:20260423T220235
CREATED:20240531T214448Z
LAST-MODIFIED:20240531T214448Z
UID:1304-1719417600-1719421200@norriscommunitylibrary.com
SUMMARY:Teen Out!: Break Out Room!
DESCRIPTION:This Wednesday 06/26 at 4:00 pm you can experience a break out room! Teen Out is a fun activity every other week for teens to enjoy at the Norris Library. We’ll have something new to do each meeting\, and it’s always free! Just bring yourself\, and we’ll hope to see you there!
URL:https://norriscommunitylibrary.com/event/teen-out-break-out-room
CATEGORIES:Teen Out!,Teens
ATTACH;FMTTYPE=image/jpeg:https://norriscommunitylibrary.com/wp-content/uploads/2024/05/teen-out.jpeg
END:VEVENT
BEGIN:VEVENT
DTSTART;TZID=UTC:20240612T160000
DTEND;TZID=UTC:20240612T170000
DTSTAMP:20260423T220235
CREATED:20240531T214219Z
LAST-MODIFIED:20240531T214219Z
UID:1300-1718208000-1718211600@norriscommunitylibrary.com
SUMMARY:Teen Out! Cosplay Crafting
DESCRIPTION:This Wednesday  06/12 at 4:00 pm you can put together pieces for an awesome cosplay or Halloween costume! Teen Out is a fun activity every other week for teens to enjoy at the Norris Library. We’ll have something new to do each meeting\, and it’s always free! Just bring yourself\, and we’ll hope to see you there!
URL:https://norriscommunitylibrary.com/event/teen-out-cosplay-crafting
CATEGORIES:Teen Out!,Teens
ATTACH;FMTTYPE=image/jpeg:https://norriscommunitylibrary.com/wp-content/uploads/2024/05/teen-out.jpeg
END:VEVENT
BEGIN:VEVENT
DTSTART;TZID=UTC:20240529T160000
DTEND;TZID=UTC:20240529T170000
DTSTAMP:20260423T220235
CREATED:20240430T151727Z
LAST-MODIFIED:20240430T151727Z
UID:1182-1716998400-1717002000@norriscommunitylibrary.com
SUMMARY:Teen Out: Knifty Knitters 101
DESCRIPTION:Teen Out! is a meetup for teens every other Wednesday from 4-5 pm. Teens will be doing crafts\, activities\, challenges\, and more! This week\, teens will be learning about knitting
URL:https://norriscommunitylibrary.com/event/teen-out-knifty-knitters-101
LOCATION:Norris Community Library\, 1 Norris Square\, Norris\, TN\, 37828\, United States
CATEGORIES:Teen Out!,Teens
ATTACH;FMTTYPE=image/jpeg:https://norriscommunitylibrary.com/wp-content/uploads/2023/07/Teen-Out.jpg
ORGANIZER;CN="Norris Community Library":MAILTO:questions@norriscommunitylibrary.com
END:VEVENT
BEGIN:VEVENT
DTSTART;TZID=UTC:20240515T160000
DTEND;TZID=UTC:20240515T170000
DTSTAMP:20260423T220235
CREATED:20240430T151542Z
LAST-MODIFIED:20240430T151542Z
UID:1180-1715788800-1715792400@norriscommunitylibrary.com
SUMMARY:Teen Out: Return of the Bead Lizards
DESCRIPTION:Teen Out! is a meetup for teens every other Wednesday from 4-5 pm. Teens will be doing crafts\, activities\, challenges\, and more! This week\, teens will be doing bead lizards.
URL:https://norriscommunitylibrary.com/event/teen-out-return-of-the-bead-lizards
LOCATION:Norris Community Library\, 1 Norris Square\, Norris\, TN\, 37828\, United States
CATEGORIES:Teen Out!,Teens
ATTACH;FMTTYPE=image/jpeg:https://norriscommunitylibrary.com/wp-content/uploads/2023/07/Teen-Out.jpg
ORGANIZER;CN="Norris Community Library":MAILTO:questions@norriscommunitylibrary.com
END:VEVENT
BEGIN:VEVENT
DTSTART;TZID=UTC:20240501T160000
DTEND;TZID=UTC:20240501T170000
DTSTAMP:20260423T220235
CREATED:20240430T143105Z
LAST-MODIFIED:20240430T143105Z
UID:1147-1714579200-1714582800@norriscommunitylibrary.com
SUMMARY:Teen Out!: Sewing Basics
DESCRIPTION:Teen Out! is a meetup for teens every other Wednesday from 4-5 pm. Teens will be doing crafts\, activities\, challenges\, and more! This week\, teens will learn the basics of sewing.
URL:https://norriscommunitylibrary.com/event/teen-out-sewing-basics
LOCATION:Norris Community Library\, 1 Norris Square\, Norris\, TN\, 37828\, United States
CATEGORIES:Teen Out!,Teens
ATTACH;FMTTYPE=image/jpeg:https://norriscommunitylibrary.com/wp-content/uploads/2023/07/Teen-Out.jpg
ORGANIZER;CN="Norris Community Library":MAILTO:questions@norriscommunitylibrary.com
END:VEVENT
BEGIN:VEVENT
DTSTART;TZID=UTC:20240417T160000
DTEND;TZID=UTC:20240417T170000
DTSTAMP:20260423T220235
CREATED:20240403T181818Z
LAST-MODIFIED:20240403T181818Z
UID:1006-1713369600-1713373200@norriscommunitylibrary.com
SUMMARY:Teen Out!: Blackout Poetry
DESCRIPTION:Teen Out! is a meetup for teens every other Wednesday from 4-5 pm. Teens will be doing crafts\, activities\, challenges\, and more! This week\, teens will be doing blackout poetry.
URL:https://norriscommunitylibrary.com/event/teen-out-blackout-poetry
CATEGORIES:Teen Out!,Teens
ATTACH;FMTTYPE=image/jpeg:https://norriscommunitylibrary.com/wp-content/uploads/2023/07/Teen-Out.jpg
END:VEVENT
BEGIN:VEVENT
DTSTART;TZID=UTC:20240403T160000
DTEND;TZID=UTC:20240403T170000
DTSTAMP:20260423T220235
CREATED:20240403T181650Z
LAST-MODIFIED:20240403T181650Z
UID:1004-1712160000-1712163600@norriscommunitylibrary.com
SUMMARY:Teen Out!: Learn to Crochet
DESCRIPTION:Teen Out! is a meetup for teens every other Wednesday from 4-5 pm. Teens will be doing crafts\, activities\, challenges\, and more! This week\, teens will learn the basics of crochet.
URL:https://norriscommunitylibrary.com/event/teen-out-learn-to-crochet
CATEGORIES:Teen Out!,Teens
ATTACH;FMTTYPE=image/jpeg:https://norriscommunitylibrary.com/wp-content/uploads/2023/07/Teen-Out.jpg
END:VEVENT
BEGIN:VEVENT
DTSTART;TZID=UTC:20240320T160000
DTEND;TZID=UTC:20240320T170000
DTSTAMP:20260423T220235
CREATED:20240302T183150Z
LAST-MODIFIED:20240302T183150Z
UID:913-1710950400-1710954000@norriscommunitylibrary.com
SUMMARY:Teen Out! Chill Out Day
DESCRIPTION:Teen Out! is a meet up for teens every other Wednesday from 4-5 pm. Teens will be doing crafts\, activities\, challenges\, and more! This week\, teens will have a Chill Out Day.
URL:https://norriscommunitylibrary.com/event/teen-out-chill-out-day
CATEGORIES:Teen Out!,Teens
ATTACH;FMTTYPE=image/jpeg:https://norriscommunitylibrary.com/wp-content/uploads/2023/07/Teen-Out.jpg
END:VEVENT
BEGIN:VEVENT
DTSTART;TZID=UTC:20240306T160000
DTEND;TZID=UTC:20240306T170000
DTSTAMP:20260423T220235
CREATED:20240302T182934Z
LAST-MODIFIED:20240302T182934Z
UID:911-1709740800-1709744400@norriscommunitylibrary.com
SUMMARY:Teen Out! Solar System Bracelet
DESCRIPTION:Teen Out! is a meetup for teens every other Wednesday from 4-5 pm. Teens will be doing crafts\, activities\, challenges\, and more! This week\, teens will be making a solar system bracelet.
URL:https://norriscommunitylibrary.com/event/teen-out-solar-system-bracelet
CATEGORIES:Teen Out!,Teens
ATTACH;FMTTYPE=image/jpeg:https://norriscommunitylibrary.com/wp-content/uploads/2023/07/Teen-Out.jpg
END:VEVENT
BEGIN:VEVENT
DTSTART;TZID=UTC:20240221T160000
DTEND;TZID=UTC:20240221T170000
DTSTAMP:20260423T220235
CREATED:20240131T000210Z
LAST-MODIFIED:20240131T000210Z
UID:787-1708531200-1708534800@norriscommunitylibrary.com
SUMMARY:Teen Out!: Basics of Basket Weaving
DESCRIPTION:Teen Out! is a meet up for teens every other Wednesday from 4-5 pm. Teens will be doing crafts\, activities\, challenges\, and more! This week\, teens will be learning the basics of basket weaving.
URL:https://norriscommunitylibrary.com/event/teen-out-basics-of-basket-weaving
CATEGORIES:Teen Out!,Teens
ATTACH;FMTTYPE=image/jpeg:https://norriscommunitylibrary.com/wp-content/uploads/2023/07/Teen-Out.jpg
END:VEVENT
BEGIN:VEVENT
DTSTART;TZID=UTC:20240207T160000
DTEND;TZID=UTC:20240207T170000
DTSTAMP:20260423T220235
CREATED:20240131T000030Z
LAST-MODIFIED:20240131T000030Z
UID:785-1707321600-1707325200@norriscommunitylibrary.com
SUMMARY:Teen Out!: Secret Codes
DESCRIPTION:Teen Out! is a meet up for teens every other Wednesday from 4-5 pm. Teens will be doing crafts\, activities\, challenges\, and more! This week\, teens will be doing secret codes.
URL:https://norriscommunitylibrary.com/event/teen-out-secret-codes
CATEGORIES:Teen Out!,Teens
ATTACH;FMTTYPE=image/jpeg:https://norriscommunitylibrary.com/wp-content/uploads/2023/07/Teen-Out.jpg
END:VEVENT
BEGIN:VEVENT
DTSTART;TZID=UTC:20240124T160000
DTEND;TZID=UTC:20240124T170000
DTSTAMP:20260423T220235
CREATED:20231230T194444Z
LAST-MODIFIED:20231230T194444Z
UID:723-1706112000-1706115600@norriscommunitylibrary.com
SUMMARY:Teen Out! Pomanders
DESCRIPTION:Teen Out! is a meet up for teens every other Wednesday from 4-5 pm. Teens will be doing crafts\, activities\, challenges\, and more! This week\, teens will make pomanders.
URL:https://norriscommunitylibrary.com/event/teen-out-pomanders
CATEGORIES:Teen Out!,Teens
ATTACH;FMTTYPE=image/jpeg:https://norriscommunitylibrary.com/wp-content/uploads/2023/07/Teen-Out.jpg
END:VEVENT
BEGIN:VEVENT
DTSTART;TZID=UTC:20240110T160000
DTEND;TZID=UTC:20240110T170000
DTSTAMP:20260423T220235
CREATED:20231230T194247Z
LAST-MODIFIED:20231230T194310Z
UID:720-1704902400-1704906000@norriscommunitylibrary.com
SUMMARY:Teen Out!: Kumihimo
DESCRIPTION:Teen Out! is a meet up for teens every other Wednesday from 4-5 pm. Teens will be doing crafts\, activities\, challenges\, and more! This week\, teens will doing kumihimo.
URL:https://norriscommunitylibrary.com/event/720
CATEGORIES:Teen Out!,Teens
ATTACH;FMTTYPE=image/jpeg:https://norriscommunitylibrary.com/wp-content/uploads/2023/07/Teen-Out.jpg
END:VEVENT
BEGIN:VEVENT
DTSTART;TZID=UTC:20231227T160000
DTEND;TZID=UTC:20231227T170000
DTSTAMP:20260423T220235
CREATED:20231202T172112Z
LAST-MODIFIED:20231202T172112Z
UID:669-1703692800-1703696400@norriscommunitylibrary.com
SUMMARY:Teen Out! Hot Cocoa Jars
DESCRIPTION:Teen Out! is a meet up for teens every other Wednesday from 4-5 pm. Teens will be doing crafts\, activities\, challenges\, and more! This week\, teens will make hot cocoa jars.
URL:https://norriscommunitylibrary.com/event/teen-out-hot-cocoa-jars
CATEGORIES:Teen Out!,Teens
ATTACH;FMTTYPE=image/jpeg:https://norriscommunitylibrary.com/wp-content/uploads/2023/07/Teen-Out.jpg
END:VEVENT
BEGIN:VEVENT
DTSTART;TZID=UTC:20231213T160000
DTEND;TZID=UTC:20231213T170000
DTSTAMP:20260423T220235
CREATED:20231202T171734Z
LAST-MODIFIED:20231202T171734Z
UID:667-1702483200-1702486800@norriscommunitylibrary.com
SUMMARY:Teen Out!: Solstice Lanterns
DESCRIPTION:Teen Out! is a meet up for teens every other Wednesday from 4-5 pm. Teens will be doing crafts\, activities\, challenges\, and more! This week\, teens will make solstice lanterns.
URL:https://norriscommunitylibrary.com/event/teen-out-solstice-lanterns
CATEGORIES:Teen Out!,Teens
ATTACH;FMTTYPE=image/jpeg:https://norriscommunitylibrary.com/wp-content/uploads/2023/07/Teen-Out.jpg
END:VEVENT
BEGIN:VEVENT
DTSTART;TZID=UTC:20231018T160000
DTEND;TZID=UTC:20231018T170000
DTSTAMP:20260423T220235
CREATED:20230928T230049Z
LAST-MODIFIED:20230928T230049Z
UID:590-1697644800-1697648400@norriscommunitylibrary.com
SUMMARY:Teen Out!-Mad Hatter Workshop
DESCRIPTION:Teen Out! is a meet up for teens every other Wednesday from 4-5 pm. Teens will be doing crafts\, activities\, challenges\, and more! This week\, teens will make their own hats in the style of the Mad Hatter.
URL:https://norriscommunitylibrary.com/event/teen-out-mad-hatter-workshop
CATEGORIES:Teen Out!,Teens
ATTACH;FMTTYPE=image/jpeg:https://norriscommunitylibrary.com/wp-content/uploads/2023/07/Teen-Out.jpg
END:VEVENT
BEGIN:VEVENT
DTSTART;TZID=UTC:20231011T160000
DTEND;TZID=UTC:20231011T170000
DTSTAMP:20260423T220235
CREATED:20230928T232615Z
LAST-MODIFIED:20230928T232615Z
UID:599-1697040000-1697043600@norriscommunitylibrary.com
SUMMARY:Pumpkin Painting Party
DESCRIPTION:Join us at the Norris Pavilion on Wednesday\, October 11th for a pumpkin painting party! We’ll provide the paint and brushes\, but bring your own pumpkin!
URL:https://norriscommunitylibrary.com/event/pumpkin-painting-party
CATEGORIES:Adults,All Ages,Kids,Library Events,Teens
END:VEVENT
END:VCALENDAR