BEGIN:VCALENDAR
VERSION:2.0
PRODID:-//Norris Community Library - ECPv6.15.20//NONSGML v1.0//EN
CALSCALE:GREGORIAN
METHOD:PUBLISH
X-WR-CALNAME:Norris Community Library
X-ORIGINAL-URL:https://norriscommunitylibrary.com
X-WR-CALDESC:Events for Norris Community Library
REFRESH-INTERVAL;VALUE=DURATION:PT1H
X-Robots-Tag:noindex
X-PUBLISHED-TTL:PT1H
BEGIN:VTIMEZONE
TZID:UTC
BEGIN:STANDARD
TZOFFSETFROM:+0000
TZOFFSETTO:+0000
TZNAME:UTC
DTSTART:20250101T000000
END:STANDARD
END:VTIMEZONE
BEGIN:VEVENT
DTSTART;TZID=UTC:20260225T110000
DTEND;TZID=UTC:20260225T173000
DTSTAMP:20260423T233809
CREATED:20260115T153159Z
LAST-MODIFIED:20260115T153159Z
UID:5475-1772017200-1772040600@norriscommunitylibrary.com
SUMMARY:Swap Swap: Clothing Swap!
DESCRIPTION:Bring your funky hats and silly sweaters to trade at the clothing swap! This month we’re exchanging clothing and wearable items for people of all ages. You can drop in any time from 11 to 5:30\, It’s completely free\, and there’s no RSVP or ticket system.
URL:https://norriscommunitylibrary.com/event/swap-swap-clothing-swap-3
CATEGORIES:All Ages,Swap-Swap
ATTACH;FMTTYPE=image/png:https://norriscommunitylibrary.com/wp-content/uploads/2025/05/Swap-Swaps-logo.png
END:VEVENT
END:VCALENDAR