BEGIN:VCALENDAR
VERSION:2.0
PRODID:-//Norris Community Library - ECPv6.15.20//NONSGML v1.0//EN
CALSCALE:GREGORIAN
METHOD:PUBLISH
X-WR-CALNAME:Norris Community Library
X-ORIGINAL-URL:https://norriscommunitylibrary.com
X-WR-CALDESC:Events for Norris Community Library
REFRESH-INTERVAL;VALUE=DURATION:PT1H
X-Robots-Tag:noindex
X-PUBLISHED-TTL:PT1H
BEGIN:VTIMEZONE
TZID:UTC
BEGIN:STANDARD
TZOFFSETFROM:+0000
TZOFFSETTO:+0000
TZNAME:UTC
DTSTART:20240101T000000
END:STANDARD
END:VTIMEZONE
BEGIN:VEVENT
DTSTART;TZID=UTC:20250716T110000
DTEND;TZID=UTC:20250716T173000
DTSTAMP:20260424T110437
CREATED:20250516T212438Z
LAST-MODIFIED:20250529T142803Z
UID:3590-1752663600-1752687000@norriscommunitylibrary.com
SUMMARY:Swap Swap: Office & School Supplies Swap
DESCRIPTION:As summer break is coming to a close\, it’s a great time to gather office and school supplies for the next year! Trade in your extra pencils and binders and find something new to you to take home! It’s completely free! There’s no RSVP\, and if you don’t have something to give away\, feel free to stop by towards the end of the event to grab any extras that are left.
URL:https://norriscommunitylibrary.com/event/swap-swap-office-school-supplies-swap
CATEGORIES:All Ages,Summer Reading,Swap-Swap
ATTACH;FMTTYPE=image/png:https://norriscommunitylibrary.com/wp-content/uploads/2025/05/Swap-Swaps-logo.png
END:VEVENT
END:VCALENDAR