BEGIN:VCALENDAR
VERSION:2.0
PRODID:-//Norris Community Library - ECPv6.15.20//NONSGML v1.0//EN
CALSCALE:GREGORIAN
METHOD:PUBLISH
X-ORIGINAL-URL:https://norriscommunitylibrary.com
X-WR-CALDESC:Events for Norris Community Library
REFRESH-INTERVAL;VALUE=DURATION:PT1H
X-Robots-Tag:noindex
X-PUBLISHED-TTL:PT1H
BEGIN:VTIMEZONE
TZID:UTC
BEGIN:STANDARD
TZOFFSETFROM:+0000
TZOFFSETTO:+0000
TZNAME:UTC
DTSTART:20230101T000000
END:STANDARD
END:VTIMEZONE
BEGIN:VEVENT
DTSTART;TZID=UTC:20240618T153000
DTEND;TZID=UTC:20240618T163000
DTSTAMP:20260424T053908
CREATED:20240531T223200Z
LAST-MODIFIED:20240531T223200Z
UID:1323-1718724600-1718728200@norriscommunitylibrary.com
SUMMARY:Comic Book Club
DESCRIPTION:Kids\, join us for Comic Book Club! Bring any comic or manga you’ve been reading this summer and share it with us\, have fun\, and leave with some more great recommendations! Ages 6 to 12. Need a comic book or graphic novel to read? Stop by the library and ask any of the librarians for their favorites!
URL:https://norriscommunitylibrary.com/event/comic-book-club
CATEGORIES:Kids,Summer Reading
ATTACH;FMTTYPE=image/jpeg:https://norriscommunitylibrary.com/wp-content/uploads/2024/05/comic-book-club.jpeg
END:VEVENT
BEGIN:VEVENT
DTSTART;TZID=UTC:20240617T110000
DTEND;TZID=UTC:20240617T120000
DTSTAMP:20260424T053908
CREATED:20240531T221150Z
LAST-MODIFIED:20240531T221150Z
UID:1320-1718622000-1718625600@norriscommunitylibrary.com
SUMMARY:Family Storytime: Guest Reader Marlene Kibler
DESCRIPTION:Join us for family storytime and a special puppet theatre with guest reader Marlene Kibler!
URL:https://norriscommunitylibrary.com/event/family-storytime-guest-reader-marlene-kibler
CATEGORIES:Kids,Storytime,Summer Reading
ATTACH;FMTTYPE=image/png:https://norriscommunitylibrary.com/wp-content/uploads/2024/05/Storytime-Marlene.png
END:VEVENT
BEGIN:VEVENT
DTSTART;TZID=UTC:20240612T110000
DTEND;TZID=UTC:20240612T120000
DTSTAMP:20260424T053908
CREATED:20240531T213939Z
LAST-MODIFIED:20240531T213939Z
UID:1297-1718190000-1718193600@norriscommunitylibrary.com
SUMMARY:The Hominy Mamas
DESCRIPTION:Come see a local performance from the Hominy Mamas! This interactive performance from local musicians takes feedback from the audience to make a great show! This program is geared for children\, but adults will enjoy it as well.
URL:https://norriscommunitylibrary.com/event/the-hominy-mamas
CATEGORIES:Kids,Summer Reading
ATTACH;FMTTYPE=image/jpeg:https://norriscommunitylibrary.com/wp-content/uploads/2024/05/hominy-mamas.jpeg
END:VEVENT
BEGIN:VEVENT
DTSTART;TZID=UTC:20240611T170000
DTEND;TZID=UTC:20240611T180000
DTSTAMP:20260424T053908
CREATED:20240531T212753Z
LAST-MODIFIED:20240531T212753Z
UID:1295-1718125200-1718128800@norriscommunitylibrary.com
SUMMARY:Computer Class: How to use Canva!
DESCRIPTION:This month’s computer class is a course on Canva! Learn the basic features of canva to create flyers\, posters\, and social media graphics for all your events.
URL:https://norriscommunitylibrary.com/event/computer-class-how-to-use-canva
CATEGORIES:Adults,Summer Reading
ATTACH;FMTTYPE=image/jpeg:https://norriscommunitylibrary.com/wp-content/uploads/2023/07/comp-class.jpg
END:VEVENT
BEGIN:VEVENT
DTSTART;TZID=UTC:20240610T110000
DTEND;TZID=UTC:20240610T120000
DTSTAMP:20260424T053908
CREATED:20240531T212419Z
LAST-MODIFIED:20240531T212419Z
UID:1292-1718017200-1718020800@norriscommunitylibrary.com
SUMMARY:Family Storytime: Stories & Seeds
DESCRIPTION:A Member of the Norris Community Garden will be doing a story then teaching kids how to plant their own garden! Kids will go home with a starter seed to plant in their own garden.
URL:https://norriscommunitylibrary.com/event/family-storytime-stories-seeds
CATEGORIES:Kids,Summer Reading
ATTACH;FMTTYPE=image/png:https://norriscommunitylibrary.com/wp-content/uploads/2024/05/Storytime-Norris-Community-Gardens.png
END:VEVENT
BEGIN:VEVENT
DTSTART;TZID=UTC:20240605T130000
DTEND;TZID=UTC:20240605T140000
DTSTAMP:20260424T053908
CREATED:20240531T204600Z
LAST-MODIFIED:20240531T204600Z
UID:1279-1717592400-1717596000@norriscommunitylibrary.com
SUMMARY:Adult Craft: Map Coasters
DESCRIPTION:We’re making ceramic coasters out of maps! Join us for Adult Crafts on Wednesday\, June 5th at 1:00pm. All supplies provided!
URL:https://norriscommunitylibrary.com/event/adult-craft-map-coasters
CATEGORIES:Adults,Summer Reading
ATTACH;FMTTYPE=image/png:https://norriscommunitylibrary.com/wp-content/uploads/2024/05/Adult-Craft.png
END:VEVENT
BEGIN:VEVENT
DTSTART;TZID=UTC:20240604T153000
DTEND;TZID=UTC:20240604T163000
DTSTAMP:20260424T053908
CREATED:20240531T202507Z
LAST-MODIFIED:20240531T202507Z
UID:1276-1717515000-1717518600@norriscommunitylibrary.com
SUMMARY:Skype a Scientist: Sssssnakes!
DESCRIPTION:Join us on a skype call to a (sssss)certified ssssssnake expert! Anyone is welcome to come and learn cool reptile facts\, ask your most pressing snake questions\, and learn what it’s like to be a Herpetologist!
URL:https://norriscommunitylibrary.com/event/skype-a-scientist-sssssnakes
CATEGORIES:Kids,Summer Reading
ATTACH;FMTTYPE=image/jpeg:https://norriscommunitylibrary.com/wp-content/uploads/2024/05/skype-a-scientist.jpeg
END:VEVENT
BEGIN:VEVENT
DTSTART;TZID=UTC:20240603T130000
DTEND;TZID=UTC:20240603T140000
DTSTAMP:20260424T053908
CREATED:20240531T202229Z
LAST-MODIFIED:20240531T202229Z
UID:1274-1717419600-1717423200@norriscommunitylibrary.com
SUMMARY:MUSE Knoxville: Float Your Boat!
DESCRIPTION:Join us for a visit from MUSE Knoxville! Become a real-life engineer by designing\, creating\, and testing an aluminum foil boat! Students will learn about the engineering design process\, prototyping\, the value of failure and iteration\, data collection\, and collaboration in this STEAM class. This program is geared for 3rd-5th graders.
URL:https://norriscommunitylibrary.com/event/muse-knoxville-float-your-boat
CATEGORIES:Kids,Summer Reading
ATTACH;FMTTYPE=image/jpeg:https://norriscommunitylibrary.com/wp-content/uploads/2024/05/muse-0603-1.jpg
END:VEVENT
BEGIN:VEVENT
DTSTART;TZID=UTC:20240603T110000
DTEND;TZID=UTC:20240603T120000
DTSTAMP:20260424T053908
CREATED:20240531T201848Z
LAST-MODIFIED:20240531T201848Z
UID:1269-1717412400-1717416000@norriscommunitylibrary.com
SUMMARY:Storytime: MUSE Knoxville (Shake\, Rattle\, and Roll!)
DESCRIPTION:Our Storytime event this week is presented by MUSE Knoxville! Our youngest friends will explore animal movement using tactile manipulatives and their bodies through music and games. Includes a read aloud book\, dancing\, games\, and parachute play. This program is designed for young children
URL:https://norriscommunitylibrary.com/event/storytime-muse-knoxville-shake-rattle-and-roll
CATEGORIES:Kids,Storytime,Summer Reading
ATTACH;FMTTYPE=image/png:https://norriscommunitylibrary.com/wp-content/uploads/2024/05/muse-2.png
END:VEVENT
BEGIN:VEVENT
DTSTART;TZID=UTC:20240601T150000
DTEND;TZID=UTC:20240601T160000
DTSTAMP:20260424T053908
CREATED:20240531T192214Z
LAST-MODIFIED:20240531T192214Z
UID:1267-1717254000-1717257600@norriscommunitylibrary.com
SUMMARY:Summer Reading Kickoff
DESCRIPTION:Join us for our Summer Reading Kickoff on Saturday\, June 1st at 3:00! We’ll have games\, food\, and beverages. Sign up for our annual Summer Reading Program while you’re here!
URL:https://norriscommunitylibrary.com/event/summer-reading-kickoff
CATEGORIES:Adults,All Ages,Kids,Library Events,Summer Reading
ATTACH;FMTTYPE=image/jpeg:https://norriscommunitylibrary.com/wp-content/uploads/2024/04/FB_2024_Teen_ENG-scaled.jpg
END:VEVENT
END:VCALENDAR