BEGIN:VCALENDAR
VERSION:2.0
PRODID:-//Norris Community Library - ECPv6.15.20//NONSGML v1.0//EN
CALSCALE:GREGORIAN
METHOD:PUBLISH
X-ORIGINAL-URL:https://norriscommunitylibrary.com
X-WR-CALDESC:Events for Norris Community Library
REFRESH-INTERVAL;VALUE=DURATION:PT1H
X-Robots-Tag:noindex
X-PUBLISHED-TTL:PT1H
BEGIN:VTIMEZONE
TZID:UTC
BEGIN:STANDARD
TZOFFSETFROM:+0000
TZOFFSETTO:+0000
TZNAME:UTC
DTSTART:20250101T000000
END:STANDARD
END:VTIMEZONE
BEGIN:VEVENT
DTSTART;TZID=UTC:20260720T110000
DTEND;TZID=UTC:20260720T120000
DTSTAMP:20260424T100422
CREATED:20260422T160613Z
LAST-MODIFIED:20260422T171058Z
UID:6150-1784545200-1784548800@norriscommunitylibrary.com
SUMMARY:Family Storytime: Gray Fossil Site
DESCRIPTION:Littles and their parents or guardians can join us every Monday at 11am for Story Time! We’ll read several picture books around a theme and do some coloring!\nThis week we’ve got a special guest from the Gray Fossil Site!
URL:https://norriscommunitylibrary.com/event/family-storytime-gray-fossil-site
CATEGORIES:Kids,Storytime,Summer Reading
ATTACH;FMTTYPE=image/png:https://norriscommunitylibrary.com/wp-content/uploads/2026/04/gray-fossil-site.png
END:VEVENT
BEGIN:VEVENT
DTSTART;TZID=UTC:20260720T130000
DTEND;TZID=UTC:20260720T140000
DTSTAMP:20260424T100422
CREATED:20260422T170507Z
LAST-MODIFIED:20260422T170910Z
UID:6209-1784552400-1784556000@norriscommunitylibrary.com
SUMMARY:Be a Paleontologist: Gray Fossil Site
DESCRIPTION:Kids can join us to hear from a special guest visiting from the Gray Fossil Site to teach us about Paleontology!
URL:https://norriscommunitylibrary.com/event/be-a-paleontologist-gray-fossil-site
CATEGORIES:Kids,Summer Reading
ATTACH;FMTTYPE=image/png:https://norriscommunitylibrary.com/wp-content/uploads/2026/04/gray-fossil-site.png
END:VEVENT
BEGIN:VEVENT
DTSTART;TZID=UTC:20260721T153000
DTEND;TZID=UTC:20260721T163000
DTSTAMP:20260424T100422
CREATED:20260422T161445Z
LAST-MODIFIED:20260422T161445Z
UID:6155-1784647800-1784651400@norriscommunitylibrary.com
SUMMARY:Teen Around
DESCRIPTION:Teen Around is a free program for ages 12 to 19 with a fun\, unique activity each meeting! No RSVP\, just bring yourself and your friends to hang out! At this week’s meeting we’re making Geologic Parfaits!
URL:https://norriscommunitylibrary.com/event/teen-around-12
CATEGORIES:Summer Reading,Teen Around,Teens
ATTACH;FMTTYPE=image/png:https://norriscommunitylibrary.com/wp-content/uploads/2026/04/Teen_Around_programs1.png
END:VEVENT
BEGIN:VEVENT
DTSTART;TZID=UTC:20260722T143000
DTEND;TZID=UTC:20260722T153000
DTSTAMP:20260424T100422
CREATED:20260422T162428Z
LAST-MODIFIED:20260422T162428Z
UID:6163-1784730600-1784734200@norriscommunitylibrary.com
SUMMARY:Pokemon TCG Tournament
DESCRIPTION:Bring your Pokemon deck and battle for prizes at this card game tournament! Trainers of all ages are invited to the library at 2:30 to determine who’s Poke-team is the strongest in the Norris Community Library Gym.
URL:https://norriscommunitylibrary.com/event/pokemon-tcg-tournament
CATEGORIES:All Ages,Pokémon Club,Summer Reading
ATTACH;FMTTYPE=image/png:https://norriscommunitylibrary.com/wp-content/uploads/2026/04/Pokemon-Tournament.png
END:VEVENT
BEGIN:VEVENT
DTSTART;TZID=UTC:20260723T153000
DTEND;TZID=UTC:20260723T163000
DTSTAMP:20260424T100422
CREATED:20260422T163849Z
LAST-MODIFIED:20260422T163849Z
UID:6177-1784820600-1784824200@norriscommunitylibrary.com
SUMMARY:Kids Art Club
DESCRIPTION:Kids can join us for our weekly art club every Thursday from 3:30-4:30pm! This week we’re crafting Dino Costumes!
URL:https://norriscommunitylibrary.com/event/kids-art-club-94
CATEGORIES:Art Club,Kids,Kids Art Club,Summer Reading
ATTACH;FMTTYPE=image/jpeg:https://norriscommunitylibrary.com/wp-content/uploads/2023/07/Kids-art-club.jpg
END:VEVENT
BEGIN:VEVENT
DTSTART;TZID=UTC:20260724T153000
DTEND;TZID=UTC:20260724T163000
DTSTAMP:20260424T100422
CREATED:20260422T164623Z
LAST-MODIFIED:20260422T164623Z
UID:6186-1784907000-1784910600@norriscommunitylibrary.com
SUMMARY:LEGO Club
DESCRIPTION:LEGO Club is held every Friday from 3:30-4:30pm. We supply the LEGO\, you supply the imagination.
URL:https://norriscommunitylibrary.com/event/lego-club-137
CATEGORIES:All Ages,LEGO Club,Summer Reading
ATTACH;FMTTYPE=image/jpeg:https://norriscommunitylibrary.com/wp-content/uploads/2023/07/LEGO-club.jpg
END:VEVENT
BEGIN:VEVENT
DTSTART;TZID=UTC:20260725T150000
DTEND;TZID=UTC:20260725T160000
DTSTAMP:20260424T100422
CREATED:20260422T165421Z
LAST-MODIFIED:20260422T165640Z
UID:6198-1784991600-1784995200@norriscommunitylibrary.com
SUMMARY:Summer Reading Finale!
DESCRIPTION:It’s the end of our summer reading program and time to turn in your reading log for prizes! Join us at the Norris Lions Club Pavilion across from the library at 3pm on July 25th for food\, fun\, and more for all ages.\nWe will also be having our Time Capsule Ceremony where we’ll be burying a new capsule with stories for the future Norris citizens to unearth!
URL:https://norriscommunitylibrary.com/event/summer-reading-finale-2
CATEGORIES:All Ages,Library Events,Summer Reading
ATTACH;FMTTYPE=image/png:https://norriscommunitylibrary.com/wp-content/uploads/2026/04/finale-promo-srp2026.png
END:VEVENT
END:VCALENDAR