BEGIN:VCALENDAR
VERSION:2.0
PRODID:-//Norris Community Library - ECPv6.15.20//NONSGML v1.0//EN
CALSCALE:GREGORIAN
METHOD:PUBLISH
X-ORIGINAL-URL:https://norriscommunitylibrary.com
X-WR-CALDESC:Events for Norris Community Library
REFRESH-INTERVAL;VALUE=DURATION:PT1H
X-Robots-Tag:noindex
X-PUBLISHED-TTL:PT1H
BEGIN:VTIMEZONE
TZID:UTC
BEGIN:STANDARD
TZOFFSETFROM:+0000
TZOFFSETTO:+0000
TZNAME:UTC
DTSTART:20250101T000000
END:STANDARD
END:VTIMEZONE
BEGIN:VEVENT
DTSTART;TZID=UTC:20260625T153000
DTEND;TZID=UTC:20260625T163000
DTSTAMP:20260423T232807
CREATED:20260422T145455Z
LAST-MODIFIED:20260422T145455Z
UID:6091-1782401400-1782405000@norriscommunitylibrary.com
SUMMARY:Kids Art Club
DESCRIPTION:Kids can join us for our weekly art club every Thursday from 3:30-4:30pm! This week we’re making Bean Mosaics!
URL:https://norriscommunitylibrary.com/event/kids-art-club-91
CATEGORIES:Art Club,Kids,Kids Art Club,Summer Reading
ATTACH;FMTTYPE=image/jpeg:https://norriscommunitylibrary.com/wp-content/uploads/2023/07/Kids-art-club.jpg
END:VEVENT
BEGIN:VEVENT
DTSTART;TZID=UTC:20260625T183000
DTEND;TZID=UTC:20260625T200000
DTSTAMP:20260423T232807
CREATED:20260422T145808Z
LAST-MODIFIED:20260422T145808Z
UID:6093-1782412200-1782417600@norriscommunitylibrary.com
SUMMARY:Social Dance Club
DESCRIPTION:Join us and dance! This casual class and open dance meeting is perfect for beginners and those looking to swing\, waltz\, cha-cha\, tango\, foxtrot\, and rumba in Norris! No partner required- all you need is yourself and comfortable dancing shoes.\nBasic moves will be taught through the evening and a variety of music will be featured. This is a free event and all adults are welcome!
URL:https://norriscommunitylibrary.com/event/social-dance-club-5
CATEGORIES:Adults,Dance Club,Summer Reading
ATTACH;FMTTYPE=image/jpeg:https://norriscommunitylibrary.com/wp-content/uploads/2026/02/Social-Dance-1.jpg
END:VEVENT
END:VCALENDAR