BEGIN:VCALENDAR
VERSION:2.0
PRODID:-//Norris Community Library - ECPv6.15.20//NONSGML v1.0//EN
CALSCALE:GREGORIAN
METHOD:PUBLISH
X-ORIGINAL-URL:https://norriscommunitylibrary.com
X-WR-CALDESC:Events for Norris Community Library
REFRESH-INTERVAL;VALUE=DURATION:PT1H
X-Robots-Tag:noindex
X-PUBLISHED-TTL:PT1H
BEGIN:VTIMEZONE
TZID:UTC
BEGIN:STANDARD
TZOFFSETFROM:+0000
TZOFFSETTO:+0000
TZNAME:UTC
DTSTART:20250101T000000
END:STANDARD
END:VTIMEZONE
BEGIN:VEVENT
DTSTART;TZID=UTC:20260615T110000
DTEND;TZID=UTC:20260615T120000
DTSTAMP:20260423T232833
CREATED:20260422T151815Z
LAST-MODIFIED:20260422T151952Z
UID:6115-1781521200-1781524800@norriscommunitylibrary.com
SUMMARY:Family Storytime: Hominy Mamas!
DESCRIPTION:The Hominy Mamas will be performing live at the library on Monday\, June 15th with fun music and dancing for the littles! Perfect for ages 6 and under\, kids and parents can join us at 11am.
URL:https://norriscommunitylibrary.com/event/family-storytime-hominy-mamas
CATEGORIES:Kids,Storytime,Summer Reading
ATTACH;FMTTYPE=image/jpeg:https://norriscommunitylibrary.com/wp-content/uploads/2026/04/Hominy-Mamas.jpg
END:VEVENT
END:VCALENDAR