BEGIN:VCALENDAR
VERSION:2.0
PRODID:-//Norris Community Library - ECPv6.15.20//NONSGML v1.0//EN
CALSCALE:GREGORIAN
METHOD:PUBLISH
X-WR-CALNAME:Norris Community Library
X-ORIGINAL-URL:https://norriscommunitylibrary.com
X-WR-CALDESC:Events for Norris Community Library
REFRESH-INTERVAL;VALUE=DURATION:PT1H
X-Robots-Tag:noindex
X-PUBLISHED-TTL:PT1H
BEGIN:VTIMEZONE
TZID:UTC
BEGIN:STANDARD
TZOFFSETFROM:+0000
TZOFFSETTO:+0000
TZNAME:UTC
DTSTART:20250101T000000
END:STANDARD
END:VTIMEZONE
BEGIN:VEVENT
DTSTART;TZID=UTC:20260613T110000
DTEND;TZID=UTC:20260613T120000
DTSTAMP:20260423T233105
CREATED:20260422T143704Z
LAST-MODIFIED:20260422T143704Z
UID:6071-1781348400-1781352000@norriscommunitylibrary.com
SUMMARY:Tech Hour
DESCRIPTION:Stop by the library Saturdays from 11-12 for one on one basic tech troubleshooting.
URL:https://norriscommunitylibrary.com/event/tech-hour-136
CATEGORIES:Adults,Summer Reading,Tech Hour
ATTACH;FMTTYPE=image/png:https://norriscommunitylibrary.com/wp-content/uploads/2023/12/Tech-Hour-logo.png
END:VEVENT
BEGIN:VEVENT
DTSTART;TZID=UTC:20260613T120000
DTEND;TZID=UTC:20260613T130000
DTSTAMP:20260423T233105
CREATED:20260422T155331Z
LAST-MODIFIED:20260422T161525Z
UID:6143-1781352000-1781355600@norriscommunitylibrary.com
SUMMARY:Citizen Science
DESCRIPTION:Do you love taking pictures of plants\, animals\, and fungi in the great outdoors? Do you want to contribute to cool science research? Look no further than citizen science! Learn how to be a citizen scientist yourself and expand your nature knowledge at the same time!\nAll ages are invited to learn about various citizen science projects and apps such as iNaturalist\, Seek\, Merlin\, and more. We’ll start in the library to install these apps on our devices\, then move outside to take a short walk on the Norris Commons where we can try them out! All you need is a phone or mobile device that you can get apps and take pictures with.
URL:https://norriscommunitylibrary.com/event/citizen-science
CATEGORIES:All Ages,Summer Reading
ATTACH;FMTTYPE=image/png:https://norriscommunitylibrary.com/wp-content/uploads/2026/04/citizen-science-promo.png
END:VEVENT
END:VCALENDAR