BEGIN:VCALENDAR
VERSION:2.0
PRODID:-//Norris Community Library - ECPv6.15.20//NONSGML v1.0//EN
CALSCALE:GREGORIAN
METHOD:PUBLISH
X-WR-CALNAME:Norris Community Library
X-ORIGINAL-URL:https://norriscommunitylibrary.com
X-WR-CALDESC:Events for Norris Community Library
REFRESH-INTERVAL;VALUE=DURATION:PT1H
X-Robots-Tag:noindex
X-PUBLISHED-TTL:PT1H
BEGIN:VTIMEZONE
TZID:UTC
BEGIN:STANDARD
TZOFFSETFROM:+0000
TZOFFSETTO:+0000
TZNAME:UTC
DTSTART:20250101T000000
END:STANDARD
END:VTIMEZONE
BEGIN:VEVENT
DTSTART;TZID=UTC:20260602T153000
DTEND;TZID=UTC:20260602T163000
DTSTAMP:20260423T232423
CREATED:20260422T150750Z
LAST-MODIFIED:20260422T150750Z
UID:6103-1780414200-1780417800@norriscommunitylibrary.com
SUMMARY:Teen Around
DESCRIPTION:Teen Around is a free program for ages 12 to 19 with a fun\, unique activity each meeting! No RSVP\, just bring yourself and your friends to hang out! At this week’s meeting we’re having a Dirty Soda Bar!
URL:https://norriscommunitylibrary.com/event/teen-around-7
CATEGORIES:Summer Reading,Teen Around,Teens
ATTACH;FMTTYPE=image/png:https://norriscommunitylibrary.com/wp-content/uploads/2026/04/Teen_Around_programs1.png
END:VEVENT
BEGIN:VEVENT
DTSTART;TZID=UTC:20260602T170000
DTEND;TZID=UTC:20260602T180000
DTSTAMP:20260423T232423
CREATED:20260422T153206Z
LAST-MODIFIED:20260422T153206Z
UID:6124-1780419600-1780423200@norriscommunitylibrary.com
SUMMARY:Genealogy Resources
DESCRIPTION:Learn about free genealogy resources available through the library to help you unearth some family stories! We’ll discuss how you can access both digital and physical databases\, books\, and more in this one hour class\, as well as helping you get started on your own genealogical research.
URL:https://norriscommunitylibrary.com/event/genealogy-resources
CATEGORIES:Adults,Computer Class,Summer Reading
ATTACH;FMTTYPE=image/png:https://norriscommunitylibrary.com/wp-content/uploads/2026/04/adult-geneology-class.png
END:VEVENT
END:VCALENDAR