BEGIN:VCALENDAR
VERSION:2.0
PRODID:-//Norris Community Library - ECPv6.15.20//NONSGML v1.0//EN
CALSCALE:GREGORIAN
METHOD:PUBLISH
X-ORIGINAL-URL:https://norriscommunitylibrary.com
X-WR-CALDESC:Events for Norris Community Library
REFRESH-INTERVAL;VALUE=DURATION:PT1H
X-Robots-Tag:noindex
X-PUBLISHED-TTL:PT1H
BEGIN:VTIMEZONE
TZID:UTC
BEGIN:STANDARD
TZOFFSETFROM:+0000
TZOFFSETTO:+0000
TZNAME:UTC
DTSTART:20220101T000000
END:STANDARD
END:VTIMEZONE
BEGIN:VEVENT
DTSTART;TZID=UTC:20240601T150000
DTEND;TZID=UTC:20240601T160000
DTSTAMP:20260423T233819
CREATED:20240531T192214Z
LAST-MODIFIED:20240531T192214Z
UID:1267-1717254000-1717257600@norriscommunitylibrary.com
SUMMARY:Summer Reading Kickoff
DESCRIPTION:Join us for our Summer Reading Kickoff on Saturday\, June 1st at 3:00! We’ll have games\, food\, and beverages. Sign up for our annual Summer Reading Program while you’re here!
URL:https://norriscommunitylibrary.com/event/summer-reading-kickoff
CATEGORIES:Adults,All Ages,Kids,Library Events,Summer Reading
ATTACH;FMTTYPE=image/jpeg:https://norriscommunitylibrary.com/wp-content/uploads/2024/04/FB_2024_Teen_ENG-scaled.jpg
END:VEVENT
BEGIN:VEVENT
DTSTART;TZID=UTC:20240518T080000
DTEND;TZID=UTC:20240518T170000
DTSTAMP:20260423T233819
CREATED:20240409T170353Z
LAST-MODIFIED:20240418T160341Z
UID:1057-1716019200-1716051600@norriscommunitylibrary.com
SUMMARY:Norris Chalk Walk
DESCRIPTION:Event Information: \nNorris Chalk Walk!\n\n\nDate: 05/18/2024 (Rain date: 05/25/2024)\nTime: 8:00am-5:00pm\nLocation: Norris Middle School’s Bus Circle\nAddress: 5 Norris Square\, Norris\, TN 37828\n\n\n\nContact for questions: Norris Community Library (865-494-6800 or questions@norriscommunitylibrary.com)\n\n\n\n\n\nThis is a free event\, but per-registration is required! https://norriscommunitylibrary.com/norris-chalk-walk \nWhat It Is: The Chalk Walk is a day-long event where artists of all ages are invited to illustrate a square in the sidewalk with chalk pastels! The community will then have the opportunity to view the artwork and vote for their favorites from each category! Anyone may sign up for free online or in person at the Norris Community Library while spots are available. \nParking: We recommend that you park in the new parking spaces behind Norris Middle School. Parking on the main street will be available in the morning\, but closed off in the afternoon for the 75th Birthday event. \nSupplies Provided: Water bottles\, 1 box of chalk \nRecommended Supplies: Extra chalk\, extra water and snacks\, brushes\, felt\, gloves\, knee pads\, paper towels\, tape \nBanned Supplies: We are using this space temporarily so paint\, fixatives\, and other permanent supplies will not be allowed. \nSubject Matter: This is a family event\, so please keep the theme of your artwork light and friendly. Banned topics include: nudity\, foul language\, excessive violence\, and politically charged materials. Thank you for being kind and respectful to the community and other artists. \nInstructions for the Day-Of: The event will run from 8:00 AM to 5:00 PM. Please arrive at the Norris Bus Circle between 8:00-9:00 AM to sign in and pickup your name tag\, your supplies\, and your place assignment. Spaces will be marked ahead of time with artists sorted into 4 different categories: Elementary\, Middle/High\, Adult\, Family/Group/Team. Once you have found your spot\, you may set up your supplies and lay down tape\, but may not start with chalk until the event begins. There will be announcements over the course of the event\, so listen closely.
URL:https://norriscommunitylibrary.com/event/norris-chalk-walk
CATEGORIES:All Ages,Community Events,Library Events,Outside Library Events
ATTACH;FMTTYPE=image/png:https://norriscommunitylibrary.com/wp-content/uploads/2024/04/Norris-Chalk-Walk-2024.png
ORGANIZER;CN="Norris Community Library":MAILTO:questions@norriscommunitylibrary.com
END:VEVENT
BEGIN:VEVENT
DTSTART;TZID=UTC:20240327T143000
DTEND;TZID=UTC:20240327T153000
DTSTAMP:20260423T233819
CREATED:20240327T151125Z
LAST-MODIFIED:20240327T160409Z
UID:983-1711549800-1711553400@norriscommunitylibrary.com
SUMMARY:Easter Egg Hunt 2
DESCRIPTION:Celebrate Easter with us at the library! Wednesday\, March 27th\, we invite kids to come listen to some picture book Easter stories before heading outside to find some Easter eggs! Story time will start at 2:30pm. All kids and their parents welcome! \nIn case of rain\, the egg hunt will move inside the library.
URL:https://norriscommunitylibrary.com/event/easter-egg-hunt-2
CATEGORIES:Kids,Library Events
END:VEVENT
BEGIN:VEVENT
DTSTART;TZID=UTC:20240327T130000
DTEND;TZID=UTC:20240327T140000
DTSTAMP:20260423T233819
CREATED:20240302T183530Z
LAST-MODIFIED:20240302T183530Z
UID:915-1711544400-1711548000@norriscommunitylibrary.com
SUMMARY:Easter Egg Hunt
DESCRIPTION:Celebrate Easter with us at the library! Wednesday\, March 27th\, we invite kids to come listen to some picture book Easter stories before heading outside to find some Easter eggs! Story time will start at 1pm. All kids and their parents welcome!\nIn case of rain\, the egg hunt will move inside the library.
URL:https://norriscommunitylibrary.com/event/easter-egg-hunt
CATEGORIES:All Ages,Library Events
ATTACH;FMTTYPE=image/jpeg:https://norriscommunitylibrary.com/wp-content/uploads/2024/03/easter.jpeg
END:VEVENT
BEGIN:VEVENT
DTSTART;TZID=UTC:20240217T120000
DTEND;TZID=UTC:20240217T180000
DTSTAMP:20260423T233819
CREATED:20240131T004155Z
LAST-MODIFIED:20240131T004155Z
UID:819-1708171200-1708192800@norriscommunitylibrary.com
SUMMARY:Library Open House
DESCRIPTION:Join us for our Open House and a special Book Lovers book sale on Saturday\, February 17th. This is celebration of our recently completed library renovations and to honor the generous contributions of the Bill Jolly estate and longtime library director Betty Anne Jolly. Both events are hosted by the Norris Community Library and the Friends of the Betty Anne Jolly NCL. The book sale will start at 12pm. The open house will be from 2-6pm. Food and drinks will be provided. Everyone is welcome to attend.
URL:https://norriscommunitylibrary.com/event/library-open-house
CATEGORIES:All Ages,Library Events
ATTACH;FMTTYPE=image/png:https://norriscommunitylibrary.com/wp-content/uploads/2024/01/Open-House-and-book-sale-02.17.24-flyer.png
END:VEVENT
BEGIN:VEVENT
DTSTART;TZID=UTC:20240102T110000
DTEND;TZID=UTC:20240102T160000
DTSTAMP:20260423T233819
CREATED:20231230T185935Z
LAST-MODIFIED:20231230T185935Z
UID:706-1704193200-1704211200@norriscommunitylibrary.com
SUMMARY:MEDIC Blood Drive
DESCRIPTION:The library is hosting a MEDIC Blood Drive from 11AM-4PM in our front parking area.
URL:https://norriscommunitylibrary.com/event/medic-blood-drive
CATEGORIES:Library Events,Outside Library Events
ATTACH;FMTTYPE=image/jpeg:https://norriscommunitylibrary.com/wp-content/uploads/2023/12/blood-drive.jpeg
END:VEVENT
BEGIN:VEVENT
DTSTART;VALUE=DATE:20240101
DTEND;VALUE=DATE:20240102
DTSTAMP:20260423T233819
CREATED:20231202T173814Z
LAST-MODIFIED:20231202T173814Z
UID:687-1704067200-1704153599@norriscommunitylibrary.com
SUMMARY:Library Closed
DESCRIPTION:The library will be closed Monday\, January 1st in observance of New Years. Fines/Fees will not accrue while the library is closed. The library website\, online catalog\, and both bookdrops will remain available. We apologize for any inconvenience.
URL:https://norriscommunitylibrary.com/event/library-closed-2
CATEGORIES:Library Closings,Library Events
END:VEVENT
BEGIN:VEVENT
DTSTART;VALUE=DATE:20231224
DTEND;VALUE=DATE:20231227
DTSTAMP:20260423T233819
CREATED:20231202T173636Z
LAST-MODIFIED:20231202T173645Z
UID:685-1703376000-1703635199@norriscommunitylibrary.com
SUMMARY:Library Closed
DESCRIPTION:The library will be closed December 24th-26th in observation of the Christmas holiday. Fines/Fees will not accrue while the library is closed. The library website\, online catalog\, and both bookdrops will remain available. We apologize for any inconvenience.
URL:https://norriscommunitylibrary.com/event/library-closed
CATEGORIES:Library Closings,Library Events
END:VEVENT
BEGIN:VEVENT
DTSTART;TZID=UTC:20231011T160000
DTEND;TZID=UTC:20231011T170000
DTSTAMP:20260423T233819
CREATED:20230928T232615Z
LAST-MODIFIED:20230928T232615Z
UID:599-1697040000-1697043600@norriscommunitylibrary.com
SUMMARY:Pumpkin Painting Party
DESCRIPTION:Join us at the Norris Pavilion on Wednesday\, October 11th for a pumpkin painting party! We’ll provide the paint and brushes\, but bring your own pumpkin!
URL:https://norriscommunitylibrary.com/event/pumpkin-painting-party
CATEGORIES:Adults,All Ages,Kids,Library Events,Teens
END:VEVENT
END:VCALENDAR