BEGIN:VCALENDAR
VERSION:2.0
PRODID:-//Norris Community Library - ECPv6.15.20//NONSGML v1.0//EN
CALSCALE:GREGORIAN
METHOD:PUBLISH
X-ORIGINAL-URL:https://norriscommunitylibrary.com
X-WR-CALDESC:Events for Norris Community Library
REFRESH-INTERVAL;VALUE=DURATION:PT1H
X-Robots-Tag:noindex
X-PUBLISHED-TTL:PT1H
BEGIN:VTIMEZONE
TZID:UTC
BEGIN:STANDARD
TZOFFSETFROM:+0000
TZOFFSETTO:+0000
TZNAME:UTC
DTSTART:20220101T000000
END:STANDARD
END:VTIMEZONE
BEGIN:VEVENT
DTSTART;TZID=UTC:20240219T100000
DTEND;TZID=UTC:20240219T180000
DTSTAMP:20260424T011825
CREATED:20240130T234852Z
LAST-MODIFIED:20240130T234852Z
UID:779-1708336800-1708365600@norriscommunitylibrary.com
SUMMARY:Library Closed
DESCRIPTION:The library will be closed Monday\, February 19th in observance of the President’s Day holiday. Fines/Fees will not accrue while the library is closed. The library website\, online catalog\, and both bookdrops will remain available. We apologize for any inconvenience.
URL:https://norriscommunitylibrary.com/event/library-closed-3
LOCATION:TN
CATEGORIES:Library Closings
END:VEVENT
BEGIN:VEVENT
DTSTART;VALUE=DATE:20240115
DTEND;VALUE=DATE:20240116
DTSTAMP:20260424T011825
CREATED:20231230T193023Z
LAST-MODIFIED:20231230T193123Z
UID:717-1705276800-1705363199@norriscommunitylibrary.com
SUMMARY:Library Closed
DESCRIPTION:The library will be closed Monday\, January 15th in observance of the Martin Luther King Jr holiday. Fines/Fees will not accrue while the library is closed. The library website\, online catalog\, and both bookdrops will remain available. We apologize for any inconvenience.
URL:https://norriscommunitylibrary.com/event/library-closed-mlk-jr-day
LOCATION:TN
CATEGORIES:Library Closings
END:VEVENT
BEGIN:VEVENT
DTSTART;VALUE=DATE:20240101
DTEND;VALUE=DATE:20240102
DTSTAMP:20260424T011825
CREATED:20231202T173814Z
LAST-MODIFIED:20231202T173814Z
UID:687-1704067200-1704153599@norriscommunitylibrary.com
SUMMARY:Library Closed
DESCRIPTION:The library will be closed Monday\, January 1st in observance of New Years. Fines/Fees will not accrue while the library is closed. The library website\, online catalog\, and both bookdrops will remain available. We apologize for any inconvenience.
URL:https://norriscommunitylibrary.com/event/library-closed-2
LOCATION:TN
CATEGORIES:Library Closings,Library Events
END:VEVENT
BEGIN:VEVENT
DTSTART;VALUE=DATE:20231224
DTEND;VALUE=DATE:20231227
DTSTAMP:20260424T011825
CREATED:20231202T173636Z
LAST-MODIFIED:20231202T173645Z
UID:685-1703376000-1703635199@norriscommunitylibrary.com
SUMMARY:Library Closed
DESCRIPTION:The library will be closed December 24th-26th in observation of the Christmas holiday. Fines/Fees will not accrue while the library is closed. The library website\, online catalog\, and both bookdrops will remain available. We apologize for any inconvenience.
URL:https://norriscommunitylibrary.com/event/library-closed
LOCATION:TN
CATEGORIES:Library Closings,Library Events
END:VEVENT
BEGIN:VEVENT
DTSTART;TZID=UTC:20231030T080000
DTEND;TZID=UTC:20231114T180000
DTSTAMP:20260424T011825
CREATED:20230928T233028Z
LAST-MODIFIED:20230928T233028Z
UID:603-1698652800-1699984800@norriscommunitylibrary.com
SUMMARY:Library Closed for Renovation
DESCRIPTION:The Norris Library will be closed for renovation from Monday\, October 30th-November 13th. During this time no items will be due and no fines will accrue on any accounts. Follow us here on our website or on social media for the most up to date announcements on the renovation project.
URL:https://norriscommunitylibrary.com/event/library-closed-for-renovation
LOCATION:TN
CATEGORIES:Library Closings
END:VEVENT
BEGIN:VEVENT
DTSTART;VALUE=DATE:20230904
DTEND;VALUE=DATE:20230905
DTSTAMP:20260424T011825
CREATED:20230831T170422Z
LAST-MODIFIED:20230831T170443Z
UID:509-1693785600-1693871999@norriscommunitylibrary.com
SUMMARY:Library Closed
DESCRIPTION:The Norris Community Library will be closed Monday\, September 4th in observance of the Labor Day Holiday. Fines/Fees will not accrue while the library is closed. The library website\, online catalog\, and both bookdrops will remain available. We apologize for any inconvenience.
URL:https://norriscommunitylibrary.com/event/library-closing
LOCATION:TN
CATEGORIES:Library Closings
END:VEVENT
END:VCALENDAR