BEGIN:VCALENDAR
VERSION:2.0
PRODID:-//Norris Community Library - ECPv6.15.20//NONSGML v1.0//EN
CALSCALE:GREGORIAN
METHOD:PUBLISH
X-ORIGINAL-URL:https://norriscommunitylibrary.com
X-WR-CALDESC:Events for Norris Community Library
REFRESH-INTERVAL;VALUE=DURATION:PT1H
X-Robots-Tag:noindex
X-PUBLISHED-TTL:PT1H
BEGIN:VTIMEZONE
TZID:UTC
BEGIN:STANDARD
TZOFFSETFROM:+0000
TZOFFSETTO:+0000
TZNAME:UTC
DTSTART:20220101T000000
END:STANDARD
END:VTIMEZONE
BEGIN:VEVENT
DTSTART;TZID=UTC:20250217T100000
DTEND;TZID=UTC:20250217T180000
DTSTAMP:20260423T233809
CREATED:20250128T190602Z
LAST-MODIFIED:20250128T190602Z
UID:2601-1739786400-1739815200@norriscommunitylibrary.com
SUMMARY:Library Closed: Presidents' Day
DESCRIPTION:The library will be closed February 17th in observance of Presidents’ Day. No fines will accrue on any accounts while the library is closed. Our website\, online catalog\, and book drops will remain available.
URL:https://norriscommunitylibrary.com/event/library-closed-presidents-day
CATEGORIES:Library Closings
END:VEVENT
BEGIN:VEVENT
DTSTART;TZID=UTC:20250120T100000
DTEND;TZID=UTC:20250120T180000
DTSTAMP:20260423T233809
CREATED:20250102T153207Z
LAST-MODIFIED:20250102T153207Z
UID:2477-1737367200-1737396000@norriscommunitylibrary.com
SUMMARY:Library Closed: MLK Jr. Day
DESCRIPTION:The library will be closed January 20th in observance of Martin Luther King Jr. Day. No fines will accrue on any accounts while the library is closed. Our website\, online catalog\, and book drops will remain available.
URL:https://norriscommunitylibrary.com/event/library-closed-mlk-jr-day-2
CATEGORIES:Library Closings
END:VEVENT
BEGIN:VEVENT
DTSTART;TZID=UTC:20250101T100000
DTEND;TZID=UTC:20250101T180000
DTSTAMP:20260423T233809
CREATED:20250102T145229Z
LAST-MODIFIED:20250102T145229Z
UID:2449-1735725600-1735754400@norriscommunitylibrary.com
SUMMARY:Library Closed: New Year's Day
DESCRIPTION:The library will be closed January 1st in observance of the New Year’s Holiday. No fines will accrue on any accounts while the library is closed. Our website\, online catalog\, and book drops will remain available.
URL:https://norriscommunitylibrary.com/event/library-closed-new-years-day
CATEGORIES:Library Closings
END:VEVENT
BEGIN:VEVENT
DTSTART;TZID=UTC:20241224T100000
DTEND;TZID=UTC:20241225T180000
DTSTAMP:20260423T233809
CREATED:20241203T193929Z
LAST-MODIFIED:20241203T193929Z
UID:2379-1735034400-1735149600@norriscommunitylibrary.com
SUMMARY:Library Closed: Christmas
DESCRIPTION:The library will be closed December 24th-25th in observance of the Christmas holiday. No fines will accrue on any accounts while the library is closed. Our website\, online catalog\, and book drops will remain available.
URL:https://norriscommunitylibrary.com/event/library-closed-christmas
CATEGORIES:Library Closings
END:VEVENT
BEGIN:VEVENT
DTSTART;TZID=UTC:20241128T100000
DTEND;TZID=UTC:20241129T180000
DTSTAMP:20260423T233809
CREATED:20241024T184758Z
LAST-MODIFIED:20241024T184758Z
UID:2233-1732788000-1732903200@norriscommunitylibrary.com
SUMMARY:Library Closed: Thanksgiving
DESCRIPTION:The library will be closed November 28th-29th in observance of the Thanksgiving Day Holiday. No fines will accrue on any accounts while the library is closed. Our website\, online catalog\, and book drops will remain available.
URL:https://norriscommunitylibrary.com/event/library-closed-thanksgiving
CATEGORIES:Library Closings
END:VEVENT
BEGIN:VEVENT
DTSTART;TZID=UTC:20241111T100000
DTEND;TZID=UTC:20241111T180000
DTSTAMP:20260423T233809
CREATED:20241024T184150Z
LAST-MODIFIED:20241024T184217Z
UID:2224-1731319200-1731348000@norriscommunitylibrary.com
SUMMARY:Library Closed: Veteran's Day
DESCRIPTION:The library will be closed November 11th in observance of the Veteran Day Holiday. No fines will accrue on any accounts while the library is closed. Our website\, online catalog\, and book drops will remain available.
URL:https://norriscommunitylibrary.com/event/2224
CATEGORIES:Library Closings
END:VEVENT
BEGIN:VEVENT
DTSTART;TZID=UTC:20240902T100000
DTEND;TZID=UTC:20240902T180000
DTSTAMP:20260423T233809
CREATED:20240903T201938Z
LAST-MODIFIED:20240903T201938Z
UID:1764-1725271200-1725300000@norriscommunitylibrary.com
SUMMARY:Library Closing: Labor Day
DESCRIPTION:The library will be closed September 2nd in observance of the Labor Day holiday. No fines will accrue on any accounts while the library is closed. Our website\, online catalog\, and book drops will remain available.
URL:https://norriscommunitylibrary.com/event/library-closing-labor-day
CATEGORIES:Library Closings
END:VEVENT
BEGIN:VEVENT
DTSTART;TZID=UTC:20240704T080000
DTEND;TZID=UTC:20240705T180000
DTSTAMP:20260423T233809
CREATED:20240608T173937Z
LAST-MODIFIED:20240608T173937Z
UID:1370-1720080000-1720202400@norriscommunitylibrary.com
SUMMARY:Library Closing: 4th of July
DESCRIPTION:The library will be closed July 4th-5th in observance of the Independence Day holiday. No fines will accrue on any accounts while the library is closed. Please note that the library building will be open on Thursday\, July 4th for the Norris Day celebrations and the Friends of the Library Book Sale\, but library services will be limited.
URL:https://norriscommunitylibrary.com/event/library-closing-4th-of-july
CATEGORIES:Library Closings
ATTACH;FMTTYPE=image/jpeg:https://norriscommunitylibrary.com/wp-content/uploads/2024/06/4th-of-July-closing.jpg
END:VEVENT
BEGIN:VEVENT
DTSTART;TZID=UTC:20240619T100000
DTEND;TZID=UTC:20240619T180000
DTSTAMP:20260423T233809
CREATED:20240531T223542Z
LAST-MODIFIED:20240531T223542Z
UID:1326-1718791200-1718820000@norriscommunitylibrary.com
SUMMARY:Library Closing: Juneteenth
DESCRIPTION:The library will be closed June 19th in observance of Juneteenth. No fines/fees will accrue on any accounts while the library is closed. As always\, the library’s book drop\, online catalog\, and website will remain available.
URL:https://norriscommunitylibrary.com/event/library-closing-juneteenth
CATEGORIES:Library Closings
ATTACH;FMTTYPE=image/png:https://norriscommunitylibrary.com/wp-content/uploads/2023/09/Closing-Announcement-1.png
END:VEVENT
BEGIN:VEVENT
DTSTART;TZID=UTC:20240527T090000
DTEND;TZID=UTC:20240527T180000
DTSTAMP:20260423T233809
CREATED:20240430T150404Z
LAST-MODIFIED:20240430T150404Z
UID:1169-1716800400-1716832800@norriscommunitylibrary.com
SUMMARY:Library Closing: Memorial Day
DESCRIPTION:The library will be closed May 27th in observance of Memorial Day. No fines/fees will accrue on any accounts while the library is closed. As always\, the library’s book drop\, online catalog\, and website will remain available.
URL:https://norriscommunitylibrary.com/event/library-closing-memorial-day
LOCATION:Norris Community Library\, 1 Norris Square\, Norris\, TN\, 37828\, United States
CATEGORIES:Library Closings
ATTACH;FMTTYPE=image/png:https://norriscommunitylibrary.com/wp-content/uploads/2023/09/Closing-Announcement-1.png
ORGANIZER;CN="Norris Community Library":MAILTO:questions@norriscommunitylibrary.com
END:VEVENT
BEGIN:VEVENT
DTSTART;TZID=UTC:20240330T100000
DTEND;TZID=UTC:20240330T180000
DTSTAMP:20260423T233809
CREATED:20240302T184920Z
LAST-MODIFIED:20240302T184920Z
UID:936-1711792800-1711821600@norriscommunitylibrary.com
SUMMARY:Library Closed
DESCRIPTION:The library will be closed March 29th-31st in observance of Good Friday and the Easter Holiday. No fines/fees will accrue on any accounts while the library is closed. As always\, the library’s book drop\, online catalog\, and website will remain available. Don’t forget the stop by before the 28th to load up on books and materials for the long weekend!
URL:https://norriscommunitylibrary.com/event/library-closed-5
CATEGORIES:Library Closings
END:VEVENT
BEGIN:VEVENT
DTSTART;TZID=UTC:20240329T100000
DTEND;TZID=UTC:20240329T180000
DTSTAMP:20260423T233809
CREATED:20240302T184847Z
LAST-MODIFIED:20240302T184847Z
UID:934-1711706400-1711735200@norriscommunitylibrary.com
SUMMARY:Library Closed
DESCRIPTION:The library will be closed March 29th-31st in observance of Good Friday and the Easter Holiday. No fines/fees will accrue on any accounts while the library is closed. As always\, the library’s book drop\, online catalog\, and website will remain available. Don’t forget the stop by before the 28th to load up on books and materials for the long weekend!
URL:https://norriscommunitylibrary.com/event/library-closed-4
CATEGORIES:Library Closings
END:VEVENT
BEGIN:VEVENT
DTSTART;TZID=UTC:20240219T100000
DTEND;TZID=UTC:20240219T180000
DTSTAMP:20260423T233809
CREATED:20240130T234852Z
LAST-MODIFIED:20240130T234852Z
UID:779-1708336800-1708365600@norriscommunitylibrary.com
SUMMARY:Library Closed
DESCRIPTION:The library will be closed Monday\, February 19th in observance of the President’s Day holiday. Fines/Fees will not accrue while the library is closed. The library website\, online catalog\, and both bookdrops will remain available. We apologize for any inconvenience.
URL:https://norriscommunitylibrary.com/event/library-closed-3
CATEGORIES:Library Closings
END:VEVENT
BEGIN:VEVENT
DTSTART;VALUE=DATE:20240115
DTEND;VALUE=DATE:20240116
DTSTAMP:20260423T233809
CREATED:20231230T193023Z
LAST-MODIFIED:20231230T193123Z
UID:717-1705276800-1705363199@norriscommunitylibrary.com
SUMMARY:Library Closed
DESCRIPTION:The library will be closed Monday\, January 15th in observance of the Martin Luther King Jr holiday. Fines/Fees will not accrue while the library is closed. The library website\, online catalog\, and both bookdrops will remain available. We apologize for any inconvenience.
URL:https://norriscommunitylibrary.com/event/library-closed-mlk-jr-day
CATEGORIES:Library Closings
END:VEVENT
BEGIN:VEVENT
DTSTART;VALUE=DATE:20240101
DTEND;VALUE=DATE:20240102
DTSTAMP:20260423T233809
CREATED:20231202T173814Z
LAST-MODIFIED:20231202T173814Z
UID:687-1704067200-1704153599@norriscommunitylibrary.com
SUMMARY:Library Closed
DESCRIPTION:The library will be closed Monday\, January 1st in observance of New Years. Fines/Fees will not accrue while the library is closed. The library website\, online catalog\, and both bookdrops will remain available. We apologize for any inconvenience.
URL:https://norriscommunitylibrary.com/event/library-closed-2
CATEGORIES:Library Closings,Library Events
END:VEVENT
BEGIN:VEVENT
DTSTART;VALUE=DATE:20231224
DTEND;VALUE=DATE:20231227
DTSTAMP:20260423T233809
CREATED:20231202T173636Z
LAST-MODIFIED:20231202T173645Z
UID:685-1703376000-1703635199@norriscommunitylibrary.com
SUMMARY:Library Closed
DESCRIPTION:The library will be closed December 24th-26th in observation of the Christmas holiday. Fines/Fees will not accrue while the library is closed. The library website\, online catalog\, and both bookdrops will remain available. We apologize for any inconvenience.
URL:https://norriscommunitylibrary.com/event/library-closed
CATEGORIES:Library Closings,Library Events
END:VEVENT
BEGIN:VEVENT
DTSTART;TZID=UTC:20231030T080000
DTEND;TZID=UTC:20231114T180000
DTSTAMP:20260423T233809
CREATED:20230928T233028Z
LAST-MODIFIED:20230928T233028Z
UID:603-1698652800-1699984800@norriscommunitylibrary.com
SUMMARY:Library Closed for Renovation
DESCRIPTION:The Norris Library will be closed for renovation from Monday\, October 30th-November 13th. During this time no items will be due and no fines will accrue on any accounts. Follow us here on our website or on social media for the most up to date announcements on the renovation project.
URL:https://norriscommunitylibrary.com/event/library-closed-for-renovation
CATEGORIES:Library Closings
END:VEVENT
BEGIN:VEVENT
DTSTART;VALUE=DATE:20230904
DTEND;VALUE=DATE:20230905
DTSTAMP:20260423T233809
CREATED:20230831T170422Z
LAST-MODIFIED:20230831T170443Z
UID:509-1693785600-1693871999@norriscommunitylibrary.com
SUMMARY:Library Closed
DESCRIPTION:The Norris Community Library will be closed Monday\, September 4th in observance of the Labor Day Holiday. Fines/Fees will not accrue while the library is closed. The library website\, online catalog\, and both bookdrops will remain available. We apologize for any inconvenience.
URL:https://norriscommunitylibrary.com/event/library-closing
CATEGORIES:Library Closings
END:VEVENT
END:VCALENDAR