BEGIN:VCALENDAR
VERSION:2.0
PRODID:-//Norris Community Library - ECPv6.15.20//NONSGML v1.0//EN
CALSCALE:GREGORIAN
METHOD:PUBLISH
X-ORIGINAL-URL:https://norriscommunitylibrary.com
X-WR-CALDESC:Events for Norris Community Library
REFRESH-INTERVAL;VALUE=DURATION:PT1H
X-Robots-Tag:noindex
X-PUBLISHED-TTL:PT1H
BEGIN:VTIMEZONE
TZID:UTC
BEGIN:STANDARD
TZOFFSETFROM:+0000
TZOFFSETTO:+0000
TZNAME:UTC
DTSTART:20250101T000000
END:STANDARD
END:VTIMEZONE
BEGIN:VEVENT
DTSTART;VALUE=DATE:20260619
DTEND;VALUE=DATE:20260620
DTSTAMP:20260424T022338
CREATED:20260422T144505Z
LAST-MODIFIED:20260422T144505Z
UID:6083-1781827200-1781913599@norriscommunitylibrary.com
SUMMARY:Library Closed: Juneteenth
DESCRIPTION:The library will be closed June 19th in observance of the Juneteenth holiday. No fines will accrue on any accounts while the library is closed. Our website\, online catalog\, and book drops will remain available.
URL:https://norriscommunitylibrary.com/event/library-closed-juneteenth-2
CATEGORIES:Library Closings
END:VEVENT
END:VCALENDAR