BEGIN:VCALENDAR
VERSION:2.0
PRODID:-//Norris Community Library - ECPv6.15.20//NONSGML v1.0//EN
CALSCALE:GREGORIAN
METHOD:PUBLISH
X-WR-CALNAME:Norris Community Library
X-ORIGINAL-URL:https://norriscommunitylibrary.com
X-WR-CALDESC:Events for Norris Community Library
REFRESH-INTERVAL;VALUE=DURATION:PT1H
X-Robots-Tag:noindex
X-PUBLISHED-TTL:PT1H
BEGIN:VTIMEZONE
TZID:UTC
BEGIN:STANDARD
TZOFFSETFROM:+0000
TZOFFSETTO:+0000
TZNAME:UTC
DTSTART:20250101T000000
END:STANDARD
END:VTIMEZONE
BEGIN:VEVENT
DTSTART;VALUE=DATE:20260403
DTEND;VALUE=DATE:20260404
DTSTAMP:20260423T233731
CREATED:20260320T145521Z
LAST-MODIFIED:20260320T150451Z
UID:5857-1775174400-1775260799@norriscommunitylibrary.com
SUMMARY:Library Closed: Good Friday
DESCRIPTION:The library will be closed April 3rd in observance of the Good Friday Holiday. No fines will accrue on any accounts while the library is closed. Our website\, online catalog\, and book drops will remain available.
URL:https://norriscommunitylibrary.com/event/library-closed-good-friday
CATEGORIES:Library Closings
END:VEVENT
END:VCALENDAR