BEGIN:VCALENDAR
VERSION:2.0
PRODID:-//Norris Community Library - ECPv6.15.20//NONSGML v1.0//EN
CALSCALE:GREGORIAN
METHOD:PUBLISH
X-WR-CALNAME:Norris Community Library
X-ORIGINAL-URL:https://norriscommunitylibrary.com
X-WR-CALDESC:Events for Norris Community Library
REFRESH-INTERVAL;VALUE=DURATION:PT1H
X-Robots-Tag:noindex
X-PUBLISHED-TTL:PT1H
BEGIN:VTIMEZONE
TZID:UTC
BEGIN:STANDARD
TZOFFSETFROM:+0000
TZOFFSETTO:+0000
TZNAME:UTC
DTSTART:20250101T000000
END:STANDARD
END:VTIMEZONE
BEGIN:VEVENT
DTSTART;VALUE=DATE:20260525
DTEND;VALUE=DATE:20260526
DTSTAMP:20260423T233611
CREATED:20260407T151354Z
LAST-MODIFIED:20260407T151354Z
UID:5948-1779667200-1779753599@norriscommunitylibrary.com
SUMMARY:Library Closed: Memorial Day
DESCRIPTION:The library will be closed May 25th in observance of the Memorial Day holiday. No fines will accrue on any accounts while the library is closed. Our website\, online catalog\, and book drops will remain available.
URL:https://norriscommunitylibrary.com/event/library-closed-memorial-day-2
CATEGORIES:Library Closings
END:VEVENT
END:VCALENDAR