BEGIN:VCALENDAR
VERSION:2.0
PRODID:-//Norris Community Library - ECPv6.15.20//NONSGML v1.0//EN
CALSCALE:GREGORIAN
METHOD:PUBLISH
X-ORIGINAL-URL:https://norriscommunitylibrary.com
X-WR-CALDESC:Events for Norris Community Library
REFRESH-INTERVAL;VALUE=DURATION:PT1H
X-Robots-Tag:noindex
X-PUBLISHED-TTL:PT1H
BEGIN:VTIMEZONE
TZID:UTC
BEGIN:STANDARD
TZOFFSETFROM:+0000
TZOFFSETTO:+0000
TZNAME:UTC
DTSTART:20250101T000000
END:STANDARD
END:VTIMEZONE
BEGIN:VEVENT
DTSTART;VALUE=DATE:20260216
DTEND;VALUE=DATE:20260217
DTSTAMP:20260424T011035
CREATED:20260115T154658Z
LAST-MODIFIED:20260320T145641Z
UID:5487-1771200000-1771286399@norriscommunitylibrary.com
SUMMARY:Library Closed: Presidents' Day
DESCRIPTION:The library will be closed February 16th in observance of Presidents’ Day. No fines will accrue on any accounts while the library is closed. Our website\, online catalog\, and book drops will remain available.
URL:https://norriscommunitylibrary.com/event/library-closed-presidents-day-2
CATEGORIES:Library Closings
END:VEVENT
END:VCALENDAR