BEGIN:VCALENDAR
VERSION:2.0
PRODID:-//Norris Community Library - ECPv6.15.20//NONSGML v1.0//EN
CALSCALE:GREGORIAN
METHOD:PUBLISH
X-ORIGINAL-URL:https://norriscommunitylibrary.com
X-WR-CALDESC:Events for Norris Community Library
REFRESH-INTERVAL;VALUE=DURATION:PT1H
X-Robots-Tag:noindex
X-PUBLISHED-TTL:PT1H
BEGIN:VTIMEZONE
TZID:UTC
BEGIN:STANDARD
TZOFFSETFROM:+0000
TZOFFSETTO:+0000
TZNAME:UTC
DTSTART:20240101T000000
END:STANDARD
END:VTIMEZONE
BEGIN:VEVENT
DTSTART;TZID=UTC:20250703T100000
DTEND;TZID=UTC:20250704T180000
DTSTAMP:20260424T110420
CREATED:20250517T150658Z
LAST-MODIFIED:20250517T151051Z
UID:3607-1751536800-1751652000@norriscommunitylibrary.com
SUMMARY:Library Closed: Fourth of July
DESCRIPTION:The library will be closed July 3rd-4th in observance of the Independence Day holiday. No fines will accrue on any accounts while the library is closed. Please note that the library building will be open on Friday\, July 4th for the Norris Day celebrations and the Friends of the Library Book Sale\, but library services will be limited.
URL:https://norriscommunitylibrary.com/event/library-closed-fourth-of-july
CATEGORIES:Library Closings
END:VEVENT
END:VCALENDAR