BEGIN:VCALENDAR
VERSION:2.0
PRODID:-//Norris Community Library - ECPv6.15.20//NONSGML v1.0//EN
CALSCALE:GREGORIAN
METHOD:PUBLISH
X-WR-CALNAME:Norris Community Library
X-ORIGINAL-URL:https://norriscommunitylibrary.com
X-WR-CALDESC:Events for Norris Community Library
REFRESH-INTERVAL;VALUE=DURATION:PT1H
X-Robots-Tag:noindex
X-PUBLISHED-TTL:PT1H
BEGIN:VTIMEZONE
TZID:UTC
BEGIN:STANDARD
TZOFFSETFROM:+0000
TZOFFSETTO:+0000
TZNAME:UTC
DTSTART:20240101T000000
END:STANDARD
END:VTIMEZONE
BEGIN:VEVENT
DTSTART;TZID=UTC:20250619T100000
DTEND;TZID=UTC:20250619T180000
DTSTAMP:20260424T122345
CREATED:20250516T185106Z
LAST-MODIFIED:20250529T143000Z
UID:3509-1750327200-1750356000@norriscommunitylibrary.com
SUMMARY:Library Closed: Juneteenth
DESCRIPTION:The library will be closed June 19th in observance of the Juneteenth holiday. No fines will accrue on any accounts while the library is closed. Our website\, online catalog\, and book drops will remain available.
URL:https://norriscommunitylibrary.com/event/library-closed-juneteenth
CATEGORIES:Library Closings
ATTACH;FMTTYPE=image/jpeg:https://norriscommunitylibrary.com/wp-content/uploads/2025/05/Library-closings-may-june.jpg
END:VEVENT
END:VCALENDAR