BEGIN:VCALENDAR
VERSION:2.0
PRODID:-//Norris Community Library - ECPv6.15.20//NONSGML v1.0//EN
CALSCALE:GREGORIAN
METHOD:PUBLISH
X-ORIGINAL-URL:https://norriscommunitylibrary.com
X-WR-CALDESC:Events for Norris Community Library
REFRESH-INTERVAL;VALUE=DURATION:PT1H
X-Robots-Tag:noindex
X-PUBLISHED-TTL:PT1H
BEGIN:VTIMEZONE
TZID:UTC
BEGIN:STANDARD
TZOFFSETFROM:+0000
TZOFFSETTO:+0000
TZNAME:UTC
DTSTART:20230101T000000
END:STANDARD
END:VTIMEZONE
BEGIN:VEVENT
DTSTART;TZID=UTC:20241004T153000
DTEND;TZID=UTC:20241004T163000
DTSTAMP:20260424T024846
CREATED:20240927T201547Z
LAST-MODIFIED:20240927T201547Z
UID:1901-1728055800-1728059400@norriscommunitylibrary.com
SUMMARY:LEGO Club
DESCRIPTION:LEGO Club is held every Friday from 3:30-4:30pm. We supply the LEGO\, you supply the imagination.
URL:https://norriscommunitylibrary.com/event/lego-club-53
CATEGORIES:Kids,LEGO Club
ATTACH;FMTTYPE=image/jpeg:https://norriscommunitylibrary.com/wp-content/uploads/2023/07/LEGO-club.jpg
END:VEVENT
BEGIN:VEVENT
DTSTART;TZID=UTC:20240927T153000
DTEND;TZID=UTC:20240927T163000
DTSTAMP:20260424T024846
CREATED:20240903T204014Z
LAST-MODIFIED:20240903T204014Z
UID:1788-1727451000-1727454600@norriscommunitylibrary.com
SUMMARY:LEGO Club
DESCRIPTION:LEGO Club is held every Friday from 3:30-4:30pm. We supply the LEGO\, you supply the imagination.
URL:https://norriscommunitylibrary.com/event/lego-club-52
CATEGORIES:Kids,LEGO Club
ATTACH;FMTTYPE=image/jpeg:https://norriscommunitylibrary.com/wp-content/uploads/2023/07/LEGO-club.jpg
END:VEVENT
BEGIN:VEVENT
DTSTART;TZID=UTC:20240920T153000
DTEND;TZID=UTC:20240920T163000
DTSTAMP:20260424T024846
CREATED:20240903T203913Z
LAST-MODIFIED:20240903T203913Z
UID:1786-1726846200-1726849800@norriscommunitylibrary.com
SUMMARY:LEGO Club
DESCRIPTION:LEGO Club is held every Friday from 3:30-4:30pm. We supply the LEGO\, you supply the imagination.
URL:https://norriscommunitylibrary.com/event/lego-club-51
CATEGORIES:Kids,LEGO Club
ATTACH;FMTTYPE=image/jpeg:https://norriscommunitylibrary.com/wp-content/uploads/2023/07/LEGO-club.jpg
END:VEVENT
BEGIN:VEVENT
DTSTART;TZID=UTC:20240913T153000
DTEND;TZID=UTC:20240913T163000
DTSTAMP:20260424T024846
CREATED:20240903T203824Z
LAST-MODIFIED:20240903T203824Z
UID:1784-1726241400-1726245000@norriscommunitylibrary.com
SUMMARY:LEGO Club
DESCRIPTION:LEGO Club is held every Friday from 3:30-4:30pm. We supply the LEGO\, you supply the imagination.
URL:https://norriscommunitylibrary.com/event/lego-club-50
CATEGORIES:Kids,LEGO Club
ATTACH;FMTTYPE=image/jpeg:https://norriscommunitylibrary.com/wp-content/uploads/2023/07/LEGO-club.jpg
END:VEVENT
BEGIN:VEVENT
DTSTART;TZID=UTC:20240906T153000
DTEND;TZID=UTC:20240906T163000
DTSTAMP:20260424T024846
CREATED:20240903T203254Z
LAST-MODIFIED:20240903T203254Z
UID:1782-1725636600-1725640200@norriscommunitylibrary.com
SUMMARY:LEGO Club
DESCRIPTION:LEGO Club is held every Friday from 3:30-4:30pm. We supply the LEGO\, you supply the imagination.
URL:https://norriscommunitylibrary.com/event/lego-club-49
CATEGORIES:Kids,LEGO Club
ATTACH;FMTTYPE=image/jpeg:https://norriscommunitylibrary.com/wp-content/uploads/2023/07/LEGO-club.jpg
END:VEVENT
BEGIN:VEVENT
DTSTART;TZID=UTC:20240830T153000
DTEND;TZID=UTC:20240830T163000
DTSTAMP:20260424T024846
CREATED:20240730T191932Z
LAST-MODIFIED:20240730T191932Z
UID:1610-1725031800-1725035400@norriscommunitylibrary.com
SUMMARY:LEGO Club
DESCRIPTION:LEGO Club is held every Friday from 3:30-4:30pm. We supply the LEGO\, you supply the imagination.
URL:https://norriscommunitylibrary.com/event/lego-club-48
CATEGORIES:All Ages,LEGO Club
ATTACH;FMTTYPE=image/jpeg:https://norriscommunitylibrary.com/wp-content/uploads/2023/07/LEGO-club.jpg
END:VEVENT
BEGIN:VEVENT
DTSTART;TZID=UTC:20240823T153000
DTEND;TZID=UTC:20240823T163000
DTSTAMP:20260424T024846
CREATED:20240730T191805Z
LAST-MODIFIED:20240730T191805Z
UID:1608-1724427000-1724430600@norriscommunitylibrary.com
SUMMARY:LEGO Club
DESCRIPTION:LEGO Club is held every Friday from 3:30-4:30pm. We supply the LEGO\, you supply the imagination.
URL:https://norriscommunitylibrary.com/event/lego-club-47
CATEGORIES:All Ages,LEGO Club
ATTACH;FMTTYPE=image/jpeg:https://norriscommunitylibrary.com/wp-content/uploads/2023/07/LEGO-club.jpg
END:VEVENT
BEGIN:VEVENT
DTSTART;TZID=UTC:20240816T153000
DTEND;TZID=UTC:20240816T163000
DTSTAMP:20260424T024846
CREATED:20240730T191725Z
LAST-MODIFIED:20240730T191725Z
UID:1606-1723822200-1723825800@norriscommunitylibrary.com
SUMMARY:LEGO Club
DESCRIPTION:LEGO Club is held every Friday from 3:30-4:30pm. We supply the LEGO\, you supply the imagination.
URL:https://norriscommunitylibrary.com/event/lego-club-46
CATEGORIES:All Ages,LEGO Club
ATTACH;FMTTYPE=image/jpeg:https://norriscommunitylibrary.com/wp-content/uploads/2023/07/LEGO-club.jpg
END:VEVENT
BEGIN:VEVENT
DTSTART;TZID=UTC:20240809T153000
DTEND;TZID=UTC:20240809T163000
DTSTAMP:20260424T024846
CREATED:20240730T191617Z
LAST-MODIFIED:20240730T191617Z
UID:1604-1723217400-1723221000@norriscommunitylibrary.com
SUMMARY:LEGO Club
DESCRIPTION:LEGO Club is held every Friday from 3:30-4:30pm. We supply the LEGO\, you supply the imagination.
URL:https://norriscommunitylibrary.com/event/lego-club-45
CATEGORIES:All Ages,LEGO Club
ATTACH;FMTTYPE=image/jpeg:https://norriscommunitylibrary.com/wp-content/uploads/2023/07/LEGO-club.jpg
END:VEVENT
BEGIN:VEVENT
DTSTART;TZID=UTC:20240802T153000
DTEND;TZID=UTC:20240802T163000
DTSTAMP:20260424T024846
CREATED:20240730T191530Z
LAST-MODIFIED:20240730T191530Z
UID:1602-1722612600-1722616200@norriscommunitylibrary.com
SUMMARY:LEGO Club
DESCRIPTION:LEGO Club is held every Friday from 3:30-4:30pm. We supply the LEGO\, you supply the imagination.
URL:https://norriscommunitylibrary.com/event/lego-club-44
CATEGORIES:All Ages,LEGO Club
ATTACH;FMTTYPE=image/jpeg:https://norriscommunitylibrary.com/wp-content/uploads/2023/07/LEGO-club.jpg
END:VEVENT
BEGIN:VEVENT
DTSTART;TZID=UTC:20240719T153000
DTEND;TZID=UTC:20240719T163000
DTSTAMP:20260424T024846
CREATED:20240618T152836Z
LAST-MODIFIED:20240618T152836Z
UID:1396-1721403000-1721406600@norriscommunitylibrary.com
SUMMARY:LEGO Club
DESCRIPTION:LEGO Club is held every Friday from 3:30-4:30pm. We supply the LEGO\, you supply the imagination.
URL:https://norriscommunitylibrary.com/event/lego-club-43
CATEGORIES:Kids,LEGO Club
ATTACH;FMTTYPE=image/jpeg:https://norriscommunitylibrary.com/wp-content/uploads/2023/07/LEGO-club.jpg
END:VEVENT
BEGIN:VEVENT
DTSTART;TZID=UTC:20240712T153000
DTEND;TZID=UTC:20240712T163000
DTSTAMP:20260424T024846
CREATED:20240618T152744Z
LAST-MODIFIED:20240618T152744Z
UID:1394-1720798200-1720801800@norriscommunitylibrary.com
SUMMARY:LEGO Club
DESCRIPTION:LEGO Club is held every Friday from 3:30-4:30pm. We supply the LEGO\, you supply the imagination.
URL:https://norriscommunitylibrary.com/event/lego-club-42
CATEGORIES:Kids,LEGO Club
ATTACH;FMTTYPE=image/jpeg:https://norriscommunitylibrary.com/wp-content/uploads/2023/07/LEGO-club.jpg
END:VEVENT
BEGIN:VEVENT
DTSTART;TZID=UTC:20240628T153000
DTEND;TZID=UTC:20240628T163000
DTSTAMP:20260424T024846
CREATED:20240531T210433Z
LAST-MODIFIED:20240531T210433Z
UID:1290-1719588600-1719592200@norriscommunitylibrary.com
SUMMARY:LEGO Club
DESCRIPTION:LEGO Club is held every Friday from 3:30-4:30pm. We supply the LEGO\, you supply the imagination.
URL:https://norriscommunitylibrary.com/event/lego-club-41
CATEGORIES:Kids,LEGO Club
ATTACH;FMTTYPE=image/jpeg:https://norriscommunitylibrary.com/wp-content/uploads/2023/07/LEGO-club.jpg
END:VEVENT
BEGIN:VEVENT
DTSTART;TZID=UTC:20240621T153000
DTEND;TZID=UTC:20240621T163000
DTSTAMP:20260424T024846
CREATED:20240531T205554Z
LAST-MODIFIED:20240531T205554Z
UID:1288-1718983800-1718987400@norriscommunitylibrary.com
SUMMARY:LEGO Club
DESCRIPTION:LEGO Club is held every Friday from 3:30-4:30pm. We supply the LEGO\, you supply the imagination.
URL:https://norriscommunitylibrary.com/event/lego-club-40
CATEGORIES:Kids,LEGO Club
ATTACH;FMTTYPE=image/jpeg:https://norriscommunitylibrary.com/wp-content/uploads/2023/07/LEGO-club.jpg
END:VEVENT
BEGIN:VEVENT
DTSTART;TZID=UTC:20240614T153000
DTEND;TZID=UTC:20240614T163000
DTSTAMP:20260424T024846
CREATED:20240531T205503Z
LAST-MODIFIED:20240531T205503Z
UID:1286-1718379000-1718382600@norriscommunitylibrary.com
SUMMARY:LEGO Club
DESCRIPTION:LEGO Club is held every Friday from 3:30-4:30pm. We supply the LEGO\, you supply the imagination.
URL:https://norriscommunitylibrary.com/event/lego-club-39
CATEGORIES:Kids,LEGO Club
ATTACH;FMTTYPE=image/jpeg:https://norriscommunitylibrary.com/wp-content/uploads/2023/07/LEGO-club.jpg
END:VEVENT
BEGIN:VEVENT
DTSTART;TZID=UTC:20240607T153000
DTEND;TZID=UTC:20240607T163000
DTSTAMP:20260424T024846
CREATED:20240531T205416Z
LAST-MODIFIED:20240531T205416Z
UID:1284-1717774200-1717777800@norriscommunitylibrary.com
SUMMARY:LEGO Club
DESCRIPTION:LEGO Club is held every Friday from 3:30-4:30pm. We supply the LEGO\, you supply the imagination.
URL:https://norriscommunitylibrary.com/event/lego-club-38
CATEGORIES:Kids,LEGO Club
ATTACH;FMTTYPE=image/jpeg:https://norriscommunitylibrary.com/wp-content/uploads/2023/07/LEGO-club.jpg
END:VEVENT
BEGIN:VEVENT
DTSTART;TZID=UTC:20240531T153000
DTEND;TZID=UTC:20240531T163000
DTSTAMP:20260424T024846
CREATED:20240430T145507Z
LAST-MODIFIED:20240430T145714Z
UID:1167-1717169400-1717173000@norriscommunitylibrary.com
SUMMARY:LEGO Club
DESCRIPTION:LEGO Club is held every Friday from 3:30-4:30pm. We supply the LEGO\, you supply the imagination.
URL:https://norriscommunitylibrary.com/event/lego-club-37
LOCATION:Norris Community Library\, 1 Norris Square\, Norris\, TN\, 37828\, United States
CATEGORIES:LEGO Club
ATTACH;FMTTYPE=image/jpeg:https://norriscommunitylibrary.com/wp-content/uploads/2023/07/LEGO-club.jpg
ORGANIZER;CN="Norris Community Library":MAILTO:questions@norriscommunitylibrary.com
END:VEVENT
BEGIN:VEVENT
DTSTART;TZID=UTC:20240524T153000
DTEND;TZID=UTC:20240524T163000
DTSTAMP:20260424T024846
CREATED:20240430T145352Z
LAST-MODIFIED:20240430T145650Z
UID:1165-1716564600-1716568200@norriscommunitylibrary.com
SUMMARY:LEGO Club
DESCRIPTION:LEGO Club is held every Friday from 3:30-4:30pm. We supply the LEGO\, you supply the imagination.
URL:https://norriscommunitylibrary.com/event/lego-club-36
LOCATION:Norris Community Library\, 1 Norris Square\, Norris\, TN\, 37828\, United States
CATEGORIES:LEGO Club
ATTACH;FMTTYPE=image/png:https://norriscommunitylibrary.com/wp-content/uploads/2023/12/Tech-Hour-logo.png
ORGANIZER;CN="Norris Community Library":MAILTO:questions@norriscommunitylibrary.com
END:VEVENT
BEGIN:VEVENT
DTSTART;TZID=UTC:20240517T153000
DTEND;TZID=UTC:20240517T163000
DTSTAMP:20260424T024846
CREATED:20240430T145249Z
LAST-MODIFIED:20240430T145629Z
UID:1163-1715959800-1715963400@norriscommunitylibrary.com
SUMMARY:LEGO Club
DESCRIPTION:LEGO Club is held every Friday from 3:30-4:30pm. We supply the LEGO\, you supply the imagination.
URL:https://norriscommunitylibrary.com/event/lego-club-35
LOCATION:Norris Community Library\, 1 Norris Square\, Norris\, TN\, 37828\, United States
CATEGORIES:LEGO Club
ATTACH;FMTTYPE=image/jpeg:https://norriscommunitylibrary.com/wp-content/uploads/2023/07/LEGO-club.jpg
ORGANIZER;CN="Norris Community Library":MAILTO:questions@norriscommunitylibrary.com
END:VEVENT
BEGIN:VEVENT
DTSTART;TZID=UTC:20240510T153000
DTEND;TZID=UTC:20240510T163000
DTSTAMP:20260424T024846
CREATED:20240430T145150Z
LAST-MODIFIED:20240430T145610Z
UID:1161-1715355000-1715358600@norriscommunitylibrary.com
SUMMARY:LEGO Club
DESCRIPTION:LEGO Club is held every Friday from 3:30-4:30pm. We supply the LEGO\, you supply the imagination.
URL:https://norriscommunitylibrary.com/event/lego-club-34
LOCATION:Norris Community Library\, 1 Norris Square\, Norris\, TN\, 37828\, United States
CATEGORIES:LEGO Club
ATTACH;FMTTYPE=image/jpeg:https://norriscommunitylibrary.com/wp-content/uploads/2023/07/LEGO-club.jpg
ORGANIZER;CN="Norris Community Library":MAILTO:questions@norriscommunitylibrary.com
END:VEVENT
BEGIN:VEVENT
DTSTART;TZID=UTC:20240426T153000
DTEND;TZID=UTC:20240426T163000
DTSTAMP:20260424T024846
CREATED:20240403T184003Z
LAST-MODIFIED:20240403T184003Z
UID:1026-1714145400-1714149000@norriscommunitylibrary.com
SUMMARY:LEGO Club
DESCRIPTION:LEGO Club is held every Friday from 3:30-4:30pm. We supply the LEGO\, you supply the imagination.
URL:https://norriscommunitylibrary.com/event/lego-club-32
CATEGORIES:Kids,LEGO Club
ATTACH;FMTTYPE=image/jpeg:https://norriscommunitylibrary.com/wp-content/uploads/2023/07/LEGO-club.jpg
END:VEVENT
BEGIN:VEVENT
DTSTART;TZID=UTC:20240419T153000
DTEND;TZID=UTC:20240419T163000
DTSTAMP:20260424T024846
CREATED:20240403T183900Z
LAST-MODIFIED:20240403T183900Z
UID:1024-1713540600-1713544200@norriscommunitylibrary.com
SUMMARY:LEGO Club
DESCRIPTION:LEGO Club is held every Friday from 3:30-4:30pm. We supply the LEGO\, you supply the imagination.
URL:https://norriscommunitylibrary.com/event/lego-club-31
CATEGORIES:Kids,LEGO Club
ATTACH;FMTTYPE=image/jpeg:https://norriscommunitylibrary.com/wp-content/uploads/2023/07/LEGO-club.jpg
END:VEVENT
BEGIN:VEVENT
DTSTART;TZID=UTC:20240412T153000
DTEND;TZID=UTC:20240412T163000
DTSTAMP:20260424T024846
CREATED:20240403T183809Z
LAST-MODIFIED:20240403T183809Z
UID:1022-1712935800-1712939400@norriscommunitylibrary.com
SUMMARY:LEGO Club
DESCRIPTION:LEGO Club is held every Friday from 3:30-4:30pm. We supply the LEGO\, you supply the imagination.
URL:https://norriscommunitylibrary.com/event/lego-club-30
CATEGORIES:Kids,LEGO Club
ATTACH;FMTTYPE=image/jpeg:https://norriscommunitylibrary.com/wp-content/uploads/2023/07/LEGO-club.jpg
END:VEVENT
BEGIN:VEVENT
DTSTART;TZID=UTC:20240405T153000
DTEND;TZID=UTC:20240405T163000
DTSTAMP:20260424T024846
CREATED:20240403T183635Z
LAST-MODIFIED:20240403T183635Z
UID:1020-1712331000-1712334600@norriscommunitylibrary.com
SUMMARY:LEGO Club
DESCRIPTION:LEGO Club is held every Friday from 3:30-4:30pm. We supply the LEGO\, you supply the imagination.
URL:https://norriscommunitylibrary.com/event/lego-club-29
CATEGORIES:Kids,LEGO Club
ATTACH;FMTTYPE=image/jpeg:https://norriscommunitylibrary.com/wp-content/uploads/2023/07/LEGO-club.jpg
END:VEVENT
BEGIN:VEVENT
DTSTART;TZID=UTC:20240322T153000
DTEND;TZID=UTC:20240322T163000
DTSTAMP:20260424T024846
CREATED:20240302T184604Z
LAST-MODIFIED:20240302T184604Z
UID:932-1711121400-1711125000@norriscommunitylibrary.com
SUMMARY:LEGO Club
DESCRIPTION:LEGO Club is held every Friday from 3:30-4:30pm. We supply the LEGO\, you supply the imagination.
URL:https://norriscommunitylibrary.com/event/lego-club-28
CATEGORIES:Kids,LEGO Club
ATTACH;FMTTYPE=image/jpeg:https://norriscommunitylibrary.com/wp-content/uploads/2023/07/LEGO-club.jpg
END:VEVENT
BEGIN:VEVENT
DTSTART;TZID=UTC:20240315T153000
DTEND;TZID=UTC:20240315T163000
DTSTAMP:20260424T024846
CREATED:20240302T184518Z
LAST-MODIFIED:20240302T184518Z
UID:930-1710516600-1710520200@norriscommunitylibrary.com
SUMMARY:LEGO Club
DESCRIPTION:LEGO Club is held every Friday from 3:30-4:30pm. We supply the LEGO\, you supply the imagination.
URL:https://norriscommunitylibrary.com/event/lego-club-27
CATEGORIES:Kids,LEGO Club
ATTACH;FMTTYPE=image/jpeg:https://norriscommunitylibrary.com/wp-content/uploads/2023/07/LEGO-club.jpg
END:VEVENT
BEGIN:VEVENT
DTSTART;TZID=UTC:20240308T153000
DTEND;TZID=UTC:20240308T163000
DTSTAMP:20260424T024846
CREATED:20240302T184430Z
LAST-MODIFIED:20240302T184430Z
UID:928-1709911800-1709915400@norriscommunitylibrary.com
SUMMARY:LEGO Club
DESCRIPTION:LEGO Club is held every Friday from 3:30-4:30pm. We supply the LEGO\, you supply the imagination.
URL:https://norriscommunitylibrary.com/event/lego-club-26
CATEGORIES:Kids,LEGO Club
ATTACH;FMTTYPE=image/jpeg:https://norriscommunitylibrary.com/wp-content/uploads/2023/07/LEGO-club.jpg
END:VEVENT
BEGIN:VEVENT
DTSTART;TZID=UTC:20240301T153000
DTEND;TZID=UTC:20240301T163000
DTSTAMP:20260424T024846
CREATED:20240302T184331Z
LAST-MODIFIED:20240302T184331Z
UID:926-1709307000-1709310600@norriscommunitylibrary.com
SUMMARY:LEGO Club
DESCRIPTION:LEGO Club is held every Friday from 3:30-4:30pm. We supply the LEGO\, you supply the imagination.
URL:https://norriscommunitylibrary.com/event/lego-club-25
CATEGORIES:Kids,LEGO Club
ATTACH;FMTTYPE=image/jpeg:https://norriscommunitylibrary.com/wp-content/uploads/2023/07/LEGO-club.jpg
END:VEVENT
BEGIN:VEVENT
DTSTART;TZID=UTC:20240223T153000
DTEND;TZID=UTC:20240223T163000
DTSTAMP:20260424T024846
CREATED:20240131T003539Z
LAST-MODIFIED:20240131T003539Z
UID:809-1708702200-1708705800@norriscommunitylibrary.com
SUMMARY:LEGO Club
DESCRIPTION:LEGO Club is held every Friday from 3:30-4:30pm. We supply the LEGO\, you supply the imagination.
URL:https://norriscommunitylibrary.com/event/lego-club-24
CATEGORIES:Kids,LEGO Club
ATTACH;FMTTYPE=image/jpeg:https://norriscommunitylibrary.com/wp-content/uploads/2023/07/LEGO-club.jpg
END:VEVENT
BEGIN:VEVENT
DTSTART;TZID=UTC:20240216T153000
DTEND;TZID=UTC:20240216T163000
DTSTAMP:20260424T024846
CREATED:20240131T003447Z
LAST-MODIFIED:20240131T003447Z
UID:807-1708097400-1708101000@norriscommunitylibrary.com
SUMMARY:LEGO Club
DESCRIPTION:LEGO Club is held every Friday from 3:30-4:30pm. We supply the LEGO\, you supply the imagination.
URL:https://norriscommunitylibrary.com/event/lego-club-23
CATEGORIES:Kids,LEGO Club
ATTACH;FMTTYPE=image/jpeg:https://norriscommunitylibrary.com/wp-content/uploads/2023/07/LEGO-club.jpg
END:VEVENT
END:VCALENDAR