BEGIN:VCALENDAR
VERSION:2.0
PRODID:-//Norris Community Library - ECPv6.15.20//NONSGML v1.0//EN
CALSCALE:GREGORIAN
METHOD:PUBLISH
X-ORIGINAL-URL:https://norriscommunitylibrary.com
X-WR-CALDESC:Events for Norris Community Library
REFRESH-INTERVAL;VALUE=DURATION:PT1H
X-Robots-Tag:noindex
X-PUBLISHED-TTL:PT1H
BEGIN:VTIMEZONE
TZID:UTC
BEGIN:STANDARD
TZOFFSETFROM:+0000
TZOFFSETTO:+0000
TZNAME:UTC
DTSTART:20240101T000000
END:STANDARD
END:VTIMEZONE
BEGIN:VEVENT
DTSTART;TZID=UTC:20251003T153000
DTEND;TZID=UTC:20251003T163000
DTSTAMP:20260423T202451
CREATED:20250916T150420Z
LAST-MODIFIED:20250916T150420Z
UID:4421-1759505400-1759509000@norriscommunitylibrary.com
SUMMARY:LEGO Club
DESCRIPTION:LEGO Club is held every Friday from 3:30-4:30pm. We supply the LEGO\, you supply the imagination.
URL:https://norriscommunitylibrary.com/event/lego-club-101
CATEGORIES:All Ages,LEGO Club
ATTACH;FMTTYPE=image/jpeg:https://norriscommunitylibrary.com/wp-content/uploads/2023/07/LEGO-club.jpg
END:VEVENT
BEGIN:VEVENT
DTSTART;TZID=UTC:20250926T153000
DTEND;TZID=UTC:20250926T163000
DTSTAMP:20260423T202451
CREATED:20250819T214231Z
LAST-MODIFIED:20250819T214231Z
UID:4315-1758900600-1758904200@norriscommunitylibrary.com
SUMMARY:LEGO Club
DESCRIPTION:LEGO Club is held every Friday from 3:30-4:30pm. We supply the LEGO\, you supply the imagination.
URL:https://norriscommunitylibrary.com/event/lego-club-100
CATEGORIES:All Ages,LEGO Club
ATTACH;FMTTYPE=image/jpeg:https://norriscommunitylibrary.com/wp-content/uploads/2023/07/LEGO-club.jpg
END:VEVENT
BEGIN:VEVENT
DTSTART;TZID=UTC:20250919T153000
DTEND;TZID=UTC:20250919T163000
DTSTAMP:20260423T202451
CREATED:20250819T214149Z
LAST-MODIFIED:20250819T214149Z
UID:4313-1758295800-1758299400@norriscommunitylibrary.com
SUMMARY:LEGO Club
DESCRIPTION:LEGO Club is held every Friday from 3:30-4:30pm. We supply the LEGO\, you supply the imagination.
URL:https://norriscommunitylibrary.com/event/lego-club-99
CATEGORIES:All Ages,LEGO Club
ATTACH;FMTTYPE=image/jpeg:https://norriscommunitylibrary.com/wp-content/uploads/2023/07/LEGO-club.jpg
END:VEVENT
BEGIN:VEVENT
DTSTART;TZID=UTC:20250912T153000
DTEND;TZID=UTC:20250912T163000
DTSTAMP:20260423T202451
CREATED:20250819T214100Z
LAST-MODIFIED:20250819T214100Z
UID:4311-1757691000-1757694600@norriscommunitylibrary.com
SUMMARY:LEGO Club
DESCRIPTION:LEGO Club is held every Friday from 3:30-4:30pm. We supply the LEGO\, you supply the imagination.
URL:https://norriscommunitylibrary.com/event/lego-club-98
CATEGORIES:All Ages,LEGO Club
ATTACH;FMTTYPE=image/jpeg:https://norriscommunitylibrary.com/wp-content/uploads/2023/07/LEGO-club.jpg
END:VEVENT
BEGIN:VEVENT
DTSTART;TZID=UTC:20250905T153000
DTEND;TZID=UTC:20250905T163000
DTSTAMP:20260423T202451
CREATED:20250819T214006Z
LAST-MODIFIED:20250819T214006Z
UID:4309-1757086200-1757089800@norriscommunitylibrary.com
SUMMARY:LEGO Club
DESCRIPTION:LEGO Club is held every Friday from 3:30-4:30pm. We supply the LEGO\, you supply the imagination.
URL:https://norriscommunitylibrary.com/event/lego-club-97
CATEGORIES:All Ages,LEGO Club
ATTACH;FMTTYPE=image/jpeg:https://norriscommunitylibrary.com/wp-content/uploads/2023/07/LEGO-club.jpg
END:VEVENT
BEGIN:VEVENT
DTSTART;TZID=UTC:20250829T153000
DTEND;TZID=UTC:20250829T163000
DTSTAMP:20260423T202451
CREATED:20250715T175351Z
LAST-MODIFIED:20250715T175351Z
UID:4015-1756481400-1756485000@norriscommunitylibrary.com
SUMMARY:LEGO Club
DESCRIPTION:LEGO Club is held every Friday from 3:30-4:30pm. We supply the LEGO\, you supply the imagination.
URL:https://norriscommunitylibrary.com/event/lego-club-96
CATEGORIES:All Ages,LEGO Club
ATTACH;FMTTYPE=image/jpeg:https://norriscommunitylibrary.com/wp-content/uploads/2023/07/LEGO-club.jpg
END:VEVENT
BEGIN:VEVENT
DTSTART;TZID=UTC:20250822T153000
DTEND;TZID=UTC:20250822T163000
DTSTAMP:20260423T202451
CREATED:20250715T175251Z
LAST-MODIFIED:20250715T175251Z
UID:4013-1755876600-1755880200@norriscommunitylibrary.com
SUMMARY:LEGO Club
DESCRIPTION:LEGO Club is held every Friday from 3:30-4:30pm. We supply the LEGO\, you supply the imagination.
URL:https://norriscommunitylibrary.com/event/lego-club-95
CATEGORIES:All Ages,LEGO Club
ATTACH;FMTTYPE=image/jpeg:https://norriscommunitylibrary.com/wp-content/uploads/2023/07/LEGO-club.jpg
END:VEVENT
BEGIN:VEVENT
DTSTART;TZID=UTC:20250815T153000
DTEND;TZID=UTC:20250815T163000
DTSTAMP:20260423T202451
CREATED:20250715T175130Z
LAST-MODIFIED:20250715T175130Z
UID:4011-1755271800-1755275400@norriscommunitylibrary.com
SUMMARY:LEGO Club
DESCRIPTION:LEGO Club is held every Friday from 3:30-4:30pm. We supply the LEGO\, you supply the imagination.
URL:https://norriscommunitylibrary.com/event/lego-club-94
CATEGORIES:All Ages,LEGO Club
ATTACH;FMTTYPE=image/jpeg:https://norriscommunitylibrary.com/wp-content/uploads/2023/07/LEGO-club.jpg
END:VEVENT
BEGIN:VEVENT
DTSTART;TZID=UTC:20250808T153000
DTEND;TZID=UTC:20250808T163000
DTSTAMP:20260423T202451
CREATED:20250715T175034Z
LAST-MODIFIED:20250715T175034Z
UID:4009-1754667000-1754670600@norriscommunitylibrary.com
SUMMARY:LEGO Club
DESCRIPTION:LEGO Club is held every Friday from 3:30-4:30pm. We supply the LEGO\, you supply the imagination.
URL:https://norriscommunitylibrary.com/event/lego-club-93
CATEGORIES:All Ages,LEGO Club
ATTACH;FMTTYPE=image/jpeg:https://norriscommunitylibrary.com/wp-content/uploads/2023/07/LEGO-club.jpg
END:VEVENT
BEGIN:VEVENT
DTSTART;TZID=UTC:20250725T153000
DTEND;TZID=UTC:20250725T163000
DTSTAMP:20260423T202451
CREATED:20250516T211531Z
LAST-MODIFIED:20250516T211531Z
UID:3578-1753457400-1753461000@norriscommunitylibrary.com
SUMMARY:LEGO Club
DESCRIPTION:LEGO Club is held every Friday from 3:30-4:30pm. We supply the LEGO\, you supply the imagination.
URL:https://norriscommunitylibrary.com/event/lego-club-92
CATEGORIES:All Ages,LEGO Club,Summer Reading
ATTACH;FMTTYPE=image/jpeg:https://norriscommunitylibrary.com/wp-content/uploads/2023/07/LEGO-club.jpg
END:VEVENT
BEGIN:VEVENT
DTSTART;TZID=UTC:20250718T153000
DTEND;TZID=UTC:20250718T163000
DTSTAMP:20260423T202451
CREATED:20250516T211427Z
LAST-MODIFIED:20250516T211427Z
UID:3576-1752852600-1752856200@norriscommunitylibrary.com
SUMMARY:LEGO Club
DESCRIPTION:LEGO Club is held every Friday from 3:30-4:30pm. We supply the LEGO\, you supply the imagination.
URL:https://norriscommunitylibrary.com/event/lego-club-91
CATEGORIES:All Ages,LEGO Club,Summer Reading
ATTACH;FMTTYPE=image/jpeg:https://norriscommunitylibrary.com/wp-content/uploads/2023/07/LEGO-club.jpg
END:VEVENT
BEGIN:VEVENT
DTSTART;TZID=UTC:20250711T153000
DTEND;TZID=UTC:20250711T163000
DTSTAMP:20260423T202451
CREATED:20250516T211326Z
LAST-MODIFIED:20250516T211326Z
UID:3574-1752247800-1752251400@norriscommunitylibrary.com
SUMMARY:LEGO Club
DESCRIPTION:LEGO Club is held every Friday from 3:30-4:30pm. We supply the LEGO\, you supply the imagination.
URL:https://norriscommunitylibrary.com/event/lego-club-90
CATEGORIES:All Ages,LEGO Club,Summer Reading
ATTACH;FMTTYPE=image/jpeg:https://norriscommunitylibrary.com/wp-content/uploads/2023/07/LEGO-club.jpg
END:VEVENT
BEGIN:VEVENT
DTSTART;TZID=UTC:20250627T153000
DTEND;TZID=UTC:20250627T163000
DTSTAMP:20260423T202451
CREATED:20250516T185500Z
LAST-MODIFIED:20250516T194751Z
UID:3517-1751038200-1751041800@norriscommunitylibrary.com
SUMMARY:LEGO Club
DESCRIPTION:LEGO Club is held every Friday from 3:30-4:30pm. We supply the LEGO\, you supply the imagination.
URL:https://norriscommunitylibrary.com/event/lego-club-89
CATEGORIES:All Ages,LEGO Club,Summer Reading
ATTACH;FMTTYPE=image/jpeg:https://norriscommunitylibrary.com/wp-content/uploads/2023/07/LEGO-club.jpg
END:VEVENT
BEGIN:VEVENT
DTSTART;TZID=UTC:20250620T153000
DTEND;TZID=UTC:20250620T163000
DTSTAMP:20260423T202451
CREATED:20250516T185418Z
LAST-MODIFIED:20250516T194448Z
UID:3515-1750433400-1750437000@norriscommunitylibrary.com
SUMMARY:LEGO Club
DESCRIPTION:LEGO Club is held every Friday from 3:30-4:30pm. We supply the LEGO\, you supply the imagination.
URL:https://norriscommunitylibrary.com/event/lego-club-88
CATEGORIES:All Ages,LEGO Club,Summer Reading
ATTACH;FMTTYPE=image/jpeg:https://norriscommunitylibrary.com/wp-content/uploads/2023/07/LEGO-club.jpg
END:VEVENT
BEGIN:VEVENT
DTSTART;TZID=UTC:20250613T153000
DTEND;TZID=UTC:20250613T163000
DTSTAMP:20260423T202451
CREATED:20250516T185323Z
LAST-MODIFIED:20250516T194250Z
UID:3513-1749828600-1749832200@norriscommunitylibrary.com
SUMMARY:LEGO Club
DESCRIPTION:LEGO Club is held every Friday from 3:30-4:30pm. We supply the LEGO\, you supply the imagination.
URL:https://norriscommunitylibrary.com/event/lego-club-87
CATEGORIES:All Ages,LEGO Club,Summer Reading
ATTACH;FMTTYPE=image/jpeg:https://norriscommunitylibrary.com/wp-content/uploads/2023/07/LEGO-club.jpg
END:VEVENT
BEGIN:VEVENT
DTSTART;TZID=UTC:20250606T153000
DTEND;TZID=UTC:20250606T163000
DTSTAMP:20260423T202451
CREATED:20250516T185233Z
LAST-MODIFIED:20250516T194010Z
UID:3511-1749223800-1749227400@norriscommunitylibrary.com
SUMMARY:LEGO Club
DESCRIPTION:LEGO Club is held every Friday from 3:30-4:30pm. We supply the LEGO\, you supply the imagination.
URL:https://norriscommunitylibrary.com/event/lego-club-86
CATEGORIES:All Ages,LEGO Club,Summer Reading
ATTACH;FMTTYPE=image/jpeg:https://norriscommunitylibrary.com/wp-content/uploads/2023/07/LEGO-club.jpg
END:VEVENT
BEGIN:VEVENT
DTSTART;TZID=UTC:20250530T153000
DTEND;TZID=UTC:20250530T163000
DTSTAMP:20260423T202451
CREATED:20250410T143514Z
LAST-MODIFIED:20250410T143514Z
UID:3175-1748619000-1748622600@norriscommunitylibrary.com
SUMMARY:LEGO Club
DESCRIPTION:LEGO Club is held every Friday from 3:30-4:30pm. We supply the LEGO\, you supply the imagination.
URL:https://norriscommunitylibrary.com/event/lego-club-85
CATEGORIES:LEGO Club
ATTACH;FMTTYPE=image/jpeg:https://norriscommunitylibrary.com/wp-content/uploads/2023/07/LEGO-club.jpg
END:VEVENT
BEGIN:VEVENT
DTSTART;TZID=UTC:20250523T153000
DTEND;TZID=UTC:20250523T163000
DTSTAMP:20260423T202451
CREATED:20250410T143411Z
LAST-MODIFIED:20250410T143411Z
UID:3173-1748014200-1748017800@norriscommunitylibrary.com
SUMMARY:LEGO Club
DESCRIPTION:LEGO Club is held every Friday from 3:30-4:30pm. We supply the LEGO\, you supply the imagination.
URL:https://norriscommunitylibrary.com/event/lego-club-84
CATEGORIES:LEGO Club
ATTACH;FMTTYPE=image/jpeg:https://norriscommunitylibrary.com/wp-content/uploads/2023/07/LEGO-club.jpg
END:VEVENT
BEGIN:VEVENT
DTSTART;TZID=UTC:20250516T153000
DTEND;TZID=UTC:20250516T163000
DTSTAMP:20260423T202451
CREATED:20250410T143316Z
LAST-MODIFIED:20250410T143316Z
UID:3171-1747409400-1747413000@norriscommunitylibrary.com
SUMMARY:LEGO Club
DESCRIPTION:LEGO Club is held every Friday from 3:30-4:30pm. We supply the LEGO\, you supply the imagination.
URL:https://norriscommunitylibrary.com/event/lego-club-83
CATEGORIES:LEGO Club
ATTACH;FMTTYPE=image/jpeg:https://norriscommunitylibrary.com/wp-content/uploads/2023/07/LEGO-club.jpg
END:VEVENT
BEGIN:VEVENT
DTSTART;TZID=UTC:20250509T153000
DTEND;TZID=UTC:20250509T163000
DTSTAMP:20260423T202451
CREATED:20250410T143217Z
LAST-MODIFIED:20250410T143217Z
UID:3169-1746804600-1746808200@norriscommunitylibrary.com
SUMMARY:LEGO Club
DESCRIPTION:LEGO Club is held every Friday from 3:30-4:30pm. We supply the LEGO\, you supply the imagination.
URL:https://norriscommunitylibrary.com/event/lego-club-82
CATEGORIES:LEGO Club
ATTACH;FMTTYPE=image/jpeg:https://norriscommunitylibrary.com/wp-content/uploads/2023/07/LEGO-club.jpg
END:VEVENT
BEGIN:VEVENT
DTSTART;TZID=UTC:20250502T153000
DTEND;TZID=UTC:20250502T163000
DTSTAMP:20260423T202451
CREATED:20250410T143109Z
LAST-MODIFIED:20250410T143109Z
UID:3167-1746199800-1746203400@norriscommunitylibrary.com
SUMMARY:LEGO Club
DESCRIPTION:LEGO Club is held every Friday from 3:30-4:30pm. We supply the LEGO\, you supply the imagination.
URL:https://norriscommunitylibrary.com/event/lego-club-80
CATEGORIES:LEGO Club
ATTACH;FMTTYPE=image/jpeg:https://norriscommunitylibrary.com/wp-content/uploads/2023/07/LEGO-club.jpg
END:VEVENT
BEGIN:VEVENT
DTSTART;TZID=UTC:20250425T153000
DTEND;TZID=UTC:20250425T163000
DTSTAMP:20260423T202451
CREATED:20250310T200748Z
LAST-MODIFIED:20250310T200748Z
UID:2830-1745595000-1745598600@norriscommunitylibrary.com
SUMMARY:LEGO Club
DESCRIPTION:LEGO Club is held every Friday from 3:30-4:30pm. We supply the LEGO\, you supply the imagination.
URL:https://norriscommunitylibrary.com/event/lego-club-81
CATEGORIES:LEGO Club
ATTACH;FMTTYPE=image/jpeg:https://norriscommunitylibrary.com/wp-content/uploads/2023/07/LEGO-club.jpg
END:VEVENT
BEGIN:VEVENT
DTSTART;TZID=UTC:20250411T153000
DTEND;TZID=UTC:20250411T163000
DTSTAMP:20260423T202451
CREATED:20250310T200547Z
LAST-MODIFIED:20250310T200547Z
UID:2826-1744385400-1744389000@norriscommunitylibrary.com
SUMMARY:LEGO Club
DESCRIPTION:LEGO Club is held every Friday from 3:30-4:30pm. We supply the LEGO\, you supply the imagination.
URL:https://norriscommunitylibrary.com/event/lego-club-79
CATEGORIES:LEGO Club
ATTACH;FMTTYPE=image/jpeg:https://norriscommunitylibrary.com/wp-content/uploads/2023/07/LEGO-club.jpg
END:VEVENT
BEGIN:VEVENT
DTSTART;TZID=UTC:20250404T153000
DTEND;TZID=UTC:20250404T163000
DTSTAMP:20260423T202451
CREATED:20250310T200458Z
LAST-MODIFIED:20250310T200621Z
UID:2824-1743780600-1743784200@norriscommunitylibrary.com
SUMMARY:LEGO Club
DESCRIPTION:LEGO Club is held every Friday from 3:30-4:30pm. We supply the LEGO\, you supply the imagination.
URL:https://norriscommunitylibrary.com/event/lego-club-78
CATEGORIES:LEGO Club
ATTACH;FMTTYPE=image/jpeg:https://norriscommunitylibrary.com/wp-content/uploads/2023/07/LEGO-club.jpg
END:VEVENT
BEGIN:VEVENT
DTSTART;TZID=UTC:20250328T153000
DTEND;TZID=UTC:20250328T163000
DTSTAMP:20260423T202451
CREATED:20250213T214901Z
LAST-MODIFIED:20250213T214901Z
UID:2648-1743175800-1743179400@norriscommunitylibrary.com
SUMMARY:LEGO Club
DESCRIPTION:LEGO Club is held every Friday from 3:30-4:30pm. We supply the LEGO\, you supply the imagination.
URL:https://norriscommunitylibrary.com/event/lego-club-77
CATEGORIES:LEGO Club
ATTACH;FMTTYPE=image/jpeg:https://norriscommunitylibrary.com/wp-content/uploads/2023/07/LEGO-club.jpg
END:VEVENT
BEGIN:VEVENT
DTSTART;TZID=UTC:20250321T153000
DTEND;TZID=UTC:20250321T163000
DTSTAMP:20260423T202451
CREATED:20250213T214637Z
LAST-MODIFIED:20250213T214637Z
UID:2646-1742571000-1742574600@norriscommunitylibrary.com
SUMMARY:LEGO Club
DESCRIPTION:LEGO Club is held every Friday from 3:30-4:30pm. We supply the LEGO\, you supply the imagination.
URL:https://norriscommunitylibrary.com/event/lego-club-76
CATEGORIES:LEGO Club
ATTACH;FMTTYPE=image/jpeg:https://norriscommunitylibrary.com/wp-content/uploads/2023/07/LEGO-club.jpg
END:VEVENT
BEGIN:VEVENT
DTSTART;TZID=UTC:20250314T153000
DTEND;TZID=UTC:20250314T163000
DTSTAMP:20260423T202451
CREATED:20250213T214300Z
LAST-MODIFIED:20250213T214300Z
UID:2644-1741966200-1741969800@norriscommunitylibrary.com
SUMMARY:LEGO Club
DESCRIPTION:LEGO Club is held every Friday from 3:30-4:30pm. We supply the LEGO\, you supply the imagination.
URL:https://norriscommunitylibrary.com/event/lego-club-75
CATEGORIES:LEGO Club
ATTACH;FMTTYPE=image/jpeg:https://norriscommunitylibrary.com/wp-content/uploads/2023/07/LEGO-club.jpg
END:VEVENT
BEGIN:VEVENT
DTSTART;TZID=UTC:20250307T153000
DTEND;TZID=UTC:20250307T163000
DTSTAMP:20260423T202451
CREATED:20250213T213942Z
LAST-MODIFIED:20250213T213942Z
UID:2642-1741361400-1741365000@norriscommunitylibrary.com
SUMMARY:LEGO Club
DESCRIPTION:LEGO Club is held every Friday from 3:30-4:30pm. We supply the LEGO\, you supply the imagination.
URL:https://norriscommunitylibrary.com/event/lego-club-74
CATEGORIES:LEGO Club
ATTACH;FMTTYPE=image/jpeg:https://norriscommunitylibrary.com/wp-content/uploads/2023/07/LEGO-club.jpg
END:VEVENT
BEGIN:VEVENT
DTSTART;TZID=UTC:20250228T153000
DTEND;TZID=UTC:20250228T163000
DTSTAMP:20260423T202451
CREATED:20250128T184755Z
LAST-MODIFIED:20250128T184755Z
UID:2577-1740756600-1740760200@norriscommunitylibrary.com
SUMMARY:LEGO Club
DESCRIPTION:LEGO Club is held every Friday from 3:30-4:30pm. We supply the LEGO\, you supply the imagination.
URL:https://norriscommunitylibrary.com/event/lego-club-73
CATEGORIES:LEGO Club
ATTACH;FMTTYPE=image/jpeg:https://norriscommunitylibrary.com/wp-content/uploads/2023/07/LEGO-club.jpg
END:VEVENT
BEGIN:VEVENT
DTSTART;TZID=UTC:20250221T153000
DTEND;TZID=UTC:20250221T163000
DTSTAMP:20260423T202451
CREATED:20250128T184709Z
LAST-MODIFIED:20250128T184709Z
UID:2575-1740151800-1740155400@norriscommunitylibrary.com
SUMMARY:LEGO Club
DESCRIPTION:LEGO Club is held every Friday from 3:30-4:30pm. We supply the LEGO\, you supply the imagination.
URL:https://norriscommunitylibrary.com/event/lego-club-72
CATEGORIES:LEGO Club
ATTACH;FMTTYPE=image/jpeg:https://norriscommunitylibrary.com/wp-content/uploads/2023/07/LEGO-club.jpg
END:VEVENT
END:VCALENDAR