BEGIN:VCALENDAR
VERSION:2.0
PRODID:-//Norris Community Library - ECPv6.15.20//NONSGML v1.0//EN
CALSCALE:GREGORIAN
METHOD:PUBLISH
X-WR-CALNAME:Norris Community Library
X-ORIGINAL-URL:https://norriscommunitylibrary.com
X-WR-CALDESC:Events for Norris Community Library
REFRESH-INTERVAL;VALUE=DURATION:PT1H
X-Robots-Tag:noindex
X-PUBLISHED-TTL:PT1H
BEGIN:VTIMEZONE
TZID:UTC
BEGIN:STANDARD
TZOFFSETFROM:+0000
TZOFFSETTO:+0000
TZNAME:UTC
DTSTART:20230101T000000
END:STANDARD
END:VTIMEZONE
BEGIN:VEVENT
DTSTART;TZID=UTC:20241014T110000
DTEND;TZID=UTC:20241014T120000
DTSTAMP:20260424T054939
CREATED:20240927T175345Z
LAST-MODIFIED:20240927T175345Z
UID:1869-1728903600-1728907200@norriscommunitylibrary.com
SUMMARY:Family Storytime
DESCRIPTION:Kelsie reads themed stories and we color. This week’s theme is Ghosts. This program is designed for Pre-K ages\, but younger & older siblings are also welcome!
URL:https://norriscommunitylibrary.com/event/family-storytime-7
CATEGORIES:Kids,Storytime
ATTACH;FMTTYPE=image/jpeg:https://norriscommunitylibrary.com/wp-content/uploads/2023/07/Family-Storytime-logo.jpg
END:VEVENT
BEGIN:VEVENT
DTSTART;TZID=UTC:20241007T110000
DTEND;TZID=UTC:20241007T120000
DTSTAMP:20260424T054939
CREATED:20240927T175233Z
LAST-MODIFIED:20240927T175233Z
UID:1867-1728298800-1728302400@norriscommunitylibrary.com
SUMMARY:Family Storytime
DESCRIPTION:Kelsie reads themed stories and we color. This week’s theme is Scarecrows. This program is designed for Pre-K ages\, but younger & older siblings are also welcome!
URL:https://norriscommunitylibrary.com/event/family-storytime-6
CATEGORIES:Kids,Storytime
ATTACH;FMTTYPE=image/jpeg:https://norriscommunitylibrary.com/wp-content/uploads/2023/07/Family-Storytime-logo.jpg
END:VEVENT
BEGIN:VEVENT
DTSTART;TZID=UTC:20240930T110000
DTEND;TZID=UTC:20240930T120000
DTSTAMP:20260424T054939
CREATED:20240903T205014Z
LAST-MODIFIED:20240903T205014Z
UID:1805-1727694000-1727697600@norriscommunitylibrary.com
SUMMARY:Family Storytime
DESCRIPTION:Kelsie reads themed stories and we color. This week’s theme is Time. This program is designed for Pre-K ages\, but younger & older siblings are also welcome!
URL:https://norriscommunitylibrary.com/event/family-storytime-5
CATEGORIES:Kids,Storytime
ATTACH;FMTTYPE=image/jpeg:https://norriscommunitylibrary.com/wp-content/uploads/2023/07/Family-Storytime-logo.jpg
END:VEVENT
BEGIN:VEVENT
DTSTART;TZID=UTC:20240923T110000
DTEND;TZID=UTC:20240923T120000
DTSTAMP:20260424T054939
CREATED:20240903T204908Z
LAST-MODIFIED:20240903T204908Z
UID:1803-1727089200-1727092800@norriscommunitylibrary.com
SUMMARY:Family Storytime
DESCRIPTION:Kelsie reads themed stories and we color. This week’s theme is Together. This program is designed for Pre-K ages\, but younger & older siblings are also welcome!
URL:https://norriscommunitylibrary.com/event/family-storytime-4
CATEGORIES:Kids,Storytime
ATTACH;FMTTYPE=image/jpeg:https://norriscommunitylibrary.com/wp-content/uploads/2023/07/Family-Storytime-logo.jpg
END:VEVENT
BEGIN:VEVENT
DTSTART;TZID=UTC:20240916T110000
DTEND;TZID=UTC:20240916T120000
DTSTAMP:20260424T054939
CREATED:20240903T204811Z
LAST-MODIFIED:20240903T204811Z
UID:1801-1726484400-1726488000@norriscommunitylibrary.com
SUMMARY:Family Storytime
DESCRIPTION:Kelsie reads themed stories and we color. This week’s theme is Alone. This program is designed for Pre-K ages\, but younger & older siblings are also welcome!
URL:https://norriscommunitylibrary.com/event/family-storytime-3
CATEGORIES:Kids,Storytime
ATTACH;FMTTYPE=image/jpeg:https://norriscommunitylibrary.com/wp-content/uploads/2023/07/Family-Storytime-logo.jpg
END:VEVENT
BEGIN:VEVENT
DTSTART;TZID=UTC:20240909T110000
DTEND;TZID=UTC:20240909T120000
DTSTAMP:20260424T054939
CREATED:20240903T204704Z
LAST-MODIFIED:20240903T204715Z
UID:1798-1725879600-1725883200@norriscommunitylibrary.com
SUMMARY:Family Storytime
DESCRIPTION:Kelsie reads themed stories and we color. This week’s theme is Home. This program is designed for Pre-K ages\, but younger & older siblings are also welcome!
URL:https://norriscommunitylibrary.com/event/family-storytime-2
CATEGORIES:Kids,Storytime
ATTACH;FMTTYPE=image/jpeg:https://norriscommunitylibrary.com/wp-content/uploads/2023/07/Family-Storytime-logo.jpg
END:VEVENT
BEGIN:VEVENT
DTSTART;TZID=UTC:20240826T110000
DTEND;TZID=UTC:20240826T120000
DTSTAMP:20260424T054939
CREATED:20240730T155527Z
LAST-MODIFIED:20240730T155527Z
UID:1568-1724670000-1724673600@norriscommunitylibrary.com
SUMMARY:Family Story Time
DESCRIPTION:Kelsie reads themed stories and we color. This week’s theme is Flying. This program is designed for Pre-K ages\, but younger & older siblings are also welcome!
URL:https://norriscommunitylibrary.com/event/family-story-time-16
CATEGORIES:Kids,Storytime
ATTACH;FMTTYPE=image/jpeg:https://norriscommunitylibrary.com/wp-content/uploads/2023/07/Family-Storytime-logo.jpg
END:VEVENT
BEGIN:VEVENT
DTSTART;TZID=UTC:20240819T110000
DTEND;TZID=UTC:20240819T120000
DTSTAMP:20260424T054939
CREATED:20240730T155415Z
LAST-MODIFIED:20240730T155415Z
UID:1566-1724065200-1724068800@norriscommunitylibrary.com
SUMMARY:Family Story Time
DESCRIPTION:Kelsie reads themed stories and we color. This week’s theme is Birds. This program is designed for Pre-K ages\, but younger & older siblings are also welcome!
URL:https://norriscommunitylibrary.com/event/family-story-time-15
CATEGORIES:Kids,Storytime
ATTACH;FMTTYPE=image/jpeg:https://norriscommunitylibrary.com/wp-content/uploads/2023/07/Family-Storytime-logo.jpg
END:VEVENT
BEGIN:VEVENT
DTSTART;TZID=UTC:20240812T110000
DTEND;TZID=UTC:20240812T120000
DTSTAMP:20260424T054939
CREATED:20240730T155315Z
LAST-MODIFIED:20240730T155315Z
UID:1562-1723460400-1723464000@norriscommunitylibrary.com
SUMMARY:Family Story Time
DESCRIPTION:Kelsie reads themed stories and we color. This week’s theme is Blue. This program is designed for Pre-K ages\, but younger & older siblings are also welcome!
URL:https://norriscommunitylibrary.com/event/family-story-time-14
CATEGORIES:Kids,Library Events,Storytime
ATTACH;FMTTYPE=image/jpeg:https://norriscommunitylibrary.com/wp-content/uploads/2023/07/Family-Storytime-logo.jpg
END:VEVENT
BEGIN:VEVENT
DTSTART;TZID=UTC:20240805T110000
DTEND;TZID=UTC:20240805T120000
DTSTAMP:20260424T054939
CREATED:20240730T155054Z
LAST-MODIFIED:20240730T155131Z
UID:1557-1722855600-1722859200@norriscommunitylibrary.com
SUMMARY:Family Story Time
DESCRIPTION:Kelsie reads themed stories and we color. This week’s theme is Ocean. This program is designed for Pre-K ages\, but younger & older siblings are also welcome!
URL:https://norriscommunitylibrary.com/event/family-story-time-13
CATEGORIES:Kids,Library Events,Storytime
ATTACH;FMTTYPE=image/jpeg:https://norriscommunitylibrary.com/wp-content/uploads/2023/07/Family-Storytime-logo.jpg
END:VEVENT
BEGIN:VEVENT
DTSTART;TZID=UTC:20240729T110000
DTEND;TZID=UTC:20240729T120000
DTSTAMP:20260424T054939
CREATED:20240618T180859Z
LAST-MODIFIED:20240618T180859Z
UID:1411-1722250800-1722254400@norriscommunitylibrary.com
SUMMARY:Family Story Time
DESCRIPTION:Kelsie reads themed stories and we color. This week’s theme is Sleepy. This program is designed for Pre-K ages\, but younger & older siblings are also welcome!
URL:https://norriscommunitylibrary.com/event/family-story-time-12
CATEGORIES:Kids,Storytime
ATTACH;FMTTYPE=image/jpeg:https://norriscommunitylibrary.com/wp-content/uploads/2023/07/Family-Storytime-logo.jpg
END:VEVENT
BEGIN:VEVENT
DTSTART;TZID=UTC:20240715T110000
DTEND;TZID=UTC:20240715T120000
DTSTAMP:20260424T054939
CREATED:20240618T155454Z
LAST-MODIFIED:20240618T155454Z
UID:1398-1721041200-1721044800@norriscommunitylibrary.com
SUMMARY:Family Storytime: Special Guest Sandy Johnson
DESCRIPTION:Join us for Family Story Time with special guest Sandy Johnson from the Norris City Office! We’ll read a few books then do a coloring page.
URL:https://norriscommunitylibrary.com/event/family-storytime-special-guest-sandy-johnson
CATEGORIES:Kids,Storytime,Summer Reading
ATTACH;FMTTYPE=image/jpeg:https://norriscommunitylibrary.com/wp-content/uploads/2024/06/Sandy-Johnson.jpg
END:VEVENT
BEGIN:VEVENT
DTSTART;TZID=UTC:20240708T110000
DTEND;TZID=UTC:20240708T120000
DTSTAMP:20260424T054939
CREATED:20240608T175244Z
LAST-MODIFIED:20240608T175244Z
UID:1377-1720436400-1720440000@norriscommunitylibrary.com
SUMMARY:Family Story Time: Norris Lions Club
DESCRIPTION:Join us for Family Story Time with a visit from special guests from the Norris Lions Club! We’ll read a story and color.
URL:https://norriscommunitylibrary.com/event/family-story-time-norris-lions-club
CATEGORIES:Kids,Storytime,Summer Reading
ATTACH;FMTTYPE=image/jpeg:https://norriscommunitylibrary.com/wp-content/uploads/2024/06/Storytime-lions-club.jpg
END:VEVENT
BEGIN:VEVENT
DTSTART;TZID=UTC:20240701T110000
DTEND;TZID=UTC:20240701T120000
DTSTAMP:20260424T054939
CREATED:20240608T153637Z
LAST-MODIFIED:20240608T153637Z
UID:1357-1719831600-1719835200@norriscommunitylibrary.com
SUMMARY:Family Story Time: Norris Dam State Park
DESCRIPTION:Join us for Family Storytime with special guests from the Norris Dam State Park!
URL:https://norriscommunitylibrary.com/event/family-story-time-norris-dam-state-park
CATEGORIES:Kids,Storytime,Summer Reading
ATTACH;FMTTYPE=image/jpeg:https://norriscommunitylibrary.com/wp-content/uploads/2024/06/Storytime-norris-dam.jpg
END:VEVENT
BEGIN:VEVENT
DTSTART;TZID=UTC:20240624T110000
DTEND;TZID=UTC:20240624T120000
DTSTAMP:20260424T054939
CREATED:20240531T230516Z
LAST-MODIFIED:20240531T230516Z
UID:1330-1719226800-1719230400@norriscommunitylibrary.com
SUMMARY:Family Storytime: Zoo Knoxville
DESCRIPTION:Join us for Family Storytime with special guests from Zoo Knoxville! This program is great for big and little kids.
URL:https://norriscommunitylibrary.com/event/family-storytime-zoo-knoxville
CATEGORIES:Kids,Storytime,Summer Reading
ATTACH;FMTTYPE=image/png:https://norriscommunitylibrary.com/wp-content/uploads/2024/05/Storytime-zoo-knoxville.png
END:VEVENT
BEGIN:VEVENT
DTSTART;TZID=UTC:20240617T110000
DTEND;TZID=UTC:20240617T120000
DTSTAMP:20260424T054939
CREATED:20240531T221150Z
LAST-MODIFIED:20240531T221150Z
UID:1320-1718622000-1718625600@norriscommunitylibrary.com
SUMMARY:Family Storytime: Guest Reader Marlene Kibler
DESCRIPTION:Join us for family storytime and a special puppet theatre with guest reader Marlene Kibler!
URL:https://norriscommunitylibrary.com/event/family-storytime-guest-reader-marlene-kibler
CATEGORIES:Kids,Storytime,Summer Reading
ATTACH;FMTTYPE=image/png:https://norriscommunitylibrary.com/wp-content/uploads/2024/05/Storytime-Marlene.png
END:VEVENT
BEGIN:VEVENT
DTSTART;TZID=UTC:20240603T110000
DTEND;TZID=UTC:20240603T120000
DTSTAMP:20260424T054939
CREATED:20240531T201848Z
LAST-MODIFIED:20240531T201848Z
UID:1269-1717412400-1717416000@norriscommunitylibrary.com
SUMMARY:Storytime: MUSE Knoxville (Shake\, Rattle\, and Roll!)
DESCRIPTION:Our Storytime event this week is presented by MUSE Knoxville! Our youngest friends will explore animal movement using tactile manipulatives and their bodies through music and games. Includes a read aloud book\, dancing\, games\, and parachute play. This program is designed for young children
URL:https://norriscommunitylibrary.com/event/storytime-muse-knoxville-shake-rattle-and-roll
CATEGORIES:Kids,Storytime,Summer Reading
ATTACH;FMTTYPE=image/png:https://norriscommunitylibrary.com/wp-content/uploads/2024/05/muse-2.png
END:VEVENT
BEGIN:VEVENT
DTSTART;TZID=UTC:20240520T110000
DTEND;TZID=UTC:20240520T120000
DTSTAMP:20260424T054939
CREATED:20240430T152511Z
LAST-MODIFIED:20240430T152511Z
UID:1192-1716202800-1716206400@norriscommunitylibrary.com
SUMMARY:Family Story Time: Opposites
DESCRIPTION:Kelsie reads themed stories and we color. This week’s theme is Opposites. This program is designed for Pre-K ages\, but younger & older siblings are also welcome!
URL:https://norriscommunitylibrary.com/event/family-story-time-opposites
LOCATION:Norris Community Library\, 1 Norris Square\, Norris\, TN\, 37828\, United States
CATEGORIES:Kids,Storytime
ATTACH;FMTTYPE=image/jpeg:https://norriscommunitylibrary.com/wp-content/uploads/2023/07/Family-Storytime-logo.jpg
ORGANIZER;CN="Norris Community Library":MAILTO:questions@norriscommunitylibrary.com
END:VEVENT
BEGIN:VEVENT
DTSTART;TZID=UTC:20240513T110000
DTEND;TZID=UTC:20240513T120000
DTSTAMP:20260424T054939
CREATED:20240430T152342Z
LAST-MODIFIED:20240430T152342Z
UID:1190-1715598000-1715601600@norriscommunitylibrary.com
SUMMARY:Family Story Time: Food
DESCRIPTION:Kelsie reads themed stories and we color. This week’s theme is Food. This program is designed for Pre-K ages\, but younger & older siblings are also welcome!
URL:https://norriscommunitylibrary.com/event/family-story-time-food
LOCATION:Norris Community Library\, 1 Norris Square\, Norris\, TN\, 37828\, United States
CATEGORIES:Kids,Storytime
ATTACH;FMTTYPE=image/jpeg:https://norriscommunitylibrary.com/wp-content/uploads/2023/07/Family-Storytime-logo.jpg
ORGANIZER;CN="Norris Community Library":MAILTO:questions@norriscommunitylibrary.com
END:VEVENT
BEGIN:VEVENT
DTSTART;TZID=UTC:20240506T110000
DTEND;TZID=UTC:20240506T120000
DTSTAMP:20260424T054939
CREATED:20240430T152241Z
LAST-MODIFIED:20240430T152241Z
UID:1188-1714993200-1714996800@norriscommunitylibrary.com
SUMMARY:Family Story Time: Manners
DESCRIPTION:Kelsie reads themed stories and we color. This week’s theme is Manners. This program is designed for Pre-K ages\, but younger & older siblings are also welcome!
URL:https://norriscommunitylibrary.com/event/family-story-time-manners
LOCATION:Norris Community Library\, 1 Norris Square\, Norris\, TN\, 37828\, United States
CATEGORIES:Kids,Storytime
ATTACH;FMTTYPE=image/jpeg:https://norriscommunitylibrary.com/wp-content/uploads/2023/07/Family-Storytime-logo.jpg
ORGANIZER;CN="Norris Community Library":MAILTO:questions@norriscommunitylibrary.com
END:VEVENT
BEGIN:VEVENT
DTSTART;TZID=UTC:20240429T110000
DTEND;TZID=UTC:20240429T120000
DTSTAMP:20260424T054939
CREATED:20240403T181004Z
LAST-MODIFIED:20240403T181034Z
UID:996-1714388400-1714392000@norriscommunitylibrary.com
SUMMARY:Family Story Time: Green
DESCRIPTION:Kelsie reads themed stories and we color. This week’s theme is Green. This program is designed for Pre-K ages\, but younger & older siblings are also welcome!
URL:https://norriscommunitylibrary.com/event/family-story-time-green
CATEGORIES:Kids,Storytime
ATTACH;FMTTYPE=image/jpeg:https://norriscommunitylibrary.com/wp-content/uploads/2023/07/Family-Storytime-logo.jpg
END:VEVENT
BEGIN:VEVENT
DTSTART;TZID=UTC:20240422T110000
DTEND;TZID=UTC:20240422T120000
DTSTAMP:20260424T054939
CREATED:20240403T180716Z
LAST-MODIFIED:20240403T181055Z
UID:994-1713783600-1713787200@norriscommunitylibrary.com
SUMMARY:Family Story Time: Earth Day
DESCRIPTION:Kelsie reads themed stories and we color. This week’s theme is Earth Day. This program is designed for Pre-K ages\, but younger & older siblings are also welcome!
URL:https://norriscommunitylibrary.com/event/family-story-time-earth-day
CATEGORIES:Kids,Storytime
ATTACH;FMTTYPE=image/jpeg:https://norriscommunitylibrary.com/wp-content/uploads/2023/07/Family-Storytime-logo.jpg
END:VEVENT
BEGIN:VEVENT
DTSTART;TZID=UTC:20240415T110000
DTEND;TZID=UTC:20240415T120000
DTSTAMP:20260424T054939
CREATED:20240403T180548Z
LAST-MODIFIED:20240403T180548Z
UID:992-1713178800-1713182400@norriscommunitylibrary.com
SUMMARY:Family Story Time: Spring
DESCRIPTION:Kelsie reads themed stories and we color. This week’s theme is Spring. This program is designed for Pre-K ages\, but younger & older siblings are also welcome!
URL:https://norriscommunitylibrary.com/event/family-story-time-spring
CATEGORIES:Kids,Storytime
ATTACH;FMTTYPE=image/jpeg:https://norriscommunitylibrary.com/wp-content/uploads/2023/07/Family-Storytime-logo.jpg
END:VEVENT
BEGIN:VEVENT
DTSTART;TZID=UTC:20240408T110000
DTEND;TZID=UTC:20240408T120000
DTSTAMP:20260424T054939
CREATED:20240403T180353Z
LAST-MODIFIED:20240403T180353Z
UID:990-1712574000-1712577600@norriscommunitylibrary.com
SUMMARY:Family Story Time: Cows
DESCRIPTION:Kelsie reads themed stories and we color. This week’s theme is Cows. This program is designed for Pre-K ages\, but younger & older siblings are also welcome!
URL:https://norriscommunitylibrary.com/event/family-story-time-cows
CATEGORIES:Kids,Storytime
ATTACH;FMTTYPE=image/jpeg:https://norriscommunitylibrary.com/wp-content/uploads/2023/07/Family-Storytime-logo.jpg
END:VEVENT
BEGIN:VEVENT
DTSTART;TZID=UTC:20240401T110000
DTEND;TZID=UTC:20240401T120000
DTSTAMP:20260424T054939
CREATED:20240403T180223Z
LAST-MODIFIED:20240403T180223Z
UID:988-1711969200-1711972800@norriscommunitylibrary.com
SUMMARY:Family Story Time: Astronauts
DESCRIPTION:Kelsie reads themed stories and we color. This week’s theme is Astronauts. This program is designed for Pre-K ages\, but younger & older siblings are also welcome!
URL:https://norriscommunitylibrary.com/event/family-story-time-astronauts
CATEGORIES:Kids,Storytime
ATTACH;FMTTYPE=image/jpeg:https://norriscommunitylibrary.com/wp-content/uploads/2023/07/Family-Storytime-logo.jpg
END:VEVENT
BEGIN:VEVENT
DTSTART;TZID=UTC:20240325T110000
DTEND;TZID=UTC:20240325T120000
DTSTAMP:20260424T054939
CREATED:20240302T182458Z
LAST-MODIFIED:20240302T182458Z
UID:905-1711364400-1711368000@norriscommunitylibrary.com
SUMMARY:Family Storytime: Easter
DESCRIPTION:Kelsie reads themed stories and we color. This week’s theme is Easter. This program is designed for Pre-K ages\, but younger & older siblings are also welcome!
URL:https://norriscommunitylibrary.com/event/family-storytime-easter
CATEGORIES:Kids,Storytime
ATTACH;FMTTYPE=image/jpeg:https://norriscommunitylibrary.com/wp-content/uploads/2023/07/Family-Storytime-logo.jpg
END:VEVENT
BEGIN:VEVENT
DTSTART;TZID=UTC:20240318T110000
DTEND;TZID=UTC:20240318T120000
DTSTAMP:20260424T054939
CREATED:20240302T182350Z
LAST-MODIFIED:20240302T182350Z
UID:903-1710759600-1710763200@norriscommunitylibrary.com
SUMMARY:Family Storytime: Space
DESCRIPTION:Kelsie reads themed stories and we color. This week’s theme is Space. This program is designed for Pre-K ages\, but younger & older siblings are also welcome!
URL:https://norriscommunitylibrary.com/event/family-storytime-space
CATEGORIES:Kids,Storytime
ATTACH;FMTTYPE=image/jpeg:https://norriscommunitylibrary.com/wp-content/uploads/2023/07/Family-Storytime-logo.jpg
END:VEVENT
BEGIN:VEVENT
DTSTART;TZID=UTC:20240311T110000
DTEND;TZID=UTC:20240311T120000
DTSTAMP:20260424T054939
CREATED:20240302T182255Z
LAST-MODIFIED:20240302T182255Z
UID:901-1710154800-1710158400@norriscommunitylibrary.com
SUMMARY:Family Storytime: Moon
DESCRIPTION:Kelsie reads themed stories and we color. This week’s theme is Moon. This program is designed for Pre-K ages\, but younger & older siblings are also welcome!
URL:https://norriscommunitylibrary.com/event/family-storytime-moon
CATEGORIES:Kids,Storytime
ATTACH;FMTTYPE=image/jpeg:https://norriscommunitylibrary.com/wp-content/uploads/2023/07/Family-Storytime-logo.jpg
END:VEVENT
BEGIN:VEVENT
DTSTART;TZID=UTC:20240304T110000
DTEND;TZID=UTC:20240304T120000
DTSTAMP:20260424T054939
CREATED:20240302T182143Z
LAST-MODIFIED:20240302T182214Z
UID:897-1709550000-1709553600@norriscommunitylibrary.com
SUMMARY:Family Storytime: Bugs
DESCRIPTION:Kelsie reads themed stories and we color. This week’s theme is Bugs. This program is designed for Pre-K ages\, but younger & older siblings are also welcome!
URL:https://norriscommunitylibrary.com/event/family-storytime
CATEGORIES:Kids,Storytime
ATTACH;FMTTYPE=image/jpeg:https://norriscommunitylibrary.com/wp-content/uploads/2023/07/Family-Storytime-logo.jpg
END:VEVENT
BEGIN:VEVENT
DTSTART;TZID=UTC:20240226T110000
DTEND;TZID=UTC:20240226T120000
DTSTAMP:20260424T054939
CREATED:20240130T234420Z
LAST-MODIFIED:20240130T234420Z
UID:777-1708945200-1708948800@norriscommunitylibrary.com
SUMMARY:Family Storytime: Frogs
DESCRIPTION:Kelsie reads themed stories and we color. This week’s theme is Frogs. This program is designed for Pre-K ages\, but younger & older siblings are also welcome!
URL:https://norriscommunitylibrary.com/event/family-storytime-frogs
CATEGORIES:Kids,Storytime
ATTACH;FMTTYPE=image/jpeg:https://norriscommunitylibrary.com/wp-content/uploads/2023/07/Family-Storytime-logo.jpg
END:VEVENT
END:VCALENDAR