BEGIN:VCALENDAR
VERSION:2.0
PRODID:-//Norris Community Library - ECPv6.15.20//NONSGML v1.0//EN
CALSCALE:GREGORIAN
METHOD:PUBLISH
X-ORIGINAL-URL:https://norriscommunitylibrary.com
X-WR-CALDESC:Events for Norris Community Library
REFRESH-INTERVAL;VALUE=DURATION:PT1H
X-Robots-Tag:noindex
X-PUBLISHED-TTL:PT1H
BEGIN:VTIMEZONE
TZID:UTC
BEGIN:STANDARD
TZOFFSETFROM:+0000
TZOFFSETTO:+0000
TZNAME:UTC
DTSTART:20230101T000000
END:STANDARD
END:VTIMEZONE
BEGIN:VEVENT
DTSTART;TZID=UTC:20250714T110000
DTEND;TZID=UTC:20250714T120000
DTSTAMP:20260424T011242
CREATED:20250516T204913Z
LAST-MODIFIED:20250516T204913Z
UID:3562-1752490800-1752494400@norriscommunitylibrary.com
SUMMARY:Family Storytime
DESCRIPTION:Kelsie reads themed stories and we color. This week’s theme is Artist. This program is designed for Pre-K ages\, but younger & older siblings are also welcome!
URL:https://norriscommunitylibrary.com/event/family-storytime-39
CATEGORIES:Kids,Storytime,Summer Reading
ATTACH;FMTTYPE=image/jpeg:https://norriscommunitylibrary.com/wp-content/uploads/2023/07/Family-Storytime-logo.jpg
END:VEVENT
BEGIN:VEVENT
DTSTART;TZID=UTC:20250707T110000
DTEND;TZID=UTC:20250707T120000
DTSTAMP:20260424T011242
CREATED:20250516T204555Z
LAST-MODIFIED:20250516T204630Z
UID:3560-1751886000-1751889600@norriscommunitylibrary.com
SUMMARY:Family Storytime
DESCRIPTION:Kelsie reads themed stories and we color. This week’s theme is Colors. This program is designed for Pre-K ages\, but younger & older siblings are also welcome!
URL:https://norriscommunitylibrary.com/event/family-storytime-38
CATEGORIES:Kids,Storytime,Summer Reading
ATTACH;FMTTYPE=image/jpeg:https://norriscommunitylibrary.com/wp-content/uploads/2023/07/Family-Storytime-logo.jpg
END:VEVENT
BEGIN:VEVENT
DTSTART;TZID=UTC:20250630T110000
DTEND;TZID=UTC:20250630T120000
DTSTAMP:20260424T011242
CREATED:20250516T184120Z
LAST-MODIFIED:20250516T194827Z
UID:3499-1751281200-1751284800@norriscommunitylibrary.com
SUMMARY:Family Storytime
DESCRIPTION:Kelsie reads themed stories and we color. This week’s theme is Messes. This program is designed for Pre-K ages\, but younger & older siblings are also welcome!
URL:https://norriscommunitylibrary.com/event/family-storytime-37
CATEGORIES:Kids,Storytime,Summer Reading
ATTACH;FMTTYPE=image/jpeg:https://norriscommunitylibrary.com/wp-content/uploads/2023/07/Family-Storytime-logo.jpg
END:VEVENT
BEGIN:VEVENT
DTSTART;TZID=UTC:20250623T110000
DTEND;TZID=UTC:20250623T120000
DTSTAMP:20260424T011242
CREATED:20250516T184010Z
LAST-MODIFIED:20250529T142429Z
UID:3497-1750676400-1750680000@norriscommunitylibrary.com
SUMMARY:Family Storytime: Hominy Mamas!
DESCRIPTION:The Hominy Mamas will be performing live at the library on Monday\, June 23rd with fun music and dancing for the littles! Perfect for ages 6 and under\, kids and parents can join us at 11am.
URL:https://norriscommunitylibrary.com/event/family-storytime-36
CATEGORIES:Kids,Storytime,Summer Reading
ATTACH;FMTTYPE=image/png:https://norriscommunitylibrary.com/wp-content/uploads/2025/05/hominy-mamas-2025.png
END:VEVENT
BEGIN:VEVENT
DTSTART;TZID=UTC:20250616T110000
DTEND;TZID=UTC:20250616T120000
DTSTAMP:20260424T011242
CREATED:20250516T183539Z
LAST-MODIFIED:20250516T194326Z
UID:3495-1750071600-1750075200@norriscommunitylibrary.com
SUMMARY:Family Storytime
DESCRIPTION:Kelsie reads themed stories and we color. This week’s theme is Different. This program is designed for Pre-K ages\, but younger & older siblings are also welcome!
URL:https://norriscommunitylibrary.com/event/family-storytime-35
CATEGORIES:Kids,Storytime,Summer Reading
ATTACH;FMTTYPE=image/jpeg:https://norriscommunitylibrary.com/wp-content/uploads/2023/07/Family-Storytime-logo.jpg
END:VEVENT
BEGIN:VEVENT
DTSTART;TZID=UTC:20250609T110000
DTEND;TZID=UTC:20250609T120000
DTSTAMP:20260424T011242
CREATED:20250516T183435Z
LAST-MODIFIED:20250516T194142Z
UID:3493-1749466800-1749470400@norriscommunitylibrary.com
SUMMARY:Family Storytime
DESCRIPTION:Kelsie reads themed stories and we color. This week’s theme is Art and Words. This program is designed for Pre-K ages\, but younger & older siblings are also welcome!
URL:https://norriscommunitylibrary.com/event/family-storytime-34
CATEGORIES:Kids,Storytime,Summer Reading
ATTACH;FMTTYPE=image/jpeg:https://norriscommunitylibrary.com/wp-content/uploads/2023/07/Family-Storytime-logo.jpg
END:VEVENT
BEGIN:VEVENT
DTSTART;TZID=UTC:20250602T110000
DTEND;TZID=UTC:20250602T120000
DTSTAMP:20260424T011242
CREATED:20250516T183315Z
LAST-MODIFIED:20250516T183315Z
UID:3491-1748862000-1748865600@norriscommunitylibrary.com
SUMMARY:Family Storytime
DESCRIPTION:Kelsie reads themed stories and we color. This week’s theme is Hats. This program is designed for Pre-K ages\, but younger & older siblings are also welcome!
URL:https://norriscommunitylibrary.com/event/family-storytime-33
CATEGORIES:Kids,Storytime
ATTACH;FMTTYPE=image/jpeg:https://norriscommunitylibrary.com/wp-content/uploads/2023/07/Family-Storytime-logo.jpg
END:VEVENT
BEGIN:VEVENT
DTSTART;TZID=UTC:20250519T110000
DTEND;TZID=UTC:20250519T120000
DTSTAMP:20260424T011242
CREATED:20250410T141050Z
LAST-MODIFIED:20250410T141050Z
UID:3141-1747652400-1747656000@norriscommunitylibrary.com
SUMMARY:Family Storytime
DESCRIPTION:Kelsie reads themed stories and we color. This week’s theme is Books. This program is designed for Pre-K ages\, but younger & older siblings are also welcome!
URL:https://norriscommunitylibrary.com/event/family-storytime-32
CATEGORIES:Kids,Storytime
ATTACH;FMTTYPE=image/jpeg:https://norriscommunitylibrary.com/wp-content/uploads/2023/07/Family-Storytime-logo.jpg
END:VEVENT
BEGIN:VEVENT
DTSTART;TZID=UTC:20250512T110000
DTEND;TZID=UTC:20250512T120000
DTSTAMP:20260424T011242
CREATED:20250410T140936Z
LAST-MODIFIED:20250410T140936Z
UID:3139-1747047600-1747051200@norriscommunitylibrary.com
SUMMARY:Family Storytime
DESCRIPTION:Kelsie reads themed stories and we color. This week’s theme is Ducks. This program is designed for Pre-K ages\, but younger & older siblings are also welcome!
URL:https://norriscommunitylibrary.com/event/family-storytime-31
CATEGORIES:Kids,Storytime
ATTACH;FMTTYPE=image/jpeg:https://norriscommunitylibrary.com/wp-content/uploads/2023/07/Family-Storytime-logo.jpg
END:VEVENT
BEGIN:VEVENT
DTSTART;TZID=UTC:20250505T110000
DTEND;TZID=UTC:20250505T120000
DTSTAMP:20260424T011242
CREATED:20250410T140836Z
LAST-MODIFIED:20250410T140836Z
UID:3137-1746442800-1746446400@norriscommunitylibrary.com
SUMMARY:Family Storytime
DESCRIPTION:Kelsie reads themed stories and we color. This week’s theme is Unicorns. This program is designed for Pre-K ages\, but younger & older siblings are also welcome!
URL:https://norriscommunitylibrary.com/event/family-storytime-30
CATEGORIES:Kids,Storytime
ATTACH;FMTTYPE=image/jpeg:https://norriscommunitylibrary.com/wp-content/uploads/2023/07/Family-Storytime-logo.jpg
END:VEVENT
BEGIN:VEVENT
DTSTART;TZID=UTC:20250428T110000
DTEND;TZID=UTC:20250428T120000
DTSTAMP:20260424T011242
CREATED:20250310T203651Z
LAST-MODIFIED:20250310T203651Z
UID:2861-1745838000-1745841600@norriscommunitylibrary.com
SUMMARY:Family Storytime
DESCRIPTION:Kelsie reads themed stories and we color. This week’s theme is Music. This program is designed for Pre-K ages\, but younger & older siblings are also welcome!
URL:https://norriscommunitylibrary.com/event/family-storytime-29
CATEGORIES:Kids,Storytime
ATTACH;FMTTYPE=image/jpeg:https://norriscommunitylibrary.com/wp-content/uploads/2023/07/Family-Storytime-logo.jpg
END:VEVENT
BEGIN:VEVENT
DTSTART;TZID=UTC:20250421T110000
DTEND;TZID=UTC:20250421T120000
DTSTAMP:20260424T011242
CREATED:20250310T203533Z
LAST-MODIFIED:20250310T203533Z
UID:2859-1745233200-1745236800@norriscommunitylibrary.com
SUMMARY:Family Storytime
DESCRIPTION:Kelsie reads themed stories and we color. This week’s theme is Mice. This program is designed for Pre-K ages\, but younger & older siblings are also welcome!
URL:https://norriscommunitylibrary.com/event/family-storytime-28
CATEGORIES:Kids,Storytime
ATTACH;FMTTYPE=image/jpeg:https://norriscommunitylibrary.com/wp-content/uploads/2023/07/Family-Storytime-logo.jpg
END:VEVENT
BEGIN:VEVENT
DTSTART;TZID=UTC:20250415T143000
DTEND;TZID=UTC:20250415T153000
DTSTAMP:20260424T011242
CREATED:20250310T202538Z
LAST-MODIFIED:20250320T151343Z
UID:2850-1744727400-1744731000@norriscommunitylibrary.com
SUMMARY:Easter Egg Hunt!
DESCRIPTION:Celebrate Easter with us at the library! Tuesday\, April 15th\, we invite kids to come listen to some picture book Easter stories before heading outside to find some Easter eggs! Story time will start at 2:30pm. All kids and their parents welcome!(In case of rain\, the egg hunt will move inside the library.)
URL:https://norriscommunitylibrary.com/event/easter-egg-hunt-3
CATEGORIES:Kids,Storytime
END:VEVENT
BEGIN:VEVENT
DTSTART;TZID=UTC:20250414T110000
DTEND;TZID=UTC:20250414T120000
DTSTAMP:20260424T011242
CREATED:20250310T203425Z
LAST-MODIFIED:20250310T203425Z
UID:2857-1744628400-1744632000@norriscommunitylibrary.com
SUMMARY:Family Storytime
DESCRIPTION:Kelsie reads themed stories and we color. This week’s theme is Birds. This program is designed for Pre-K ages\, but younger & older siblings are also welcome!
URL:https://norriscommunitylibrary.com/event/family-storytime-27
CATEGORIES:Kids,Storytime
ATTACH;FMTTYPE=image/jpeg:https://norriscommunitylibrary.com/wp-content/uploads/2023/07/Family-Storytime-logo.jpg
END:VEVENT
BEGIN:VEVENT
DTSTART;TZID=UTC:20250407T110000
DTEND;TZID=UTC:20250407T120000
DTSTAMP:20260424T011242
CREATED:20250310T203311Z
LAST-MODIFIED:20250310T203311Z
UID:2855-1744023600-1744027200@norriscommunitylibrary.com
SUMMARY:Family Storytime
DESCRIPTION:Kelsie reads themed stories and we color. This week’s theme is Spring. This program is designed for Pre-K ages\, but younger & older siblings are also welcome!
URL:https://norriscommunitylibrary.com/event/family-storytime-26
CATEGORIES:Kids,Storytime
ATTACH;FMTTYPE=image/jpeg:https://norriscommunitylibrary.com/wp-content/uploads/2023/07/Family-Storytime-logo.jpg
END:VEVENT
BEGIN:VEVENT
DTSTART;TZID=UTC:20250331T110000
DTEND;TZID=UTC:20250331T120000
DTSTAMP:20260424T011242
CREATED:20250213T220017Z
LAST-MODIFIED:20250213T220017Z
UID:2670-1743418800-1743422400@norriscommunitylibrary.com
SUMMARY:Family Storytime
DESCRIPTION:Kelsie reads themed stories and we color. This week’s theme is Plants. This program is designed for Pre-K ages\, but younger & older siblings are also welcome!
URL:https://norriscommunitylibrary.com/event/family-storytime-25
CATEGORIES:Kids,Storytime
ATTACH;FMTTYPE=image/jpeg:https://norriscommunitylibrary.com/wp-content/uploads/2023/07/Family-Storytime-logo.jpg
END:VEVENT
BEGIN:VEVENT
DTSTART;TZID=UTC:20250324T110000
DTEND;TZID=UTC:20250324T120000
DTSTAMP:20260424T011242
CREATED:20250213T215931Z
LAST-MODIFIED:20250213T215931Z
UID:2668-1742814000-1742817600@norriscommunitylibrary.com
SUMMARY:Family Storytime
DESCRIPTION:Kelsie reads themed stories and we color. This week’s theme is Pirates. This program is designed for Pre-K ages\, but younger & older siblings are also welcome!
URL:https://norriscommunitylibrary.com/event/family-storytime-24
CATEGORIES:Kids,Storytime
ATTACH;FMTTYPE=image/jpeg:https://norriscommunitylibrary.com/wp-content/uploads/2023/07/Family-Storytime-logo.jpg
END:VEVENT
BEGIN:VEVENT
DTSTART;TZID=UTC:20250317T110000
DTEND;TZID=UTC:20250317T120000
DTSTAMP:20260424T011242
CREATED:20250213T215836Z
LAST-MODIFIED:20250213T215836Z
UID:2666-1742209200-1742212800@norriscommunitylibrary.com
SUMMARY:Family Storytime
DESCRIPTION:Kelsie reads themed stories and we color. This week’s theme is Hair. This program is designed for Pre-K ages\, but younger & older siblings are also welcome!
URL:https://norriscommunitylibrary.com/event/family-storytime-23
CATEGORIES:Kids,Storytime
ATTACH;FMTTYPE=image/jpeg:https://norriscommunitylibrary.com/wp-content/uploads/2023/07/Family-Storytime-logo.jpg
END:VEVENT
BEGIN:VEVENT
DTSTART;TZID=UTC:20250310T110000
DTEND;TZID=UTC:20250310T120000
DTSTAMP:20260424T011242
CREATED:20250213T215750Z
LAST-MODIFIED:20250213T215750Z
UID:2664-1741604400-1741608000@norriscommunitylibrary.com
SUMMARY:Family Storytime
DESCRIPTION:Kelsie reads themed stories and we color. This week’s theme is Fish. This program is designed for Pre-K ages\, but younger & older siblings are also welcome!
URL:https://norriscommunitylibrary.com/event/family-storytime-22
CATEGORIES:Kids,Storytime
ATTACH;FMTTYPE=image/jpeg:https://norriscommunitylibrary.com/wp-content/uploads/2023/07/Family-Storytime-logo.jpg
END:VEVENT
BEGIN:VEVENT
DTSTART;TZID=UTC:20250303T110000
DTEND;TZID=UTC:20250303T120000
DTSTAMP:20260424T011242
CREATED:20250213T215656Z
LAST-MODIFIED:20250213T215656Z
UID:2662-1740999600-1741003200@norriscommunitylibrary.com
SUMMARY:Family Storytime
DESCRIPTION:Kelsie reads themed stories and we color. This week’s theme is Laugh. This program is designed for Pre-K ages\, but younger & older siblings are also welcome!
URL:https://norriscommunitylibrary.com/event/family-storytime-21
CATEGORIES:Kids,Storytime
ATTACH;FMTTYPE=image/jpeg:https://norriscommunitylibrary.com/wp-content/uploads/2023/07/Family-Storytime-logo.jpg
END:VEVENT
BEGIN:VEVENT
DTSTART;TZID=UTC:20250224T110000
DTEND;TZID=UTC:20250224T120000
DTSTAMP:20260424T011242
CREATED:20250128T190301Z
LAST-MODIFIED:20250128T190301Z
UID:2599-1740394800-1740398400@norriscommunitylibrary.com
SUMMARY:Family Storytime
DESCRIPTION:Kelsie reads themed stories and we color. This week’s theme is Different. This program is designed for Pre-K ages\, but younger & older siblings are also welcome!
URL:https://norriscommunitylibrary.com/event/family-storytime-20
CATEGORIES:Kids,Storytime
ATTACH;FMTTYPE=image/jpeg:https://norriscommunitylibrary.com/wp-content/uploads/2023/07/Family-Storytime-logo.jpg
END:VEVENT
BEGIN:VEVENT
DTSTART;TZID=UTC:20250210T110000
DTEND;TZID=UTC:20250210T120000
DTSTAMP:20260424T011242
CREATED:20250128T190153Z
LAST-MODIFIED:20250128T190153Z
UID:2597-1739185200-1739188800@norriscommunitylibrary.com
SUMMARY:Family Storytime
DESCRIPTION:Kelsie reads themed stories and we color. This week’s theme is Boring. This program is designed for Pre-K ages\, but younger & older siblings are also welcome!
URL:https://norriscommunitylibrary.com/event/family-storytime-19
CATEGORIES:Kids,Storytime
ATTACH;FMTTYPE=image/jpeg:https://norriscommunitylibrary.com/wp-content/uploads/2023/07/Family-Storytime-logo.jpg
END:VEVENT
BEGIN:VEVENT
DTSTART;TZID=UTC:20250203T110000
DTEND;TZID=UTC:20250203T120000
DTSTAMP:20260424T011242
CREATED:20250128T190038Z
LAST-MODIFIED:20250128T190038Z
UID:2595-1738580400-1738584000@norriscommunitylibrary.com
SUMMARY:Family Storytime
DESCRIPTION:Kelsie reads themed stories and we color. This week’s theme is Birthdays. This program is designed for Pre-K ages\, but younger & older siblings are also welcome!
URL:https://norriscommunitylibrary.com/event/family-storytime-18
CATEGORIES:Kids,Storytime
ATTACH;FMTTYPE=image/jpeg:https://norriscommunitylibrary.com/wp-content/uploads/2023/07/Family-Storytime-logo.jpg
END:VEVENT
BEGIN:VEVENT
DTSTART;TZID=UTC:20250127T110000
DTEND;TZID=UTC:20250127T113000
DTSTAMP:20260424T011242
CREATED:20250102T153917Z
LAST-MODIFIED:20250102T153917Z
UID:2487-1737975600-1737977400@norriscommunitylibrary.com
SUMMARY:Family Storytime
DESCRIPTION:Kelsie reads themed stories and we color. This week’s theme is Mistakes. This program is designed for Pre-K ages\, but younger & older siblings are also welcome!
URL:https://norriscommunitylibrary.com/event/family-storytime-17
CATEGORIES:Kids,Storytime
ATTACH;FMTTYPE=image/jpeg:https://norriscommunitylibrary.com/wp-content/uploads/2023/07/Family-Storytime-logo.jpg
END:VEVENT
BEGIN:VEVENT
DTSTART;TZID=UTC:20250113T110000
DTEND;TZID=UTC:20250113T113000
DTSTAMP:20260424T011242
CREATED:20250102T151430Z
LAST-MODIFIED:20250102T151430Z
UID:2469-1736766000-1736767800@norriscommunitylibrary.com
SUMMARY:Family Storytime
DESCRIPTION:Kelsie reads themed stories and we color. This week’s theme is Siblings. This program is designed for Pre-K ages\, but younger & older siblings are also welcome!
URL:https://norriscommunitylibrary.com/event/family-storytime-16
CATEGORIES:Kids,Storytime
ATTACH;FMTTYPE=image/jpeg:https://norriscommunitylibrary.com/wp-content/uploads/2023/07/Family-Storytime-logo.jpg
END:VEVENT
BEGIN:VEVENT
DTSTART;TZID=UTC:20250106T110000
DTEND;TZID=UTC:20250106T113000
DTSTAMP:20260424T011242
CREATED:20250102T150332Z
LAST-MODIFIED:20250102T150332Z
UID:2457-1736161200-1736163000@norriscommunitylibrary.com
SUMMARY:Family Storytime
DESCRIPTION:Kelsie reads themed stories and we color. This week’s theme is Winter. This program is designed for Pre-K ages\, but younger & older siblings are also welcome!
URL:https://norriscommunitylibrary.com/event/family-storytime-15
CATEGORIES:Kids,Storytime
ATTACH;FMTTYPE=image/jpeg:https://norriscommunitylibrary.com/wp-content/uploads/2023/07/Family-Storytime-logo.jpg
END:VEVENT
BEGIN:VEVENT
DTSTART;TZID=UTC:20241230T110000
DTEND;TZID=UTC:20241230T120000
DTSTAMP:20260424T011242
CREATED:20241203T193245Z
LAST-MODIFIED:20241203T193245Z
UID:2375-1735556400-1735560000@norriscommunitylibrary.com
SUMMARY:Family Storytime
DESCRIPTION:Kelsie reads themed stories and we color. This week’s theme is Sharing. This program is designed for Pre-K ages\, but younger & older siblings are also welcome!
URL:https://norriscommunitylibrary.com/event/family-storytime-14
CATEGORIES:Kids,Storytime
ATTACH;FMTTYPE=image/jpeg:https://norriscommunitylibrary.com/wp-content/uploads/2023/07/Family-Storytime-logo.jpg
END:VEVENT
BEGIN:VEVENT
DTSTART;TZID=UTC:20241223T110000
DTEND;TZID=UTC:20241223T120000
DTSTAMP:20260424T011242
CREATED:20241203T193135Z
LAST-MODIFIED:20241203T193135Z
UID:2373-1734951600-1734955200@norriscommunitylibrary.com
SUMMARY:Family Storytime
DESCRIPTION:Kelsie reads themed stories and we color. This week’s theme is Holidays. This program is designed for Pre-K ages\, but younger & older siblings are also welcome!
URL:https://norriscommunitylibrary.com/event/family-storytime-13
CATEGORIES:Kids,Storytime
ATTACH;FMTTYPE=image/jpeg:https://norriscommunitylibrary.com/wp-content/uploads/2023/07/Family-Storytime-logo.jpg
END:VEVENT
BEGIN:VEVENT
DTSTART;TZID=UTC:20241216T110000
DTEND;TZID=UTC:20241216T120000
DTSTAMP:20260424T011242
CREATED:20241203T193018Z
LAST-MODIFIED:20241203T193018Z
UID:2371-1734346800-1734350400@norriscommunitylibrary.com
SUMMARY:Family Storytime
DESCRIPTION:Kelsie reads themed stories and we color. This week’s theme is Sweets. This program is designed for Pre-K ages\, but younger & older siblings are also welcome!
URL:https://norriscommunitylibrary.com/event/family-storytime-12
CATEGORIES:Kids,Storytime
ATTACH;FMTTYPE=image/jpeg:https://norriscommunitylibrary.com/wp-content/uploads/2023/07/Family-Storytime-logo.jpg
END:VEVENT
BEGIN:VEVENT
DTSTART;TZID=UTC:20241209T110000
DTEND;TZID=UTC:20241209T120000
DTSTAMP:20260424T011242
CREATED:20241203T190506Z
LAST-MODIFIED:20241203T190610Z
UID:2346-1733742000-1733745600@norriscommunitylibrary.com
SUMMARY:Family Storytime
DESCRIPTION:Kelsie reads themed stories and we color. This week’s theme is Snow. This program is designed for Pre-K ages\, but younger & older siblings are also welcome!
URL:https://norriscommunitylibrary.com/event/storytime
CATEGORIES:Kids,Storytime
ATTACH;FMTTYPE=image/jpeg:https://norriscommunitylibrary.com/wp-content/uploads/2023/07/Family-Storytime-logo.jpg
END:VEVENT
END:VCALENDAR