BEGIN:VCALENDAR
VERSION:2.0
PRODID:-//Norris Community Library - ECPv6.15.20//NONSGML v1.0//EN
CALSCALE:GREGORIAN
METHOD:PUBLISH
X-WR-CALNAME:Norris Community Library
X-ORIGINAL-URL:https://norriscommunitylibrary.com
X-WR-CALDESC:Events for Norris Community Library
REFRESH-INTERVAL;VALUE=DURATION:PT1H
X-Robots-Tag:noindex
X-PUBLISHED-TTL:PT1H
BEGIN:VTIMEZONE
TZID:UTC
BEGIN:STANDARD
TZOFFSETFROM:+0000
TZOFFSETTO:+0000
TZNAME:UTC
DTSTART:20220101T000000
END:STANDARD
END:VTIMEZONE
BEGIN:VEVENT
DTSTART;TZID=UTC:20230814T110000
DTEND;TZID=UTC:20230814T120000
DTSTAMP:20260424T114347
CREATED:20230727T155159Z
LAST-MODIFIED:20230727T155159Z
UID:313-1692010800-1692014400@norriscommunitylibrary.com
SUMMARY:Family Story Time
DESCRIPTION:Kelsie reads themed stories and we color. This week’s theme is Hugs. This program is designed for Pre-K ages\, but younger & older siblings are also welcome!
URL:https://norriscommunitylibrary.com/event/family-story-time-2
CATEGORIES:Kids,Storytime
ATTACH;FMTTYPE=image/jpeg:https://norriscommunitylibrary.com/wp-content/uploads/2023/07/Family-Storytime-flyer.jpg
END:VEVENT
END:VCALENDAR