BEGIN:VCALENDAR
VERSION:2.0
PRODID:-//Norris Community Library - ECPv6.15.20//NONSGML v1.0//EN
CALSCALE:GREGORIAN
METHOD:PUBLISH
X-ORIGINAL-URL:https://norriscommunitylibrary.com
X-WR-CALDESC:Events for Norris Community Library
REFRESH-INTERVAL;VALUE=DURATION:PT1H
X-Robots-Tag:noindex
X-PUBLISHED-TTL:PT1H
BEGIN:VTIMEZONE
TZID:UTC
BEGIN:STANDARD
TZOFFSETFROM:+0000
TZOFFSETTO:+0000
TZNAME:UTC
DTSTART:20220101T000000
END:STANDARD
END:VTIMEZONE
BEGIN:VEVENT
DTSTART;TZID=UTC:20231211T110000
DTEND;TZID=UTC:20231211T120000
DTSTAMP:20260424T102647
CREATED:20231202T172638Z
LAST-MODIFIED:20231202T172638Z
UID:675-1702292400-1702296000@norriscommunitylibrary.com
SUMMARY:Family Storytime: Winter
DESCRIPTION:Kelsie reads themed stories and we color. This week’s theme is Winter. This program is designed for Pre-K ages\, but younger & older siblings are also welcome!
URL:https://norriscommunitylibrary.com/event/family-storytime-winter
CATEGORIES:Kids,Storytime
ATTACH;FMTTYPE=image/jpeg:https://norriscommunitylibrary.com/wp-content/uploads/2023/07/Family-Storytime-logo.jpg
END:VEVENT
BEGIN:VEVENT
DTSTART;TZID=UTC:20231204T110000
DTEND;TZID=UTC:20231204T120000
DTSTAMP:20260424T102647
CREATED:20231202T172502Z
LAST-MODIFIED:20231202T172502Z
UID:673-1701687600-1701691200@norriscommunitylibrary.com
SUMMARY:Family Storytime: Achoo!
DESCRIPTION:Kelsie reads themed stories and we color. This week’s theme is Achoo. This program is designed for Pre-K ages\, but younger & older siblings are also welcome!
URL:https://norriscommunitylibrary.com/event/family-storytime-achoo
CATEGORIES:Kids,Storytime
ATTACH;FMTTYPE=image/jpeg:https://norriscommunitylibrary.com/wp-content/uploads/2023/07/Family-Storytime-logo.jpg
END:VEVENT
BEGIN:VEVENT
DTSTART;TZID=UTC:20231024T110000
DTEND;TZID=UTC:20231024T120000
DTSTAMP:20260424T102647
CREATED:20230928T223619Z
LAST-MODIFIED:20230928T224139Z
UID:562-1698145200-1698148800@norriscommunitylibrary.com
SUMMARY:Family Story Time
DESCRIPTION:Kelsie reads themed stories and we color. This week’s theme is Ghosts. This program is designed for Pre-K ages\, but younger & older siblings are also welcome!
URL:https://norriscommunitylibrary.com/event/family-story-time-11
CATEGORIES:Kids,Storytime
ATTACH;FMTTYPE=image/jpeg:https://norriscommunitylibrary.com/wp-content/uploads/2023/07/Family-Storytime-logo.jpg
END:VEVENT
BEGIN:VEVENT
DTSTART;TZID=UTC:20231016T110000
DTEND;TZID=UTC:20231016T120000
DTSTAMP:20260424T102647
CREATED:20230928T223519Z
LAST-MODIFIED:20230928T224116Z
UID:560-1697454000-1697457600@norriscommunitylibrary.com
SUMMARY:Family Story Time
DESCRIPTION:Kelsie reads themed stories and we color. This week’s theme is Fall. This program is designed for Pre-K ages\, but younger & older siblings are also welcome!
URL:https://norriscommunitylibrary.com/event/family-story-time-10
CATEGORIES:Kids,Storytime
ATTACH;FMTTYPE=image/jpeg:https://norriscommunitylibrary.com/wp-content/uploads/2023/07/Family-Storytime-logo.jpg
END:VEVENT
BEGIN:VEVENT
DTSTART;TZID=UTC:20231009T153000
DTEND;TZID=UTC:20231009T163000
DTSTAMP:20260424T102647
CREATED:20230928T223856Z
LAST-MODIFIED:20230928T224358Z
UID:566-1696865400-1696869000@norriscommunitylibrary.com
SUMMARY:Project Kid
DESCRIPTION:Project Kid is a program for ages 6-12 that focuses on project-based activities for kids to build skills like collaboration\, design\, creative thinking\, and more! We will do a new project each month. No fees or RSVPs are required for this program. Project Kid is scheduled every Monday from 3:30-4:30pm.
URL:https://norriscommunitylibrary.com/event/project-kid-3
CATEGORIES:Kids,Storytime
ATTACH;FMTTYPE=image/jpeg:https://norriscommunitylibrary.com/wp-content/uploads/2023/07/Project-Kid.jpg
END:VEVENT
BEGIN:VEVENT
DTSTART;TZID=UTC:20231009T110000
DTEND;TZID=UTC:20231009T120000
DTSTAMP:20260424T102647
CREATED:20230928T223437Z
LAST-MODIFIED:20230928T223931Z
UID:558-1696849200-1696852800@norriscommunitylibrary.com
SUMMARY:Family Story Time
DESCRIPTION:Kelsie reads themed stories and we color. This week’s theme is Siblings. This program is designed for Pre-K ages\, but younger & older siblings are also welcome!
URL:https://norriscommunitylibrary.com/event/family-story-time-9
CATEGORIES:Storytime
ATTACH;FMTTYPE=image/jpeg:https://norriscommunitylibrary.com/wp-content/uploads/2023/07/Family-Storytime-logo.jpg
END:VEVENT
BEGIN:VEVENT
DTSTART;TZID=UTC:20231002T110000
DTEND;TZID=UTC:20231002T120000
DTSTAMP:20260424T102647
CREATED:20230928T223336Z
LAST-MODIFIED:20230928T223336Z
UID:556-1696244400-1696248000@norriscommunitylibrary.com
SUMMARY:Family Story Time
DESCRIPTION:Kelsie reads themed stories and we color. This week’s theme is Pumpkins. This program is designed for Pre-K ages\, but younger & older siblings are also welcome!
URL:https://norriscommunitylibrary.com/event/family-story-time-8
CATEGORIES:Storytime
ATTACH;FMTTYPE=image/jpeg:https://norriscommunitylibrary.com/wp-content/uploads/2023/07/Family-Storytime-logo.jpg
END:VEVENT
BEGIN:VEVENT
DTSTART;TZID=UTC:20230925T110000
DTEND;TZID=UTC:20230925T120000
DTSTAMP:20260424T102647
CREATED:20230831T165521Z
LAST-MODIFIED:20230831T165521Z
UID:501-1695639600-1695643200@norriscommunitylibrary.com
SUMMARY:Family Story Time
DESCRIPTION:Kelsie reads themed stories and we color. This week’s theme is Show & Tell. This program is designed for Pre-K ages\, but younger & older siblings are also welcome!
URL:https://norriscommunitylibrary.com/event/family-story-time-7
CATEGORIES:Kids,Storytime
ATTACH;FMTTYPE=image/jpeg:https://norriscommunitylibrary.com/wp-content/uploads/2023/07/Family-Storytime-logo.jpg
END:VEVENT
BEGIN:VEVENT
DTSTART;TZID=UTC:20230918T110000
DTEND;TZID=UTC:20230918T120000
DTSTAMP:20260424T102647
CREATED:20230831T165258Z
LAST-MODIFIED:20230831T165258Z
UID:499-1695034800-1695038400@norriscommunitylibrary.com
SUMMARY:Family Story Time
DESCRIPTION:Kelsie reads themed stories and we color. This week’s theme is Sharks. This program is designed for Pre-K ages\, but younger & older siblings are also welcome!
URL:https://norriscommunitylibrary.com/event/family-story-time-6
CATEGORIES:Kids,Storytime
ATTACH;FMTTYPE=image/jpeg:https://norriscommunitylibrary.com/wp-content/uploads/2023/07/Family-Storytime-logo.jpg
END:VEVENT
BEGIN:VEVENT
DTSTART;TZID=UTC:20230911T110000
DTEND;TZID=UTC:20230911T120000
DTSTAMP:20260424T102647
CREATED:20230831T165207Z
LAST-MODIFIED:20230831T165207Z
UID:497-1694430000-1694433600@norriscommunitylibrary.com
SUMMARY:Family Story Time
DESCRIPTION:Kelsie reads themed stories and we color. This week’s theme is Sheep. This program is designed for Pre-K ages\, but younger & older siblings are also welcome!
URL:https://norriscommunitylibrary.com/event/family-story-time-5
CATEGORIES:Kids,Storytime
ATTACH;FMTTYPE=image/jpeg:https://norriscommunitylibrary.com/wp-content/uploads/2023/07/Family-Storytime-logo.jpg
END:VEVENT
BEGIN:VEVENT
DTSTART;TZID=UTC:20230828T110000
DTEND;TZID=UTC:20230828T120000
DTSTAMP:20260424T102647
CREATED:20230727T160340Z
LAST-MODIFIED:20230727T160340Z
UID:320-1693220400-1693224000@norriscommunitylibrary.com
SUMMARY:Family Story Time
DESCRIPTION:Kelsie reads themed stories and we color. This week’s theme is Anxiety. This program is designed for Pre-K ages\, but younger & older siblings are also welcome!
URL:https://norriscommunitylibrary.com/event/family-story-time-4
CATEGORIES:Kids,Storytime
ATTACH;FMTTYPE=image/jpeg:https://norriscommunitylibrary.com/wp-content/uploads/2023/07/Family-Storytime-flyer.jpg
END:VEVENT
BEGIN:VEVENT
DTSTART;TZID=UTC:20230821T110000
DTEND;TZID=UTC:20230821T120000
DTSTAMP:20260424T102647
CREATED:20230727T160201Z
LAST-MODIFIED:20230831T165311Z
UID:318-1692615600-1692619200@norriscommunitylibrary.com
SUMMARY:Family Story Time
DESCRIPTION:Kelsie reads themed stories and we color. This week’s theme is Fruits. This program is designed for Pre-K ages\, but younger & older siblings are also welcome!
URL:https://norriscommunitylibrary.com/event/family-story-time-3
CATEGORIES:Kids,Storytime
ATTACH;FMTTYPE=image/jpeg:https://norriscommunitylibrary.com/wp-content/uploads/2023/07/Family-Storytime-flyer.jpg
END:VEVENT
BEGIN:VEVENT
DTSTART;TZID=UTC:20230814T110000
DTEND;TZID=UTC:20230814T120000
DTSTAMP:20260424T102647
CREATED:20230727T155159Z
LAST-MODIFIED:20230727T155159Z
UID:313-1692010800-1692014400@norriscommunitylibrary.com
SUMMARY:Family Story Time
DESCRIPTION:Kelsie reads themed stories and we color. This week’s theme is Hugs. This program is designed for Pre-K ages\, but younger & older siblings are also welcome!
URL:https://norriscommunitylibrary.com/event/family-story-time-2
CATEGORIES:Kids,Storytime
ATTACH;FMTTYPE=image/jpeg:https://norriscommunitylibrary.com/wp-content/uploads/2023/07/Family-Storytime-flyer.jpg
END:VEVENT
END:VCALENDAR