BEGIN:VCALENDAR
VERSION:2.0
PRODID:-//Norris Community Library - ECPv6.15.20//NONSGML v1.0//EN
CALSCALE:GREGORIAN
METHOD:PUBLISH
X-ORIGINAL-URL:https://norriscommunitylibrary.com
X-WR-CALDESC:Events for Norris Community Library
REFRESH-INTERVAL;VALUE=DURATION:PT1H
X-Robots-Tag:noindex
X-PUBLISHED-TTL:PT1H
BEGIN:VTIMEZONE
TZID:UTC
BEGIN:STANDARD
TZOFFSETFROM:+0000
TZOFFSETTO:+0000
TZNAME:UTC
DTSTART:20240101T000000
END:STANDARD
END:VTIMEZONE
BEGIN:VEVENT
DTSTART;TZID=UTC:20251208T110000
DTEND;TZID=UTC:20251208T113000
DTSTAMP:20260423T233802
CREATED:20251122T172923Z
LAST-MODIFIED:20251122T172923Z
UID:4928-1765191600-1765193400@norriscommunitylibrary.com
SUMMARY:Family Storytime
DESCRIPTION:Kelsie reads themed stories and we color. This week’s theme is Cozy! This program is designed for Pre-K ages\, but younger & older siblings are also welcome!
URL:https://norriscommunitylibrary.com/event/family-storytime-58
CATEGORIES:Kids,Storytime
ATTACH;FMTTYPE=image/jpeg:https://norriscommunitylibrary.com/wp-content/uploads/2023/07/Family-Storytime-logo.jpg
END:VEVENT
BEGIN:VEVENT
DTSTART;TZID=UTC:20251204T153000
DTEND;TZID=UTC:20251204T163000
DTSTAMP:20260423T233802
CREATED:20251122T171856Z
LAST-MODIFIED:20251122T171856Z
UID:4916-1764862200-1764865800@norriscommunitylibrary.com
SUMMARY:Kids Art Club
DESCRIPTION:Kids can join us for our weekly art club every Thursday from 3:30-4:30pm! This week we’re making Paper Snowflakes!
URL:https://norriscommunitylibrary.com/event/kids-art-club-65
CATEGORIES:Art Club,Kids,Kids Art Club
ATTACH;FMTTYPE=image/jpeg:https://norriscommunitylibrary.com/wp-content/uploads/2023/07/Kids-art-club.jpg
END:VEVENT
BEGIN:VEVENT
DTSTART;TZID=UTC:20251201T110000
DTEND;TZID=UTC:20251201T113000
DTSTAMP:20260423T233802
CREATED:20251122T172808Z
LAST-MODIFIED:20251122T172808Z
UID:4926-1764586800-1764588600@norriscommunitylibrary.com
SUMMARY:Family Storytime
DESCRIPTION:Kelsie reads themed stories and we color. This week’s theme is Bears! This program is designed for Pre-K ages\, but younger & older siblings are also welcome!
URL:https://norriscommunitylibrary.com/event/family-storytime-57
CATEGORIES:Kids,Storytime
ATTACH;FMTTYPE=image/jpeg:https://norriscommunitylibrary.com/wp-content/uploads/2023/07/Family-Storytime-logo.jpg
END:VEVENT
BEGIN:VEVENT
DTSTART;TZID=UTC:20251124T110000
DTEND;TZID=UTC:20251124T120000
DTSTAMP:20260423T233802
CREATED:20251022T142529Z
LAST-MODIFIED:20251022T142529Z
UID:4654-1763982000-1763985600@norriscommunitylibrary.com
SUMMARY:Family Storytime
DESCRIPTION:Kelsie reads themed stories and we color. This week’s theme is Thanksgiving! This program is designed for Pre-K ages\, but younger & older siblings are also welcome!
URL:https://norriscommunitylibrary.com/event/family-storytime-56
CATEGORIES:Kids,Storytime
ATTACH;FMTTYPE=image/jpeg:https://norriscommunitylibrary.com/wp-content/uploads/2023/07/Family-Storytime-logo.jpg
END:VEVENT
BEGIN:VEVENT
DTSTART;TZID=UTC:20251120T153000
DTEND;TZID=UTC:20251120T163000
DTSTAMP:20260423T233802
CREATED:20251022T141827Z
LAST-MODIFIED:20251022T141827Z
UID:4642-1763652600-1763656200@norriscommunitylibrary.com
SUMMARY:Kids Art Club
DESCRIPTION:Kids can join us for our weekly art club every Thursday from 3:30-4:30pm! This week we’re making Hand Turkeys!
URL:https://norriscommunitylibrary.com/event/kids-art-club-64
CATEGORIES:Art Club,Kids,Kids Art Club
ATTACH;FMTTYPE=image/jpeg:https://norriscommunitylibrary.com/wp-content/uploads/2023/07/Kids-art-club.jpg
END:VEVENT
BEGIN:VEVENT
DTSTART;TZID=UTC:20251117T110000
DTEND;TZID=UTC:20251117T120000
DTSTAMP:20260423T233802
CREATED:20251022T142418Z
LAST-MODIFIED:20251022T142418Z
UID:4652-1763377200-1763380800@norriscommunitylibrary.com
SUMMARY:Family Storytime
DESCRIPTION:Kelsie reads themed stories and we color. This week’s theme is Leaves! This program is designed for Pre-K ages\, but younger & older siblings are also welcome!
URL:https://norriscommunitylibrary.com/event/family-storytime-55
CATEGORIES:Kids,Storytime
ATTACH;FMTTYPE=image/jpeg:https://norriscommunitylibrary.com/wp-content/uploads/2023/07/Family-Storytime-logo.jpg
END:VEVENT
BEGIN:VEVENT
DTSTART;TZID=UTC:20251113T153000
DTEND;TZID=UTC:20251113T163000
DTSTAMP:20260423T233802
CREATED:20251022T141624Z
LAST-MODIFIED:20251022T141624Z
UID:4640-1763047800-1763051400@norriscommunitylibrary.com
SUMMARY:Kids Art Club
DESCRIPTION:Kids can join us for our weekly art club every Thursday from 3:30-4:30pm! This week we’re making Mucha Self Portraits!
URL:https://norriscommunitylibrary.com/event/kids-art-club-63
CATEGORIES:Art Club,Kids,Kids Art Club
ATTACH;FMTTYPE=image/jpeg:https://norriscommunitylibrary.com/wp-content/uploads/2023/07/Kids-art-club.jpg
END:VEVENT
BEGIN:VEVENT
DTSTART;TZID=UTC:20251110T110000
DTEND;TZID=UTC:20251110T120000
DTSTAMP:20260423T233802
CREATED:20251022T142310Z
LAST-MODIFIED:20251022T142310Z
UID:4650-1762772400-1762776000@norriscommunitylibrary.com
SUMMARY:Family Storytime
DESCRIPTION:Kelsie reads themed stories and we color. This week’s theme is Change! This program is designed for Pre-K ages\, but younger & older siblings are also welcome!
URL:https://norriscommunitylibrary.com/event/family-storytime-54
CATEGORIES:Kids,Storytime
ATTACH;FMTTYPE=image/jpeg:https://norriscommunitylibrary.com/wp-content/uploads/2023/07/Family-Storytime-logo.jpg
END:VEVENT
BEGIN:VEVENT
DTSTART;TZID=UTC:20251106T153000
DTEND;TZID=UTC:20251106T163000
DTSTAMP:20260423T233802
CREATED:20251022T141450Z
LAST-MODIFIED:20251022T141450Z
UID:4638-1762443000-1762446600@norriscommunitylibrary.com
SUMMARY:Kids Art Club
DESCRIPTION:Kids can join us for our weekly art club every Thursday from 3:30-4:30pm! This week we’re making Paper!
URL:https://norriscommunitylibrary.com/event/kids-art-club-62
CATEGORIES:Art Club,Kids,Kids Art Club
ATTACH;FMTTYPE=image/jpeg:https://norriscommunitylibrary.com/wp-content/uploads/2023/07/Kids-art-club.jpg
END:VEVENT
BEGIN:VEVENT
DTSTART;TZID=UTC:20251103T110000
DTEND;TZID=UTC:20251103T120000
DTSTAMP:20260423T233802
CREATED:20251022T142135Z
LAST-MODIFIED:20251022T142135Z
UID:4648-1762167600-1762171200@norriscommunitylibrary.com
SUMMARY:Family Storytime
DESCRIPTION:Kelsie reads themed stories and we color. This week’s theme is Rocks! This program is designed for Pre-K ages\, but younger & older siblings are also welcome!
URL:https://norriscommunitylibrary.com/event/family-storytime-53
CATEGORIES:Kids,Storytime
ATTACH;FMTTYPE=image/jpeg:https://norriscommunitylibrary.com/wp-content/uploads/2023/07/Family-Storytime-logo.jpg
END:VEVENT
BEGIN:VEVENT
DTSTART;TZID=UTC:20251030T153000
DTEND;TZID=UTC:20251030T163000
DTSTAMP:20260423T233802
CREATED:20250916T152246Z
LAST-MODIFIED:20250916T152246Z
UID:4438-1761838200-1761841800@norriscommunitylibrary.com
SUMMARY:Kids Art Club
DESCRIPTION:Kids can join us for our weekly art club every Thursday from 3:30-4:30pm! This week we’re making Pastel Bat Moons!
URL:https://norriscommunitylibrary.com/event/kids-art-club-61
CATEGORIES:Art Club,Kids,Kids Art Club
ATTACH;FMTTYPE=image/jpeg:https://norriscommunitylibrary.com/wp-content/uploads/2023/07/Kids-art-club.jpg
END:VEVENT
BEGIN:VEVENT
DTSTART;TZID=UTC:20251027T110000
DTEND;TZID=UTC:20251027T120000
DTSTAMP:20260423T233802
CREATED:20250916T152842Z
LAST-MODIFIED:20251022T145028Z
UID:4446-1761562800-1761566400@norriscommunitylibrary.com
SUMMARY:Family Storytime
DESCRIPTION:Kelsie reads themed stories and we color. This week’s theme is Halloween! This program is designed for Pre-K ages\, but younger & older siblings are also welcome! Feel free to wear your Halloween costume!
URL:https://norriscommunitylibrary.com/event/family-storytime-52
CATEGORIES:Kids,Storytime
ATTACH;FMTTYPE=image/jpeg:https://norriscommunitylibrary.com/wp-content/uploads/2023/07/Family-Storytime-logo.jpg
END:VEVENT
BEGIN:VEVENT
DTSTART;TZID=UTC:20251023T153000
DTEND;TZID=UTC:20251023T163000
DTSTAMP:20260423T233802
CREATED:20250916T152120Z
LAST-MODIFIED:20250916T152120Z
UID:4436-1761233400-1761237000@norriscommunitylibrary.com
SUMMARY:Kids Art Club
DESCRIPTION:Kids can join us for our weekly art club every Thursday from 3:30-4:30pm! This week we’re making Upcycled CDs!
URL:https://norriscommunitylibrary.com/event/kids-art-club-60
CATEGORIES:Art Club,Kids,Kids Art Club
ATTACH;FMTTYPE=image/jpeg:https://norriscommunitylibrary.com/wp-content/uploads/2023/07/Kids-art-club.jpg
END:VEVENT
BEGIN:VEVENT
DTSTART;TZID=UTC:20251020T110000
DTEND;TZID=UTC:20251020T120000
DTSTAMP:20260423T233802
CREATED:20250916T152650Z
LAST-MODIFIED:20250916T152650Z
UID:4444-1760958000-1760961600@norriscommunitylibrary.com
SUMMARY:Family Storytime
DESCRIPTION:Kelsie reads themed stories and we color. This week’s theme is Ghosts! This program is designed for Pre-K ages\, but younger & older siblings are also welcome!
URL:https://norriscommunitylibrary.com/event/family-storytime-51
CATEGORIES:Kids,Storytime
ATTACH;FMTTYPE=image/jpeg:https://norriscommunitylibrary.com/wp-content/uploads/2023/07/Family-Storytime-logo.jpg
END:VEVENT
BEGIN:VEVENT
DTSTART;TZID=UTC:20251016T153000
DTEND;TZID=UTC:20251016T163000
DTSTAMP:20260423T233802
CREATED:20250916T151425Z
LAST-MODIFIED:20250916T151425Z
UID:4434-1760628600-1760632200@norriscommunitylibrary.com
SUMMARY:Kids Art Club
DESCRIPTION:Kids can join us for our weekly art club every Thursday from 3:30-4:30pm! This week we’re making Recycled Crayons!
URL:https://norriscommunitylibrary.com/event/kids-art-club-59
CATEGORIES:Art Club,Kids,Kids Art Club
ATTACH;FMTTYPE=image/jpeg:https://norriscommunitylibrary.com/wp-content/uploads/2023/07/Kids-art-club.jpg
END:VEVENT
BEGIN:VEVENT
DTSTART;TZID=UTC:20251013T110000
DTEND;TZID=UTC:20251013T120000
DTSTAMP:20260423T233802
CREATED:20250916T152551Z
LAST-MODIFIED:20250916T152551Z
UID:4442-1760353200-1760356800@norriscommunitylibrary.com
SUMMARY:Family Storytime
DESCRIPTION:Kelsie reads themed stories and we color. This week’s theme is Pumpkins! This program is designed for Pre-K ages\, but younger & older siblings are also welcome!
URL:https://norriscommunitylibrary.com/event/family-storytime-50
CATEGORIES:Kids,Storytime
ATTACH;FMTTYPE=image/jpeg:https://norriscommunitylibrary.com/wp-content/uploads/2023/07/Family-Storytime-logo.jpg
END:VEVENT
BEGIN:VEVENT
DTSTART;TZID=UTC:20251009T153000
DTEND;TZID=UTC:20251009T163000
DTSTAMP:20260423T233802
CREATED:20250916T151302Z
LAST-MODIFIED:20250916T151302Z
UID:4432-1760023800-1760027400@norriscommunitylibrary.com
SUMMARY:Kids Art Club
DESCRIPTION:Kids can join us for our weekly art club every Thursday from 3:30-4:30pm! This week we’re making Owl Puppets!
URL:https://norriscommunitylibrary.com/event/kids-art-club-58
CATEGORIES:Art Club,Kids,Kids Art Club
ATTACH;FMTTYPE=image/jpeg:https://norriscommunitylibrary.com/wp-content/uploads/2023/07/Kids-art-club.jpg
END:VEVENT
BEGIN:VEVENT
DTSTART;TZID=UTC:20251006T110000
DTEND;TZID=UTC:20251006T120000
DTSTAMP:20260423T233802
CREATED:20250916T152436Z
LAST-MODIFIED:20250916T152436Z
UID:4440-1759748400-1759752000@norriscommunitylibrary.com
SUMMARY:Family Storytime
DESCRIPTION:Kelsie reads themed stories and we color. This week’s theme is Owls! This program is designed for Pre-K ages\, but younger & older siblings are also welcome!
URL:https://norriscommunitylibrary.com/event/family-storytime-49
CATEGORIES:Kids,Storytime
ATTACH;FMTTYPE=image/jpeg:https://norriscommunitylibrary.com/wp-content/uploads/2023/07/Family-Storytime-logo.jpg
END:VEVENT
BEGIN:VEVENT
DTSTART;TZID=UTC:20250929T110000
DTEND;TZID=UTC:20250929T120000
DTSTAMP:20260423T233802
CREATED:20250821T141246Z
LAST-MODIFIED:20250821T141246Z
UID:4333-1759143600-1759147200@norriscommunitylibrary.com
SUMMARY:Family Storytime
DESCRIPTION:Kelsie reads themed stories and we color. This week’s theme is Eric Carle! This program is designed for Pre-K ages\, but younger & older siblings are also welcome!
URL:https://norriscommunitylibrary.com/event/family-storytime-48
CATEGORIES:Kids,Storytime
ATTACH;FMTTYPE=image/jpeg:https://norriscommunitylibrary.com/wp-content/uploads/2023/07/Family-Storytime-logo.jpg
END:VEVENT
BEGIN:VEVENT
DTSTART;TZID=UTC:20250925T153000
DTEND;TZID=UTC:20250925T163000
DTSTAMP:20260423T233802
CREATED:20250819T215537Z
LAST-MODIFIED:20250819T215537Z
UID:4323-1758814200-1758817800@norriscommunitylibrary.com
SUMMARY:Kids Art Club
DESCRIPTION:Kids can join us for our weekly art club every Thursday from 3:30-4:30pm! This week we’re making Gauche Bookmarks!
URL:https://norriscommunitylibrary.com/event/kids-art-club-57
CATEGORIES:Art Club,Kids,Kids Art Club
ATTACH;FMTTYPE=image/jpeg:https://norriscommunitylibrary.com/wp-content/uploads/2023/07/Kids-art-club.jpg
END:VEVENT
BEGIN:VEVENT
DTSTART;TZID=UTC:20250922T110000
DTEND;TZID=UTC:20250922T120000
DTSTAMP:20260423T233802
CREATED:20250821T141125Z
LAST-MODIFIED:20250821T141125Z
UID:4331-1758538800-1758542400@norriscommunitylibrary.com
SUMMARY:Family Storytime
DESCRIPTION:Kelsie reads themed stories and we color. This week’s theme is Kittens! This program is designed for Pre-K ages\, but younger & older siblings are also welcome!
URL:https://norriscommunitylibrary.com/event/family-storytime-47
CATEGORIES:Kids,Storytime
ATTACH;FMTTYPE=image/jpeg:https://norriscommunitylibrary.com/wp-content/uploads/2023/07/Family-Storytime-logo.jpg
END:VEVENT
BEGIN:VEVENT
DTSTART;TZID=UTC:20250918T153000
DTEND;TZID=UTC:20250918T163000
DTSTAMP:20260423T233802
CREATED:20250819T215433Z
LAST-MODIFIED:20250819T215433Z
UID:4321-1758209400-1758213000@norriscommunitylibrary.com
SUMMARY:Kids Art Club
DESCRIPTION:Kids can join us for our weekly art club every Thursday from 3:30-4:30pm! This week we’re making Paper!
URL:https://norriscommunitylibrary.com/event/kids-art-club-56
CATEGORIES:Art Club,Kids,Kids Art Club
ATTACH;FMTTYPE=image/jpeg:https://norriscommunitylibrary.com/wp-content/uploads/2023/07/Kids-art-club.jpg
END:VEVENT
BEGIN:VEVENT
DTSTART;TZID=UTC:20250915T110000
DTEND;TZID=UTC:20250915T120000
DTSTAMP:20260423T233802
CREATED:20250821T141008Z
LAST-MODIFIED:20250821T141008Z
UID:4329-1757934000-1757937600@norriscommunitylibrary.com
SUMMARY:Family Storytime
DESCRIPTION:Kelsie reads themed stories and we color. This week’s theme is Sharing! This program is designed for Pre-K ages\, but younger & older siblings are also welcome!
URL:https://norriscommunitylibrary.com/event/family-storytime-46
CATEGORIES:Kids,Storytime
ATTACH;FMTTYPE=image/jpeg:https://norriscommunitylibrary.com/wp-content/uploads/2023/07/Family-Storytime-logo.jpg
END:VEVENT
BEGIN:VEVENT
DTSTART;TZID=UTC:20250911T153000
DTEND;TZID=UTC:20250911T163000
DTSTAMP:20260423T233802
CREATED:20250819T215329Z
LAST-MODIFIED:20250819T215329Z
UID:4319-1757604600-1757608200@norriscommunitylibrary.com
SUMMARY:Kids Art Club
DESCRIPTION:Kids can join us for our weekly art club every Thursday from 3:30-4:30pm! This week we’re Cross Stitching!
URL:https://norriscommunitylibrary.com/event/kids-art-club-55
CATEGORIES:Art Club,Kids,Kids Art Club
ATTACH;FMTTYPE=image/jpeg:https://norriscommunitylibrary.com/wp-content/uploads/2023/07/Kids-art-club.jpg
END:VEVENT
BEGIN:VEVENT
DTSTART;TZID=UTC:20250908T110000
DTEND;TZID=UTC:20250908T120000
DTSTAMP:20260423T233802
CREATED:20250819T215809Z
LAST-MODIFIED:20250819T215809Z
UID:4327-1757329200-1757332800@norriscommunitylibrary.com
SUMMARY:Family Storytime
DESCRIPTION:Kelsie reads themed stories and we color. This week’s theme is Sing Along! This program is designed for Pre-K ages\, but younger & older siblings are also welcome!
URL:https://norriscommunitylibrary.com/event/family-storytime-45
CATEGORIES:Kids,Storytime
ATTACH;FMTTYPE=image/jpeg:https://norriscommunitylibrary.com/wp-content/uploads/2023/07/Family-Storytime-logo.jpg
END:VEVENT
BEGIN:VEVENT
DTSTART;TZID=UTC:20250904T153000
DTEND;TZID=UTC:20250904T163000
DTSTAMP:20260423T233802
CREATED:20250819T215207Z
LAST-MODIFIED:20250819T215207Z
UID:4317-1756999800-1757003400@norriscommunitylibrary.com
SUMMARY:Kids Art Club
DESCRIPTION:Kids can join us for our weekly art club every Thursday from 3:30-4:30pm! This week we’re making Pony Bead Fidget Bracelets!
URL:https://norriscommunitylibrary.com/event/kids-art-club-54
CATEGORIES:Art Club,Kids,Kids Art Club
ATTACH;FMTTYPE=image/jpeg:https://norriscommunitylibrary.com/wp-content/uploads/2023/07/Kids-art-club.jpg
END:VEVENT
BEGIN:VEVENT
DTSTART;TZID=UTC:20250828T153000
DTEND;TZID=UTC:20250828T163000
DTSTAMP:20260423T233802
CREATED:20250715T174926Z
LAST-MODIFIED:20250715T174926Z
UID:4007-1756395000-1756398600@norriscommunitylibrary.com
SUMMARY:Kids Art Club
DESCRIPTION:Kids can join us for our weekly art club every Thursday from 3:30-4:30pm! This week we’re making Paper Turtles!
URL:https://norriscommunitylibrary.com/event/kids-art-club-53
CATEGORIES:Art Club,Kids,Kids Art Club
ATTACH;FMTTYPE=image/jpeg:https://norriscommunitylibrary.com/wp-content/uploads/2023/07/Kids-art-club.jpg
END:VEVENT
BEGIN:VEVENT
DTSTART;TZID=UTC:20250825T110000
DTEND;TZID=UTC:20250825T120000
DTSTAMP:20260423T233802
CREATED:20250715T173710Z
LAST-MODIFIED:20250715T173710Z
UID:3991-1756119600-1756123200@norriscommunitylibrary.com
SUMMARY:Family Storytime
DESCRIPTION:Kelsie reads themed stories and we color. This week’s theme is Counting! This program is designed for Pre-K ages\, but younger & older siblings are also welcome!
URL:https://norriscommunitylibrary.com/event/family-storytime-44
CATEGORIES:Kids,Storytime
ATTACH;FMTTYPE=image/jpeg:https://norriscommunitylibrary.com/wp-content/uploads/2023/07/Family-Storytime-logo.jpg
END:VEVENT
BEGIN:VEVENT
DTSTART;TZID=UTC:20250821T153000
DTEND;TZID=UTC:20250821T163000
DTSTAMP:20260423T233802
CREATED:20250715T174809Z
LAST-MODIFIED:20250715T174809Z
UID:4005-1755790200-1755793800@norriscommunitylibrary.com
SUMMARY:Kids Art Club
DESCRIPTION:Kids can join us for our weekly art club every Thursday from 3:30-4:30pm! This week we’re making Holepunch Jellyfish!
URL:https://norriscommunitylibrary.com/event/kids-art-club-52
CATEGORIES:Art Club,Kids,Kids Art Club
ATTACH;FMTTYPE=image/jpeg:https://norriscommunitylibrary.com/wp-content/uploads/2023/07/Kids-art-club.jpg
END:VEVENT
BEGIN:VEVENT
DTSTART;TZID=UTC:20250818T110000
DTEND;TZID=UTC:20250818T120000
DTSTAMP:20260423T233802
CREATED:20250715T173559Z
LAST-MODIFIED:20250715T173559Z
UID:3989-1755514800-1755518400@norriscommunitylibrary.com
SUMMARY:Family Storytime
DESCRIPTION:Kelsie reads themed stories and we color. This week’s theme is Onomatopoeia. This program is designed for Pre-K ages\, but younger & older siblings are also welcome!
URL:https://norriscommunitylibrary.com/event/family-storytime-43
CATEGORIES:Kids,Storytime
ATTACH;FMTTYPE=image/jpeg:https://norriscommunitylibrary.com/wp-content/uploads/2023/07/Family-Storytime-logo.jpg
END:VEVENT
END:VCALENDAR