BEGIN:VCALENDAR
VERSION:2.0
PRODID:-//Norris Community Library - ECPv6.15.20//NONSGML v1.0//EN
CALSCALE:GREGORIAN
METHOD:PUBLISH
X-ORIGINAL-URL:https://norriscommunitylibrary.com
X-WR-CALDESC:Events for Norris Community Library
REFRESH-INTERVAL;VALUE=DURATION:PT1H
X-Robots-Tag:noindex
X-PUBLISHED-TTL:PT1H
BEGIN:VTIMEZONE
TZID:UTC
BEGIN:STANDARD
TZOFFSETFROM:+0000
TZOFFSETTO:+0000
TZNAME:UTC
DTSTART:20250101T000000
END:STANDARD
END:VTIMEZONE
BEGIN:VEVENT
DTSTART;TZID=UTC:20260219T153000
DTEND;TZID=UTC:20260219T163000
DTSTAMP:20260424T101746
CREATED:20260115T152427Z
LAST-MODIFIED:20260115T152427Z
UID:5467-1771515000-1771518600@norriscommunitylibrary.com
SUMMARY:Kids Art Club
DESCRIPTION:Kids can join us for our weekly art club every Thursday from 3:30-4:30pm! This week we’re making Paper Roll Dogs!
URL:https://norriscommunitylibrary.com/event/kids-art-club-73
CATEGORIES:Art Club,Kids,Kids Art Club
ATTACH;FMTTYPE=image/jpeg:https://norriscommunitylibrary.com/wp-content/uploads/2023/07/Kids-art-club.jpg
END:VEVENT
BEGIN:VEVENT
DTSTART;TZID=UTC:20260223T110000
DTEND;TZID=UTC:20260223T113000
DTSTAMP:20260424T101746
CREATED:20260115T154247Z
LAST-MODIFIED:20260115T161948Z
UID:5485-1771844400-1771846200@norriscommunitylibrary.com
SUMMARY:Family Storytime
DESCRIPTION:Kelsie reads themed stories and we color. This week’s theme is Ocean! This program is designed for Pre-K ages\, but younger & older siblings are also welcome!
URL:https://norriscommunitylibrary.com/event/family-storytime-67
CATEGORIES:Kids,Storytime
ATTACH;FMTTYPE=image/jpeg:https://norriscommunitylibrary.com/wp-content/uploads/2023/07/Family-Storytime-logo.jpg
END:VEVENT
BEGIN:VEVENT
DTSTART;TZID=UTC:20260226T153000
DTEND;TZID=UTC:20260226T163000
DTSTAMP:20260424T101746
CREATED:20260115T152544Z
LAST-MODIFIED:20260115T152544Z
UID:5469-1772119800-1772123400@norriscommunitylibrary.com
SUMMARY:Kids Art Club
DESCRIPTION:Kids can join us for our weekly art club every Thursday from 3:30-4:30pm! This week we’re Felt Stuffies!
URL:https://norriscommunitylibrary.com/event/kids-art-club-74
CATEGORIES:Art Club,Kids,Kids Art Club
ATTACH;FMTTYPE=image/jpeg:https://norriscommunitylibrary.com/wp-content/uploads/2023/07/Kids-art-club.jpg
END:VEVENT
BEGIN:VEVENT
DTSTART;TZID=UTC:20260302T110000
DTEND;TZID=UTC:20260302T113000
DTSTAMP:20260424T101746
CREATED:20260219T165720Z
LAST-MODIFIED:20260219T165720Z
UID:5620-1772449200-1772451000@norriscommunitylibrary.com
SUMMARY:Family Storytime
DESCRIPTION:Kelsie reads themed stories and we color. This week’s theme is Turtles! This program is designed for Pre-K ages\, but younger & older siblings are also welcome!
URL:https://norriscommunitylibrary.com/event/family-storytime-68
CATEGORIES:Kids,Storytime
ATTACH;FMTTYPE=image/jpeg:https://norriscommunitylibrary.com/wp-content/uploads/2023/07/Family-Storytime-logo.jpg
END:VEVENT
BEGIN:VEVENT
DTSTART;TZID=UTC:20260305T153000
DTEND;TZID=UTC:20260305T163000
DTSTAMP:20260424T101746
CREATED:20260219T171305Z
LAST-MODIFIED:20260220T194052Z
UID:5646-1772724600-1772728200@norriscommunitylibrary.com
SUMMARY:Kids Art Club
DESCRIPTION:Kids can join us for our weekly art club every Thursday from 3:30-4:30pm! This week we’re making Lily Pad Walls!
URL:https://norriscommunitylibrary.com/event/kids-art-club-75
CATEGORIES:Art Club,Kids,Kids Art Club
ATTACH;FMTTYPE=image/jpeg:https://norriscommunitylibrary.com/wp-content/uploads/2023/07/Kids-art-club.jpg
END:VEVENT
BEGIN:VEVENT
DTSTART;TZID=UTC:20260309T110000
DTEND;TZID=UTC:20260309T113000
DTSTAMP:20260424T101746
CREATED:20260219T165833Z
LAST-MODIFIED:20260219T165833Z
UID:5622-1773054000-1773055800@norriscommunitylibrary.com
SUMMARY:Family Storytime
DESCRIPTION:Kelsie reads themed stories and we color. This week’s theme is Green! This program is designed for Pre-K ages\, but younger & older siblings are also welcome!
URL:https://norriscommunitylibrary.com/event/family-storytime-69
CATEGORIES:Kids,Storytime
ATTACH;FMTTYPE=image/jpeg:https://norriscommunitylibrary.com/wp-content/uploads/2023/07/Family-Storytime-logo.jpg
END:VEVENT
BEGIN:VEVENT
DTSTART;TZID=UTC:20260312T153000
DTEND;TZID=UTC:20260312T163000
DTSTAMP:20260424T101746
CREATED:20260219T171511Z
LAST-MODIFIED:20260219T171511Z
UID:5648-1773329400-1773333000@norriscommunitylibrary.com
SUMMARY:Kids Art Club
DESCRIPTION:Kids can join us for our weekly art club every Thursday from 3:30-4:30pm! This week we’re making Watercolor Art!
URL:https://norriscommunitylibrary.com/event/kids-art-club-76
CATEGORIES:Art Club,Kids,Kids Art Club
ATTACH;FMTTYPE=image/jpeg:https://norriscommunitylibrary.com/wp-content/uploads/2023/07/Kids-art-club.jpg
END:VEVENT
BEGIN:VEVENT
DTSTART;TZID=UTC:20260316T110000
DTEND;TZID=UTC:20260316T113000
DTSTAMP:20260424T101746
CREATED:20260219T165959Z
LAST-MODIFIED:20260219T165959Z
UID:5624-1773658800-1773660600@norriscommunitylibrary.com
SUMMARY:Family Storytime
DESCRIPTION:Kelsie reads themed stories and we color. This week’s theme is Luck! This program is designed for Pre-K ages\, but younger & older siblings are also welcome!
URL:https://norriscommunitylibrary.com/event/family-storytime-70
CATEGORIES:Kids,Storytime
ATTACH;FMTTYPE=image/jpeg:https://norriscommunitylibrary.com/wp-content/uploads/2023/07/Family-Storytime-logo.jpg
END:VEVENT
BEGIN:VEVENT
DTSTART;TZID=UTC:20260319T153000
DTEND;TZID=UTC:20260319T163000
DTSTAMP:20260424T101746
CREATED:20260219T171641Z
LAST-MODIFIED:20260219T171641Z
UID:5650-1773934200-1773937800@norriscommunitylibrary.com
SUMMARY:Kids Art Club
DESCRIPTION:Kids can join us for our weekly art club every Thursday from 3:30-4:30pm! This week we’re having a Build Day!
URL:https://norriscommunitylibrary.com/event/kids-art-club-77
CATEGORIES:Art Club,Kids,Kids Art Club
ATTACH;FMTTYPE=image/jpeg:https://norriscommunitylibrary.com/wp-content/uploads/2023/07/Kids-art-club.jpg
END:VEVENT
BEGIN:VEVENT
DTSTART;TZID=UTC:20260323T110000
DTEND;TZID=UTC:20260323T113000
DTSTAMP:20260424T101746
CREATED:20260219T170105Z
LAST-MODIFIED:20260219T170105Z
UID:5626-1774263600-1774265400@norriscommunitylibrary.com
SUMMARY:Family Storytime
DESCRIPTION:Kelsie reads themed stories and we color. This week’s theme is Bugs! This program is designed for Pre-K ages\, but younger & older siblings are also welcome!
URL:https://norriscommunitylibrary.com/event/family-storytime-71
CATEGORIES:Kids,Storytime
ATTACH;FMTTYPE=image/jpeg:https://norriscommunitylibrary.com/wp-content/uploads/2023/07/Family-Storytime-logo.jpg
END:VEVENT
BEGIN:VEVENT
DTSTART;TZID=UTC:20260326T153000
DTEND;TZID=UTC:20260326T163000
DTSTAMP:20260424T101746
CREATED:20260219T171745Z
LAST-MODIFIED:20260219T171745Z
UID:5652-1774539000-1774542600@norriscommunitylibrary.com
SUMMARY:Kids Art Club
DESCRIPTION:Kids can join us for our weekly art club every Thursday from 3:30-4:30pm! This week we’re making Van Gogh Style Art!
URL:https://norriscommunitylibrary.com/event/kids-art-club-78
CATEGORIES:Art Club,Kids,Kids Art Club
ATTACH;FMTTYPE=image/jpeg:https://norriscommunitylibrary.com/wp-content/uploads/2023/07/Kids-art-club.jpg
END:VEVENT
BEGIN:VEVENT
DTSTART;TZID=UTC:20260330T110000
DTEND;TZID=UTC:20260330T113000
DTSTAMP:20260424T101746
CREATED:20260219T170212Z
LAST-MODIFIED:20260219T170212Z
UID:5628-1774868400-1774870200@norriscommunitylibrary.com
SUMMARY:Family Storytime
DESCRIPTION:Kelsie reads themed stories and we color. This week’s theme is Bogs! This program is designed for Pre-K ages\, but younger & older siblings are also welcome!
URL:https://norriscommunitylibrary.com/event/family-storytime-72
CATEGORIES:Kids,Storytime
ATTACH;FMTTYPE=image/jpeg:https://norriscommunitylibrary.com/wp-content/uploads/2023/07/Family-Storytime-logo.jpg
END:VEVENT
BEGIN:VEVENT
DTSTART;TZID=UTC:20260331T130000
DTEND;TZID=UTC:20260331T140000
DTSTAMP:20260424T101746
CREATED:20260303T223848Z
LAST-MODIFIED:20260303T223848Z
UID:5791-1774962000-1774965600@norriscommunitylibrary.com
SUMMARY:Easter Egg Hunt!
DESCRIPTION:Celebrate Easter with us at the library! Tuesday\, March 31st\, we invite kids to come listen to some picture book Easter stories before heading outside to find some Easter eggs! Story time will start at 1pm. All kids and their parents welcome!(In case of rain\, the egg hunt will move inside the library.)
URL:https://norriscommunitylibrary.com/event/easter-egg-hunt-6
CATEGORIES:Kids,Library Events
ATTACH;FMTTYPE=image/jpeg:https://norriscommunitylibrary.com/wp-content/uploads/2026/03/Easter-Egg-Hunt.jpg
END:VEVENT
BEGIN:VEVENT
DTSTART;TZID=UTC:20260331T143000
DTEND;TZID=UTC:20260331T153000
DTSTAMP:20260424T101746
CREATED:20260303T223625Z
LAST-MODIFIED:20260303T223625Z
UID:5788-1774967400-1774971000@norriscommunitylibrary.com
SUMMARY:Easter Egg Hunt!
DESCRIPTION:Celebrate Easter with us at the library! Tuesday\, March 31st\, we invite kids to come listen to some picture book Easter stories before heading outside to find some Easter eggs! Story time will start at 2:30pm. All kids and their parents welcome!(In case of rain\, the egg hunt will move inside the library.)
URL:https://norriscommunitylibrary.com/event/easter-egg-hunt-5
CATEGORIES:Kids,Library Events
ATTACH;FMTTYPE=image/jpeg:https://norriscommunitylibrary.com/wp-content/uploads/2026/03/Easter-Egg-Hunt.jpg
END:VEVENT
BEGIN:VEVENT
DTSTART;TZID=UTC:20260402T153000
DTEND;TZID=UTC:20260402T163000
DTSTAMP:20260424T101746
CREATED:20260320T140728Z
LAST-MODIFIED:20260320T140728Z
UID:5824-1775143800-1775147400@norriscommunitylibrary.com
SUMMARY:Kids Art Club
DESCRIPTION:Kids can join us for our weekly art club every Thursday from 3:30-4:30pm! This week we’re making Snapdragons!
URL:https://norriscommunitylibrary.com/event/kids-art-club-79
CATEGORIES:Art Club,Kids,Kids Art Club
ATTACH;FMTTYPE=image/jpeg:https://norriscommunitylibrary.com/wp-content/uploads/2023/07/Kids-art-club.jpg
END:VEVENT
BEGIN:VEVENT
DTSTART;TZID=UTC:20260406T110000
DTEND;TZID=UTC:20260406T113000
DTSTAMP:20260424T101746
CREATED:20260320T144733Z
LAST-MODIFIED:20260320T144733Z
UID:5849-1775473200-1775475000@norriscommunitylibrary.com
SUMMARY:Family Storytime
DESCRIPTION:Kelsie reads themed stories and we color. This week’s theme is Flowers! This program is designed for Pre-K ages\, but younger & older siblings are also welcome!
URL:https://norriscommunitylibrary.com/event/family-storytime-73
CATEGORIES:Kids,Storytime
ATTACH;FMTTYPE=image/jpeg:https://norriscommunitylibrary.com/wp-content/uploads/2023/07/Family-Storytime-logo.jpg
END:VEVENT
BEGIN:VEVENT
DTSTART;TZID=UTC:20260409T153000
DTEND;TZID=UTC:20260409T163000
DTSTAMP:20260424T101746
CREATED:20260320T140857Z
LAST-MODIFIED:20260320T140857Z
UID:5826-1775748600-1775752200@norriscommunitylibrary.com
SUMMARY:Kids Art Club
DESCRIPTION:Kids can join us for our weekly art club every Thursday from 3:30-4:30pm! This week we’re making Bottle Flowers!
URL:https://norriscommunitylibrary.com/event/kids-art-club-80
CATEGORIES:Art Club,Kids,Kids Art Club
ATTACH;FMTTYPE=image/jpeg:https://norriscommunitylibrary.com/wp-content/uploads/2023/07/Kids-art-club.jpg
END:VEVENT
BEGIN:VEVENT
DTSTART;TZID=UTC:20260413T110000
DTEND;TZID=UTC:20260413T113000
DTSTAMP:20260424T101746
CREATED:20260320T144843Z
LAST-MODIFIED:20260320T144843Z
UID:5851-1776078000-1776079800@norriscommunitylibrary.com
SUMMARY:Family Storytime
DESCRIPTION:Kelsie reads themed stories and we color. This week’s theme is Painting! This program is designed for Pre-K ages\, but younger & older siblings are also welcome!
URL:https://norriscommunitylibrary.com/event/family-storytime-74
CATEGORIES:Kids,Storytime
ATTACH;FMTTYPE=image/jpeg:https://norriscommunitylibrary.com/wp-content/uploads/2023/07/Family-Storytime-logo.jpg
END:VEVENT
BEGIN:VEVENT
DTSTART;TZID=UTC:20260416T153000
DTEND;TZID=UTC:20260416T163000
DTSTAMP:20260424T101746
CREATED:20260320T141213Z
LAST-MODIFIED:20260320T141213Z
UID:5828-1776353400-1776357000@norriscommunitylibrary.com
SUMMARY:Kids Art Club
DESCRIPTION:Kids can join us for our weekly art club every Thursday from 3:30-4:30pm! This week we’re making Monet Style Art!
URL:https://norriscommunitylibrary.com/event/kids-art-club-81
CATEGORIES:Art Club,Kids,Kids Art Club
ATTACH;FMTTYPE=image/jpeg:https://norriscommunitylibrary.com/wp-content/uploads/2023/07/Kids-art-club.jpg
END:VEVENT
BEGIN:VEVENT
DTSTART;TZID=UTC:20260420T110000
DTEND;TZID=UTC:20260420T113000
DTSTAMP:20260424T101746
CREATED:20260320T144947Z
LAST-MODIFIED:20260320T144947Z
UID:5853-1776682800-1776684600@norriscommunitylibrary.com
SUMMARY:Family Storytime
DESCRIPTION:Kelsie reads themed stories and we color. This week’s theme is Pretend! This program is designed for Pre-K ages\, but younger & older siblings are also welcome!
URL:https://norriscommunitylibrary.com/event/family-storytime-75
CATEGORIES:Kids,Storytime
ATTACH;FMTTYPE=image/jpeg:https://norriscommunitylibrary.com/wp-content/uploads/2023/07/Family-Storytime-logo.jpg
END:VEVENT
BEGIN:VEVENT
DTSTART;TZID=UTC:20260423T153000
DTEND;TZID=UTC:20260423T163000
DTSTAMP:20260424T101746
CREATED:20260320T141418Z
LAST-MODIFIED:20260320T141418Z
UID:5830-1776958200-1776961800@norriscommunitylibrary.com
SUMMARY:Kids Art Club
DESCRIPTION:Kids can join us for our weekly art club every Thursday from 3:30-4:30pm! This week we’re making Dowel Puppets!
URL:https://norriscommunitylibrary.com/event/kids-art-club-82
CATEGORIES:Art Club,Kids,Kids Art Club
ATTACH;FMTTYPE=image/jpeg:https://norriscommunitylibrary.com/wp-content/uploads/2023/07/Kids-art-club.jpg
END:VEVENT
BEGIN:VEVENT
DTSTART;TZID=UTC:20260427T110000
DTEND;TZID=UTC:20260427T113000
DTSTAMP:20260424T101746
CREATED:20260320T145101Z
LAST-MODIFIED:20260320T145101Z
UID:5855-1777287600-1777289400@norriscommunitylibrary.com
SUMMARY:Family Storytime
DESCRIPTION:Kelsie reads themed stories and we color. This week’s theme is Mysteries! This program is designed for Pre-K ages\, but younger & older siblings are also welcome!
URL:https://norriscommunitylibrary.com/event/family-storytime-76
CATEGORIES:Kids,Storytime
ATTACH;FMTTYPE=image/jpeg:https://norriscommunitylibrary.com/wp-content/uploads/2023/07/Family-Storytime-logo.jpg
END:VEVENT
BEGIN:VEVENT
DTSTART;TZID=UTC:20260430T153000
DTEND;TZID=UTC:20260430T163000
DTSTAMP:20260424T101746
CREATED:20260320T141600Z
LAST-MODIFIED:20260320T141600Z
UID:5832-1777563000-1777566600@norriscommunitylibrary.com
SUMMARY:Kids Art Club
DESCRIPTION:Kids can join us for our weekly art club every Thursday from 3:30-4:30pm! This week we’re making a Puzzle DIY!
URL:https://norriscommunitylibrary.com/event/kids-art-club-83
CATEGORIES:Art Club,Kids,Kids Art Club
ATTACH;FMTTYPE=image/jpeg:https://norriscommunitylibrary.com/wp-content/uploads/2023/07/Kids-art-club.jpg
END:VEVENT
BEGIN:VEVENT
DTSTART;TZID=UTC:20260504T110000
DTEND;TZID=UTC:20260504T113000
DTSTAMP:20260424T101746
CREATED:20260407T150130Z
LAST-MODIFIED:20260407T150130Z
UID:5936-1777892400-1777894200@norriscommunitylibrary.com
SUMMARY:Family Storytime
DESCRIPTION:Kelsie reads themed stories and we color. This week’s theme is Wind! This program is designed for Pre-K ages\, but younger & older siblings are also welcome!
URL:https://norriscommunitylibrary.com/event/family-storytime-77
CATEGORIES:Kids,Storytime
ATTACH;FMTTYPE=image/jpeg:https://norriscommunitylibrary.com/wp-content/uploads/2023/07/Family-Storytime-logo.jpg
END:VEVENT
BEGIN:VEVENT
DTSTART;TZID=UTC:20260507T153000
DTEND;TZID=UTC:20260507T163000
DTSTAMP:20260424T101746
CREATED:20260407T145015Z
LAST-MODIFIED:20260407T145015Z
UID:5920-1778167800-1778171400@norriscommunitylibrary.com
SUMMARY:Kids Art Club
DESCRIPTION:Kids can join us for our weekly art club every Thursday from 3:30-4:30pm! This week we’re making Windchimes!
URL:https://norriscommunitylibrary.com/event/kids-art-club-84
CATEGORIES:Art Club,Kids,Kids Art Club
ATTACH;FMTTYPE=image/jpeg:https://norriscommunitylibrary.com/wp-content/uploads/2023/07/Kids-art-club.jpg
END:VEVENT
BEGIN:VEVENT
DTSTART;TZID=UTC:20260511T110000
DTEND;TZID=UTC:20260511T113000
DTSTAMP:20260424T101746
CREATED:20260407T150240Z
LAST-MODIFIED:20260407T150240Z
UID:5938-1778497200-1778499000@norriscommunitylibrary.com
SUMMARY:Family Storytime
DESCRIPTION:Kelsie reads themed stories and we color. This week’s theme is Fish! This program is designed for Pre-K ages\, but younger & older siblings are also welcome!
URL:https://norriscommunitylibrary.com/event/family-storytime-78
CATEGORIES:Kids,Storytime
ATTACH;FMTTYPE=image/jpeg:https://norriscommunitylibrary.com/wp-content/uploads/2023/07/Family-Storytime-logo.jpg
END:VEVENT
BEGIN:VEVENT
DTSTART;TZID=UTC:20260514T153000
DTEND;TZID=UTC:20260514T163000
DTSTAMP:20260424T101746
CREATED:20260407T145203Z
LAST-MODIFIED:20260407T145203Z
UID:5922-1778772600-1778776200@norriscommunitylibrary.com
SUMMARY:Kids Art Club
DESCRIPTION:Kids can join us for our weekly art club every Thursday from 3:30-4:30pm! This week we’re making Carp Kites!
URL:https://norriscommunitylibrary.com/event/kids-art-club-85
CATEGORIES:Art Club,Kids,Kids Art Club
ATTACH;FMTTYPE=image/jpeg:https://norriscommunitylibrary.com/wp-content/uploads/2023/07/Kids-art-club.jpg
END:VEVENT
BEGIN:VEVENT
DTSTART;TZID=UTC:20260518T110000
DTEND;TZID=UTC:20260518T113000
DTSTAMP:20260424T101746
CREATED:20260407T150353Z
LAST-MODIFIED:20260407T150353Z
UID:5940-1779102000-1779103800@norriscommunitylibrary.com
SUMMARY:Family Storytime
DESCRIPTION:Kelsie reads themed stories and we color. This week’s theme is Chickens! This program is designed for Pre-K ages\, but younger & older siblings are also welcome!
URL:https://norriscommunitylibrary.com/event/family-storytime-79
CATEGORIES:Kids,Storytime
ATTACH;FMTTYPE=image/jpeg:https://norriscommunitylibrary.com/wp-content/uploads/2023/07/Family-Storytime-logo.jpg
END:VEVENT
BEGIN:VEVENT
DTSTART;TZID=UTC:20260521T153000
DTEND;TZID=UTC:20260521T163000
DTSTAMP:20260424T101746
CREATED:20260407T145309Z
LAST-MODIFIED:20260407T145309Z
UID:5924-1779377400-1779381000@norriscommunitylibrary.com
SUMMARY:Kids Art Club
DESCRIPTION:Kids can join us for our weekly art club every Thursday from 3:30-4:30pm! This week we’re making Watermelon Fans!
URL:https://norriscommunitylibrary.com/event/kids-art-club-86
CATEGORIES:Art Club,Kids,Kids Art Club
ATTACH;FMTTYPE=image/jpeg:https://norriscommunitylibrary.com/wp-content/uploads/2023/07/Kids-art-club.jpg
END:VEVENT
BEGIN:VEVENT
DTSTART;TZID=UTC:20260528T153000
DTEND;TZID=UTC:20260528T163000
DTSTAMP:20260424T101746
CREATED:20260407T145429Z
LAST-MODIFIED:20260407T145429Z
UID:5926-1779982200-1779985800@norriscommunitylibrary.com
SUMMARY:Kids Art Club
DESCRIPTION:Kids can join us for our weekly art club every Thursday from 3:30-4:30pm! This week we’re making Tissue Cacti!
URL:https://norriscommunitylibrary.com/event/kids-art-club-87
CATEGORIES:Art Club,Kids,Kids Art Club
ATTACH;FMTTYPE=image/jpeg:https://norriscommunitylibrary.com/wp-content/uploads/2023/07/Kids-art-club.jpg
END:VEVENT
END:VCALENDAR