BEGIN:VCALENDAR
VERSION:2.0
PRODID:-//Norris Community Library - ECPv6.15.20//NONSGML v1.0//EN
CALSCALE:GREGORIAN
METHOD:PUBLISH
X-WR-CALNAME:Norris Community Library
X-ORIGINAL-URL:https://norriscommunitylibrary.com
X-WR-CALDESC:Events for Norris Community Library
REFRESH-INTERVAL;VALUE=DURATION:PT1H
X-Robots-Tag:noindex
X-PUBLISHED-TTL:PT1H
BEGIN:VTIMEZONE
TZID:UTC
BEGIN:STANDARD
TZOFFSETFROM:+0000
TZOFFSETTO:+0000
TZNAME:UTC
DTSTART:20220101T000000
END:STANDARD
END:VTIMEZONE
BEGIN:VEVENT
DTSTART;TZID=UTC:20240620T153000
DTEND;TZID=UTC:20240620T163000
DTSTAMP:20260424T043504
CREATED:20240531T215054Z
LAST-MODIFIED:20240531T215054Z
UID:1308-1718897400-1718901000@norriscommunitylibrary.com
SUMMARY:Kids Art Club: Seascape
DESCRIPTION:Kids can join us for our weekly art club every Thursday from 3:30-4:30pm! This week we’re making seascapes!
URL:https://norriscommunitylibrary.com/event/kids-art-club-seascape
CATEGORIES:Kids,Kids Art Club
ATTACH;FMTTYPE=image/jpeg:https://norriscommunitylibrary.com/wp-content/uploads/2023/07/Kids-art-club.jpg
END:VEVENT
BEGIN:VEVENT
DTSTART;TZID=UTC:20240613T153000
DTEND;TZID=UTC:20240613T163000
DTSTAMP:20260424T043504
CREATED:20240531T214927Z
LAST-MODIFIED:20240531T214927Z
UID:1306-1718292600-1718296200@norriscommunitylibrary.com
SUMMARY:Kids Art Club: History Craft
DESCRIPTION:Kids can join us for our weekly art club every Thursday from 3:30-4:30pm! This week we’re making some a historical craft!
URL:https://norriscommunitylibrary.com/event/kids-art-club-history-craft
CATEGORIES:Kids,Kids Art Club
ATTACH;FMTTYPE=image/jpeg:https://norriscommunitylibrary.com/wp-content/uploads/2023/07/Kids-art-club.jpg
END:VEVENT
BEGIN:VEVENT
DTSTART;TZID=UTC:20240606T153000
DTEND;TZID=UTC:20240606T163000
DTSTAMP:20260424T043504
CREATED:20240531T205249Z
LAST-MODIFIED:20240531T205249Z
UID:1282-1717687800-1717691400@norriscommunitylibrary.com
SUMMARY:Kid's Art Club: Backyard Art
DESCRIPTION:Kids can join us for our weekly art club every Thursday from 3:30-4:30pm! This week we’re making some backyard art!
URL:https://norriscommunitylibrary.com/event/kids-art-club-backyard-art
CATEGORIES:Kids,Kids Art Club
ATTACH;FMTTYPE=image/jpeg:https://norriscommunitylibrary.com/wp-content/uploads/2023/07/Kids-art-club.jpg
END:VEVENT
BEGIN:VEVENT
DTSTART;TZID=UTC:20240530T153000
DTEND;TZID=UTC:20240530T163000
DTSTAMP:20260424T043504
CREATED:20240430T151307Z
LAST-MODIFIED:20240430T151307Z
UID:1178-1717083000-1717086600@norriscommunitylibrary.com
SUMMARY:Kids Art Club: Toilet Paper Roll Flower Stamps
DESCRIPTION:Kids can join us for our weekly art club every Thursday from 3:30-4:30pm! This week we’re making toilet paper roll flower stamps.
URL:https://norriscommunitylibrary.com/event/kids-art-club-toilet-paper-roll-flower-stamps
LOCATION:Norris Community Library\, 1 Norris Square\, Norris\, TN\, 37828\, United States
CATEGORIES:Kids,Kids Art Club
ATTACH;FMTTYPE=image/jpeg:https://norriscommunitylibrary.com/wp-content/uploads/2023/07/Kids-art-club.jpg
ORGANIZER;CN="Norris Community Library":MAILTO:questions@norriscommunitylibrary.com
END:VEVENT
BEGIN:VEVENT
DTSTART;TZID=UTC:20240523T153000
DTEND;TZID=UTC:20240523T163000
DTSTAMP:20260424T043504
CREATED:20240430T151135Z
LAST-MODIFIED:20240430T151135Z
UID:1176-1716478200-1716481800@norriscommunitylibrary.com
SUMMARY:Kids Art Club: Magic Caterpillar
DESCRIPTION:Kids can join us for our weekly art club every Thursday from 3:30-4:30pm! This week we’re making a magic caterpillar.
URL:https://norriscommunitylibrary.com/event/kids-art-club-magic-caterpillar
LOCATION:Norris Community Library\, 1 Norris Square\, Norris\, TN\, 37828\, United States
CATEGORIES:Kids,Kids Art Club
ATTACH;FMTTYPE=image/jpeg:https://norriscommunitylibrary.com/wp-content/uploads/2023/07/Kids-art-club.jpg
ORGANIZER;CN="Norris Community Library":MAILTO:questions@norriscommunitylibrary.com
END:VEVENT
BEGIN:VEVENT
DTSTART;TZID=UTC:20240516T153000
DTEND;TZID=UTC:20240516T163000
DTSTAMP:20260424T043504
CREATED:20240430T151002Z
LAST-MODIFIED:20240430T151015Z
UID:1174-1715873400-1715877000@norriscommunitylibrary.com
SUMMARY:Kids Art Club: Pompom Bugs
DESCRIPTION:Kids can join us for our weekly art club every Thursday from 3:30-4:30pm! This week we’re making Pompom Bugs.
URL:https://norriscommunitylibrary.com/event/kids-art-club-pompom-bugs
LOCATION:Norris Community Library\, 1 Norris Square\, Norris\, TN\, 37828\, United States
CATEGORIES:Kids,Kids Art Club
ATTACH;FMTTYPE=image/jpeg:https://norriscommunitylibrary.com/wp-content/uploads/2023/07/Kids-art-club.jpg
ORGANIZER;CN="Norris Community Library":MAILTO:questions@norriscommunitylibrary.com
END:VEVENT
BEGIN:VEVENT
DTSTART;TZID=UTC:20240509T153000
DTEND;TZID=UTC:20240509T163000
DTSTAMP:20260424T043504
CREATED:20240430T150823Z
LAST-MODIFIED:20240430T150846Z
UID:1172-1715268600-1715272200@norriscommunitylibrary.com
SUMMARY:Kids Art Club: Handprint Cacti
DESCRIPTION:Kids can join us for our weekly art club every Thursday from 3:30-4:30pm! This week we’re making a handprint cacti.
URL:https://norriscommunitylibrary.com/event/kids-art-club-handprint-cacti
LOCATION:Norris Community Library\, 1 Norris Square\, Norris\, TN\, 37828\, United States
CATEGORIES:Kids,Kids Art Club
ATTACH;FMTTYPE=image/jpeg:https://norriscommunitylibrary.com/wp-content/uploads/2023/07/Kids-art-club.jpg
ORGANIZER;CN="Norris Community Library":MAILTO:questions@norriscommunitylibrary.com
END:VEVENT
BEGIN:VEVENT
DTSTART;TZID=UTC:20240502T153000
DTEND;TZID=UTC:20240502T163000
DTSTAMP:20260424T043504
CREATED:20240430T143435Z
LAST-MODIFIED:20240430T143435Z
UID:1149-1714663800-1714667400@norriscommunitylibrary.com
SUMMARY:Kid's Art Club: Self Portrait Paper Dolls
DESCRIPTION:Kids can join us for our weekly art club every Thursday from 3:30-4:30pm! This week we’re making an self portrait paper dolls.
URL:https://norriscommunitylibrary.com/event/kids-art-club-self-portrait-paper-dolls
LOCATION:Norris Community Library\, 1 Norris Square\, Norris\, TN\, 37828\, United States
CATEGORIES:Kids,Kids Art Club
ATTACH;FMTTYPE=image/jpeg:https://norriscommunitylibrary.com/wp-content/uploads/2023/07/Kids-art-club.jpg
ORGANIZER;CN="Norris Community Library":MAILTO:questions@norriscommunitylibrary.com
END:VEVENT
BEGIN:VEVENT
DTSTART;TZID=UTC:20240425T153000
DTEND;TZID=UTC:20240425T163000
DTSTAMP:20260424T043504
CREATED:20240403T183132Z
LAST-MODIFIED:20240403T183132Z
UID:1014-1714059000-1714062600@norriscommunitylibrary.com
SUMMARY:Kids Art Club: LEGO Stamp Trees
DESCRIPTION:Kids can join us for our weekly art club every Thursday from 3:30-4:30pm! This week we’re making LEGO Stamp Trees!
URL:https://norriscommunitylibrary.com/event/kids-art-club-lego-stamp-trees
CATEGORIES:Kids,Kids Art Club
ATTACH;FMTTYPE=image/jpeg:https://norriscommunitylibrary.com/wp-content/uploads/2023/07/Kids-art-club.jpg
END:VEVENT
BEGIN:VEVENT
DTSTART;TZID=UTC:20240418T153000
DTEND;TZID=UTC:20240418T163000
DTSTAMP:20260424T043504
CREATED:20240403T183002Z
LAST-MODIFIED:20240403T183002Z
UID:1012-1713454200-1713457800@norriscommunitylibrary.com
SUMMARY:Kids Art Club: Paper Plate Umbrellas
DESCRIPTION:Kids can join us for our weekly art club every Thursday from 3:30-4:30pm! This week we’re making Paper Plate Umbrellas!
URL:https://norriscommunitylibrary.com/event/kids-art-club-paper-plate-umbrellas
CATEGORIES:Kids,Kids Art Club
ATTACH;FMTTYPE=image/jpeg:https://norriscommunitylibrary.com/wp-content/uploads/2023/07/Kids-art-club.jpg
END:VEVENT
BEGIN:VEVENT
DTSTART;TZID=UTC:20240411T153000
DTEND;TZID=UTC:20240411T163000
DTSTAMP:20260424T043504
CREATED:20240403T182831Z
LAST-MODIFIED:20240403T182831Z
UID:1010-1712849400-1712853000@norriscommunitylibrary.com
SUMMARY:Kids Art Club: Tissue Butterfly Sun Catchers
DESCRIPTION:Kids can join us for our weekly art club every Thursday from 3:30-4:30pm! This week we’re making Tissue Butterfly Sun Catchers!
URL:https://norriscommunitylibrary.com/event/kids-art-club-tissue-butterfly-sun-catchers
CATEGORIES:Kids,Kids Art Club
ATTACH;FMTTYPE=image/jpeg:https://norriscommunitylibrary.com/wp-content/uploads/2023/07/Kids-art-club.jpg
END:VEVENT
BEGIN:VEVENT
DTSTART;TZID=UTC:20240404T153000
DTEND;TZID=UTC:20240404T163000
DTSTAMP:20260424T043504
CREATED:20240403T182636Z
LAST-MODIFIED:20240403T182636Z
UID:1008-1712244600-1712248200@norriscommunitylibrary.com
SUMMARY:Kids Art Club: Eclipse Diorama
DESCRIPTION:Kids can join us for our weekly art club every Thursday from 3:30-4:30pm! This week we’re making an eclipse diorama!
URL:https://norriscommunitylibrary.com/event/kids-art-club-eclipse-diorama
CATEGORIES:Kids,Kids Art Club
ATTACH;FMTTYPE=image/jpeg:https://norriscommunitylibrary.com/wp-content/uploads/2023/07/Kids-art-club.jpg
END:VEVENT
BEGIN:VEVENT
DTSTART;TZID=UTC:20240328T153000
DTEND;TZID=UTC:20240328T163000
DTSTAMP:20260424T043504
CREATED:20240302T184224Z
LAST-MODIFIED:20240302T184224Z
UID:924-1711639800-1711643400@norriscommunitylibrary.com
SUMMARY:Kid's Art Club: Easter Egg Surprise
DESCRIPTION:Kids can join us for our weekly art club every Thursday from 3:30-4:30pm! This week we’re making an Easter Egg Surprise!
URL:https://norriscommunitylibrary.com/event/kids-art-club-easter-egg-surprise
CATEGORIES:Kids,Kids Art Club
ATTACH;FMTTYPE=image/jpeg:https://norriscommunitylibrary.com/wp-content/uploads/2023/07/Kids-art-club.jpg
END:VEVENT
BEGIN:VEVENT
DTSTART;TZID=UTC:20240321T153000
DTEND;TZID=UTC:20240321T163000
DTSTAMP:20260424T043504
CREATED:20240302T184110Z
LAST-MODIFIED:20240302T184110Z
UID:922-1711035000-1711038600@norriscommunitylibrary.com
SUMMARY:Kid's Art Club: Sunshine Hands
DESCRIPTION:Kids can join us for our weekly art club every Thursday from 3:30-4:30pm! This week we’re making Sunshine Hands!
URL:https://norriscommunitylibrary.com/event/kids-art-club-sunshine-hands
CATEGORIES:Kids,Kids Art Club
ATTACH;FMTTYPE=image/jpeg:https://norriscommunitylibrary.com/wp-content/uploads/2023/07/Kids-art-club.jpg
END:VEVENT
BEGIN:VEVENT
DTSTART;TZID=UTC:20240314T153000
DTEND;TZID=UTC:20240314T163000
DTSTAMP:20260424T043504
CREATED:20240302T183957Z
LAST-MODIFIED:20240302T183957Z
UID:920-1710430200-1710433800@norriscommunitylibrary.com
SUMMARY:Kid's Art Club: Moon & Stars
DESCRIPTION:Kids can join us for our weekly art club every Thursday from 3:30-4:30pm! This week we’re making crafts about the moon and stars!
URL:https://norriscommunitylibrary.com/event/kids-art-club-moon-stars
CATEGORIES:Kids,Kids Art Club
ATTACH;FMTTYPE=image/jpeg:https://norriscommunitylibrary.com/wp-content/uploads/2023/07/Kids-art-club.jpg
END:VEVENT
BEGIN:VEVENT
DTSTART;TZID=UTC:20240307T153000
DTEND;TZID=UTC:20240307T163000
DTSTAMP:20260424T043504
CREATED:20240302T183709Z
LAST-MODIFIED:20240302T183709Z
UID:918-1709825400-1709829000@norriscommunitylibrary.com
SUMMARY:Kid's Art Club: Fork Tulips
DESCRIPTION:Kids can join us for our weekly art club every Thursday from 3:30-4:30pm! This week we’re making fork tulips!
URL:https://norriscommunitylibrary.com/event/kids-art-club-fork-tulips
CATEGORIES:Kids,Kids Art Club
ATTACH;FMTTYPE=image/jpeg:https://norriscommunitylibrary.com/wp-content/uploads/2023/07/Kids-art-club.jpg
END:VEVENT
BEGIN:VEVENT
DTSTART;TZID=UTC:20240229T153000
DTEND;TZID=UTC:20240229T163000
DTSTAMP:20260424T043504
CREATED:20240131T002336Z
LAST-MODIFIED:20240131T002336Z
UID:799-1709220600-1709224200@norriscommunitylibrary.com
SUMMARY:Kid's Art Club: Spring Frogs
DESCRIPTION:Kids can join us for our weekly art club every Thursday from 3:30-4:30pm! This week we’re making Spring Frogs!
URL:https://norriscommunitylibrary.com/event/kids-art-club-spring-frogs
CATEGORIES:Kids,Kids Art Club
ATTACH;FMTTYPE=image/jpeg:https://norriscommunitylibrary.com/wp-content/uploads/2023/07/Kids-art-club.jpg
END:VEVENT
BEGIN:VEVENT
DTSTART;TZID=UTC:20240222T153000
DTEND;TZID=UTC:20240222T163000
DTSTAMP:20260424T043504
CREATED:20240131T002217Z
LAST-MODIFIED:20240131T002217Z
UID:797-1708615800-1708619400@norriscommunitylibrary.com
SUMMARY:Kid's Art Club: Paper Weaving
DESCRIPTION:Kids can join us for our weekly art club every Thursday from 3:30-4:30pm! This week we’re doing paper weaving!
URL:https://norriscommunitylibrary.com/event/kids-art-club-paper-weaving
CATEGORIES:Kids,Kids Art Club
ATTACH;FMTTYPE=image/jpeg:https://norriscommunitylibrary.com/wp-content/uploads/2023/07/Kids-art-club.jpg
END:VEVENT
BEGIN:VEVENT
DTSTART;TZID=UTC:20240215T153000
DTEND;TZID=UTC:20240215T163000
DTSTAMP:20260424T043504
CREATED:20240131T002121Z
LAST-MODIFIED:20240131T002121Z
UID:795-1708011000-1708014600@norriscommunitylibrary.com
SUMMARY:Kid's Art Club: Random Acts of Kindness Bookmarks
DESCRIPTION:Kids can join us for our weekly art club every Thursday from 3:30-4:30pm! This week we’re making Random Acts of Kindness Bookmarks!
URL:https://norriscommunitylibrary.com/event/kids-art-club-random-acts-of-kindness-bookmarks
CATEGORIES:Kids,Kids Art Club
ATTACH;FMTTYPE=image/jpeg:https://norriscommunitylibrary.com/wp-content/uploads/2023/07/Kids-art-club.jpg
END:VEVENT
BEGIN:VEVENT
DTSTART;TZID=UTC:20240208T153000
DTEND;TZID=UTC:20240208T163000
DTSTAMP:20260424T043504
CREATED:20240131T002004Z
LAST-MODIFIED:20240131T002004Z
UID:793-1707406200-1707409800@norriscommunitylibrary.com
SUMMARY:Kid's Art Club: Valentine Mice
DESCRIPTION:Kids can join us for our weekly art club every Thursday from 3:30-4:30pm! This week we’re making Valentine Mice!
URL:https://norriscommunitylibrary.com/event/kids-art-club-valentine-mice
CATEGORIES:Kids,Kids Art Club
ATTACH;FMTTYPE=image/jpeg:https://norriscommunitylibrary.com/wp-content/uploads/2023/07/Kids-art-club.jpg
END:VEVENT
BEGIN:VEVENT
DTSTART;TZID=UTC:20240201T153000
DTEND;TZID=UTC:20240201T163000
DTSTAMP:20260424T043504
CREATED:20240131T001856Z
LAST-MODIFIED:20240131T001856Z
UID:791-1706801400-1706805000@norriscommunitylibrary.com
SUMMARY:Kid's Art Club: Groundhog's Shadow
DESCRIPTION:Kids can join us for our weekly art club every Thursday from 3:30-4:30pm! This week we’re making a Groundhog’s Shadow!
URL:https://norriscommunitylibrary.com/event/kids-art-club-groundhogs-shadow
CATEGORIES:Kids,Kids Art Club
ATTACH;FMTTYPE=image/jpeg:https://norriscommunitylibrary.com/wp-content/uploads/2023/07/Kids-art-club.jpg
END:VEVENT
BEGIN:VEVENT
DTSTART;TZID=UTC:20240125T153000
DTEND;TZID=UTC:20240125T163000
DTSTAMP:20260424T043504
CREATED:20231230T195520Z
LAST-MODIFIED:20231230T195520Z
UID:733-1706196600-1706200200@norriscommunitylibrary.com
SUMMARY:Kids Art Club: Melted Snowman
DESCRIPTION:Kids can join us for our weekly art club every Thursday from 3:30-4:30pm! This week we’re making a melted snowman!
URL:https://norriscommunitylibrary.com/event/kids-art-club-melted-snowman
CATEGORIES:Kids,Kids Art Club
ATTACH;FMTTYPE=image/jpeg:https://norriscommunitylibrary.com/wp-content/uploads/2023/07/Kids-art-club.jpg
END:VEVENT
BEGIN:VEVENT
DTSTART;TZID=UTC:20240118T153000
DTEND;TZID=UTC:20240118T163000
DTSTAMP:20260424T043504
CREATED:20231230T195401Z
LAST-MODIFIED:20231230T195401Z
UID:731-1705591800-1705595400@norriscommunitylibrary.com
SUMMARY:Kids Art Club: Cardboard Snowflakes
DESCRIPTION:Kids can join us for our weekly art club every Thursday from 3:30-4:30pm! This week we’re making Cardboard Snowflakes!
URL:https://norriscommunitylibrary.com/event/kids-art-club-cardboard-snowflakes
CATEGORIES:Kids,Kids Art Club
ATTACH;FMTTYPE=image/jpeg:https://norriscommunitylibrary.com/wp-content/uploads/2023/07/Kids-art-club.jpg
END:VEVENT
BEGIN:VEVENT
DTSTART;TZID=UTC:20240111T153000
DTEND;TZID=UTC:20240111T163000
DTSTAMP:20260424T043504
CREATED:20231230T195224Z
LAST-MODIFIED:20231230T195224Z
UID:729-1704987000-1704990600@norriscommunitylibrary.com
SUMMARY:Kids Art Club: Polar Bear Hands
DESCRIPTION:Kids can join us for our weekly art club every Thursday from 3:30-4:30pm! This week we’re making Polar Bear Hands!
URL:https://norriscommunitylibrary.com/event/kids-art-club-polar-bear-hands
CATEGORIES:Kids,Kids Art Club
ATTACH;FMTTYPE=image/jpeg:https://norriscommunitylibrary.com/wp-content/uploads/2023/07/Kids-art-club.jpg
END:VEVENT
BEGIN:VEVENT
DTSTART;TZID=UTC:20240104T153000
DTEND;TZID=UTC:20240104T163000
DTSTAMP:20260424T043504
CREATED:20231230T195055Z
LAST-MODIFIED:20231230T195055Z
UID:727-1704382200-1704385800@norriscommunitylibrary.com
SUMMARY:Kids Art Club: Watercolor Aurora
DESCRIPTION:Kids can join us for our weekly art club every Thursday from 3:30-4:30pm! This week we’re making Watercolor Aurora!
URL:https://norriscommunitylibrary.com/event/kids-art-club-watercolor-aurora
CATEGORIES:Kids,Kids Art Club
ATTACH;FMTTYPE=image/jpeg:https://norriscommunitylibrary.com/wp-content/uploads/2023/07/Kids-art-club.jpg
END:VEVENT
BEGIN:VEVENT
DTSTART;TZID=UTC:20231228T153000
DTEND;TZID=UTC:20231228T163000
DTSTAMP:20260424T043504
CREATED:20231202T170937Z
LAST-MODIFIED:20231202T170937Z
UID:662-1703777400-1703781000@norriscommunitylibrary.com
SUMMARY:Kids Art Club: Winter Trees
DESCRIPTION:Kids can join us for our weekly art club every Thursday from 3:30-4:30pm! This week we’re making winter trees!
URL:https://norriscommunitylibrary.com/event/kids-art-club-winter-trees
CATEGORIES:Kids,Kids Art Club
ATTACH;FMTTYPE=image/jpeg:https://norriscommunitylibrary.com/wp-content/uploads/2023/07/Kids-art-club.jpg
END:VEVENT
BEGIN:VEVENT
DTSTART;TZID=UTC:20231221T153000
DTEND;TZID=UTC:20231221T163000
DTSTAMP:20260424T043504
CREATED:20231202T170816Z
LAST-MODIFIED:20231202T170816Z
UID:660-1703172600-1703176200@norriscommunitylibrary.com
SUMMARY:Kids Art Club: Paper Quilt
DESCRIPTION:Kids can join us for our weekly art club every Thursday from 3:30-4:30pm! This week we’re making Paper Quilts!
URL:https://norriscommunitylibrary.com/event/kids-art-club-paper-quilt
CATEGORIES:Kids,Kids Art Club
ATTACH;FMTTYPE=image/jpeg:https://norriscommunitylibrary.com/wp-content/uploads/2023/07/Kids-art-club.jpg
END:VEVENT
BEGIN:VEVENT
DTSTART;TZID=UTC:20231214T153000
DTEND;TZID=UTC:20231214T163000
DTSTAMP:20260424T043504
CREATED:20231202T170707Z
LAST-MODIFIED:20231202T170707Z
UID:658-1702567800-1702571400@norriscommunitylibrary.com
SUMMARY:Kids Art Club: Felt Trees
DESCRIPTION:Kids can join us for our weekly art club every Thursday from 3:30-4:30pm! This week we’re making Felt Trees!
URL:https://norriscommunitylibrary.com/event/kids-art-club-felt-trees
CATEGORIES:Kids,Kids Art Club
ATTACH;FMTTYPE=image/jpeg:https://norriscommunitylibrary.com/wp-content/uploads/2023/07/Kids-art-club.jpg
END:VEVENT
BEGIN:VEVENT
DTSTART;TZID=UTC:20231207T153000
DTEND;TZID=UTC:20231207T163000
DTSTAMP:20260424T043504
CREATED:20231202T170600Z
LAST-MODIFIED:20231202T170600Z
UID:656-1701963000-1701966600@norriscommunitylibrary.com
SUMMARY:Kids Art Club: Paper Snowflakes
DESCRIPTION:Kids can join us for our weekly art club every Thursday from 3:30-4:30pm! This week we’re making Paper Snowflakes!
URL:https://norriscommunitylibrary.com/event/kids-art-club-paper-snowflakes
CATEGORIES:Kids,Kids Art Club
ATTACH;FMTTYPE=image/jpeg:https://norriscommunitylibrary.com/wp-content/uploads/2023/07/Kids-art-club.jpg
END:VEVENT
BEGIN:VEVENT
DTSTART;TZID=UTC:20231019T153000
DTEND;TZID=UTC:20231019T163000
DTSTAMP:20260424T043504
CREATED:20230928T232422Z
LAST-MODIFIED:20230928T232422Z
UID:597-1697729400-1697733000@norriscommunitylibrary.com
SUMMARY:Kid's Art Club- DIY Candy Bag
DESCRIPTION:Kids can join us for our weekly art club every Thursday from 3:30-4:30pm! This week we’re making DIY Candy Bags!
URL:https://norriscommunitylibrary.com/event/kids-art-club-diy-candy-bag
CATEGORIES:Kids,Kids Art Club
ATTACH;FMTTYPE=image/jpeg:https://norriscommunitylibrary.com/wp-content/uploads/2023/07/Kids-art-club.jpg
END:VEVENT
END:VCALENDAR