BEGIN:VCALENDAR
VERSION:2.0
PRODID:-//Norris Community Library - ECPv6.15.20//NONSGML v1.0//EN
CALSCALE:GREGORIAN
METHOD:PUBLISH
X-ORIGINAL-URL:https://norriscommunitylibrary.com
X-WR-CALDESC:Events for Norris Community Library
REFRESH-INTERVAL;VALUE=DURATION:PT1H
X-Robots-Tag:noindex
X-PUBLISHED-TTL:PT1H
BEGIN:VTIMEZONE
TZID:UTC
BEGIN:STANDARD
TZOFFSETFROM:+0000
TZOFFSETTO:+0000
TZNAME:UTC
DTSTART:20250101T000000
END:STANDARD
END:VTIMEZONE
BEGIN:VEVENT
DTSTART;TZID=UTC:20260601T110000
DTEND;TZID=UTC:20260601T120000
DTSTAMP:20260423T215250
CREATED:20260422T153624Z
LAST-MODIFIED:20260422T153624Z
UID:6129-1780311600-1780315200@norriscommunitylibrary.com
SUMMARY:Family Storytime: Summer Reading Kickoff!
DESCRIPTION:We’re kicking off our Summer Reading Program for the little kids this Monday at Story Time! The theme this year is “Unearth a Story!” Families can join us at 11am for some dino-themed picture books\, coloring\, and fun activities!\nYou can also sign up the whole family for the program while you’re here and receive a goody bag (and get a good start on your Summer Reading list with the picture books we’ll read together!)Find more information about the program here: https://norriscommunitylibrary.com/summer-reading-program
URL:https://norriscommunitylibrary.com/event/family-storytime-summer-reading-kickoff
CATEGORIES:Kids,Storytime,Summer Reading
ATTACH;FMTTYPE=image/jpeg:https://norriscommunitylibrary.com/wp-content/uploads/2023/07/Family-Storytime-logo.jpg
END:VEVENT
END:VCALENDAR