BEGIN:VCALENDAR
VERSION:2.0
PRODID:-//Norris Community Library - ECPv6.15.20//NONSGML v1.0//EN
CALSCALE:GREGORIAN
METHOD:PUBLISH
X-WR-CALNAME:Norris Community Library
X-ORIGINAL-URL:https://norriscommunitylibrary.com
X-WR-CALDESC:Events for Norris Community Library
REFRESH-INTERVAL;VALUE=DURATION:PT1H
X-Robots-Tag:noindex
X-PUBLISHED-TTL:PT1H
BEGIN:VTIMEZONE
TZID:UTC
BEGIN:STANDARD
TZOFFSETFROM:+0000
TZOFFSETTO:+0000
TZNAME:UTC
DTSTART:20250101T000000
END:STANDARD
END:VTIMEZONE
BEGIN:VEVENT
DTSTART;TZID=UTC:20260202T110000
DTEND;TZID=UTC:20260202T113000
DTSTAMP:20260423T202050
CREATED:20260115T153948Z
LAST-MODIFIED:20260115T161850Z
UID:5481-1770030000-1770031800@norriscommunitylibrary.com
SUMMARY:Family Storytime
DESCRIPTION:Kelsie reads themed stories and we color. This week’s theme is Dogs! This program is designed for Pre-K ages\, but younger & older siblings are also welcome!
URL:https://norriscommunitylibrary.com/event/family-storytime-65
CATEGORIES:Kids,Storytime
ATTACH;FMTTYPE=image/jpeg:https://norriscommunitylibrary.com/wp-content/uploads/2023/07/Family-Storytime-logo.jpg
END:VEVENT
BEGIN:VEVENT
DTSTART;TZID=UTC:20260205T153000
DTEND;TZID=UTC:20260205T163000
DTSTAMP:20260423T202050
CREATED:20260115T152156Z
LAST-MODIFIED:20260115T152156Z
UID:5463-1770305400-1770309000@norriscommunitylibrary.com
SUMMARY:Kids Art Club
DESCRIPTION:Kids can join us for our weekly art club every Thursday from 3:30-4:30pm! This week we’re making Shadow Polar Bears!
URL:https://norriscommunitylibrary.com/event/kids-art-club-70
CATEGORIES:Art Club,Kids,Kids Art Club
ATTACH;FMTTYPE=image/jpeg:https://norriscommunitylibrary.com/wp-content/uploads/2023/07/Kids-art-club.jpg
END:VEVENT
BEGIN:VEVENT
DTSTART;TZID=UTC:20260209T110000
DTEND;TZID=UTC:20260209T113000
DTSTAMP:20260423T202050
CREATED:20260115T154118Z
LAST-MODIFIED:20260115T161915Z
UID:5483-1770634800-1770636600@norriscommunitylibrary.com
SUMMARY:Family Storytime
DESCRIPTION:Kelsie reads themed stories and we color. This week’s theme is Valentines! This program is designed for Pre-K ages\, but younger & older siblings are also welcome!
URL:https://norriscommunitylibrary.com/event/family-storytime-66
CATEGORIES:Kids,Storytime
ATTACH;FMTTYPE=image/jpeg:https://norriscommunitylibrary.com/wp-content/uploads/2023/07/Family-Storytime-logo.jpg
END:VEVENT
BEGIN:VEVENT
DTSTART;TZID=UTC:20260212T153000
DTEND;TZID=UTC:20260212T163000
DTSTAMP:20260423T202050
CREATED:20260115T152321Z
LAST-MODIFIED:20260115T152321Z
UID:5465-1770910200-1770913800@norriscommunitylibrary.com
SUMMARY:Kids Art Club
DESCRIPTION:Kids can join us for our weekly art club every Thursday from 3:30-4:30pm! This week we’re making Valentine Mice!
URL:https://norriscommunitylibrary.com/event/kids-art-club-72
CATEGORIES:Art Club,Kids,Kids Art Club
ATTACH;FMTTYPE=image/jpeg:https://norriscommunitylibrary.com/wp-content/uploads/2023/07/Kids-art-club.jpg
END:VEVENT
BEGIN:VEVENT
DTSTART;TZID=UTC:20260219T153000
DTEND;TZID=UTC:20260219T163000
DTSTAMP:20260423T202050
CREATED:20260115T152427Z
LAST-MODIFIED:20260115T152427Z
UID:5467-1771515000-1771518600@norriscommunitylibrary.com
SUMMARY:Kids Art Club
DESCRIPTION:Kids can join us for our weekly art club every Thursday from 3:30-4:30pm! This week we’re making Paper Roll Dogs!
URL:https://norriscommunitylibrary.com/event/kids-art-club-73
CATEGORIES:Art Club,Kids,Kids Art Club
ATTACH;FMTTYPE=image/jpeg:https://norriscommunitylibrary.com/wp-content/uploads/2023/07/Kids-art-club.jpg
END:VEVENT
BEGIN:VEVENT
DTSTART;TZID=UTC:20260223T110000
DTEND;TZID=UTC:20260223T113000
DTSTAMP:20260423T202050
CREATED:20260115T154247Z
LAST-MODIFIED:20260115T161948Z
UID:5485-1771844400-1771846200@norriscommunitylibrary.com
SUMMARY:Family Storytime
DESCRIPTION:Kelsie reads themed stories and we color. This week’s theme is Ocean! This program is designed for Pre-K ages\, but younger & older siblings are also welcome!
URL:https://norriscommunitylibrary.com/event/family-storytime-67
CATEGORIES:Kids,Storytime
ATTACH;FMTTYPE=image/jpeg:https://norriscommunitylibrary.com/wp-content/uploads/2023/07/Family-Storytime-logo.jpg
END:VEVENT
BEGIN:VEVENT
DTSTART;TZID=UTC:20260226T153000
DTEND;TZID=UTC:20260226T163000
DTSTAMP:20260423T202050
CREATED:20260115T152544Z
LAST-MODIFIED:20260115T152544Z
UID:5469-1772119800-1772123400@norriscommunitylibrary.com
SUMMARY:Kids Art Club
DESCRIPTION:Kids can join us for our weekly art club every Thursday from 3:30-4:30pm! This week we’re Felt Stuffies!
URL:https://norriscommunitylibrary.com/event/kids-art-club-74
CATEGORIES:Art Club,Kids,Kids Art Club
ATTACH;FMTTYPE=image/jpeg:https://norriscommunitylibrary.com/wp-content/uploads/2023/07/Kids-art-club.jpg
END:VEVENT
END:VCALENDAR