BEGIN:VCALENDAR
VERSION:2.0
PRODID:-//Norris Community Library - ECPv6.15.20//NONSGML v1.0//EN
CALSCALE:GREGORIAN
METHOD:PUBLISH
X-WR-CALNAME:Norris Community Library
X-ORIGINAL-URL:https://norriscommunitylibrary.com
X-WR-CALDESC:Events for Norris Community Library
REFRESH-INTERVAL;VALUE=DURATION:PT1H
X-Robots-Tag:noindex
X-PUBLISHED-TTL:PT1H
BEGIN:VTIMEZONE
TZID:UTC
BEGIN:STANDARD
TZOFFSETFROM:+0000
TZOFFSETTO:+0000
TZNAME:UTC
DTSTART:20230101T000000
END:STANDARD
END:VTIMEZONE
BEGIN:VEVENT
DTSTART;TZID=UTC:20240511T090000
DTEND;TZID=UTC:20240511T120000
DTSTAMP:20260424T040659
CREATED:20240412T154712Z
LAST-MODIFIED:20240412T154712Z
UID:1088-1715418000-1715428800@norriscommunitylibrary.com
SUMMARY:Renaissance Run
DESCRIPTION:Event Information: \nRenaissance Run\n\n\nDate: 05/11/2024\nTime: starting at 9:00AM\nLocation: In the center of Norris\, TN\nAddress: 5 Norris Square\n\nContact for questions:\n\nRenaissance Run on Facebook\nBrianne.Kibler@gmail.com\n\n\n\nThis is a paid event. Registration is $25 and youth (11 and under) $10. \nThe Norris Area Community Foundation Presents the 2024 Renaissance Run. There are three categories for participants to choose from: 5k Run\, 1 Mile Fun Walk\, and Virtual Experience. The event will also have awards\, door prizes\, and a bounce house. Proceeds benefit community grants in the Andersonville\, Bethel\, Fairview\, and Norris service area.
URL:https://norriscommunitylibrary.com/event/renaissance-run
LOCATION:TN
CATEGORIES:Community Events
ATTACH;FMTTYPE=image/jpeg:https://norriscommunitylibrary.com/wp-content/uploads/2024/04/renaissance-run.jpg
END:VEVENT
BEGIN:VEVENT
DTSTART;TZID=UTC:20240430T130000
DTEND;TZID=UTC:20240430T160000
DTSTAMP:20260424T040659
CREATED:20240407T004910Z
LAST-MODIFIED:20240407T004910Z
UID:1048-1714482000-1714492800@norriscommunitylibrary.com
SUMMARY:Mahjong
DESCRIPTION:Event Information: \nMahjong for beginners and all levels.\n\nDate: 04/16/2024\nTime: 1:00-4:00pm\nLocation: Norris City Meeting Room\nAddress: 20 Chestnut Dr\, Norris\, TN 37828\nContact for questions:\n\nCynthia Edrington 865-202-0995\n\n\n\nThis is a free event.
URL:https://norriscommunitylibrary.com/event/mahjong-2
LOCATION:TN
CATEGORIES:Community Events
END:VEVENT
BEGIN:VEVENT
DTSTART;TZID=UTC:20240424T133000
DTEND;TZID=UTC:20240424T150000
DTSTAMP:20260424T040659
CREATED:20240409T160314Z
LAST-MODIFIED:20240409T160314Z
UID:1053-1713965400-1713970800@norriscommunitylibrary.com
SUMMARY:Bits 'N Pieces Quilt Guild Meeting
DESCRIPTION:Event Information: \nBits ‘N Pieces Quilt Guild Monthly Meeting\n\n\nDate: 04/24/2024\nTime: 1:30-3:00pm (come early at 1:00 to socialize!)\nLocation: Norris Community Center\nAddress: 20 Chestnut Dr\, Norris\, TN 37828\nContact for questions:\n\nLisa MacKay\, Co-President & Treasurer\, 407-416-6533\nJudy Valentine\, Co-President\, 865-898-1137\nCarolyn Jenkinson\, Secretary\, 865-719-5578\n\n\n\nYearly dues are $15\, but you may attend your first two meetings without joining to “check us out.” Meetings usually include catching up on guild business\, show and tell\, and a program.
URL:https://norriscommunitylibrary.com/event/bits-n-pieces-quilt-guild-meeting
LOCATION:TN
CATEGORIES:Community Events
END:VEVENT
BEGIN:VEVENT
DTSTART;TZID=UTC:20240420T090000
DTEND;TZID=UTC:20240420T130000
DTSTAMP:20260424T040659
CREATED:20240412T183440Z
LAST-MODIFIED:20240412T183440Z
UID:1093-1713603600-1713618000@norriscommunitylibrary.com
SUMMARY:Norris Religious Fellowship Plant Sale
DESCRIPTION:Event Information: \nPlant Sale\n\n\nDate: 04/20/2024\nTime: 9:00 AM-1:00PM\nLocation: Norris Religious Fellowship\nAddress: 23 Dogwood Rd\, Norris\, TN 37828\nContact for questions: 865-494-7131\n\nThis is a free event to attend\, but is a sale. \nHonoring the Plant Sale founders Betty Lovell & Allene Ray. Featuring plants from local gardens. This organization is also seeking plant donations. Please drop off your plant donations by April 19th.
URL:https://norriscommunitylibrary.com/event/norris-religious-fellowship-plant-sale
LOCATION:TN
CATEGORIES:Community Events
END:VEVENT
BEGIN:VEVENT
DTSTART;TZID=UTC:20240416T130000
DTEND;TZID=UTC:20240416T160000
DTSTAMP:20260424T040659
CREATED:20240407T004501Z
LAST-MODIFIED:20240407T004620Z
UID:1044-1713272400-1713283200@norriscommunitylibrary.com
SUMMARY:Mahjong
DESCRIPTION:Event Information: \nMahjong for beginners and all levels.\n\nDate: 04/16/2024\nTime: 1:00-4:00pm\nLocation: Norris City Meeting Room\nAddress: 20 Chestnut Dr\, Norris\, TN 37828\nContact for questions:\n\nCynthia Edrington 865-202-0995\n\n\n\nThis is a free event.
URL:https://norriscommunitylibrary.com/event/mahjong
LOCATION:TN
CATEGORIES:Community Events
END:VEVENT
BEGIN:VEVENT
DTSTART;TZID=UTC:20240414T140000
DTEND;TZID=UTC:20240414T163000
DTSTAMP:20260424T040659
CREATED:20240412T151931Z
LAST-MODIFIED:20240412T152013Z
UID:1085-1713103200-1713112200@norriscommunitylibrary.com
SUMMARY:Norris Anniversary Play: Where I Belong by Tony Branam
DESCRIPTION:Event Information: \nWhere I Belong a play by Tony Branam (Community Play)\n\n\nDate: 04/14/2024\nTime: 2:00pm\nLocation: Museum of Appalachia\nAddress: 2819 Andersonville Hwy\, Clinton\, TN 37716\nContact for questions:\n\nNorris Anniversary Play on Facebook\n\n\n\nThis is a paid event. Tickets are $20 for an adult and $5 for kids 12 and younger. Tickets for this showing are sold out. \nA heartwarming comedy set during the construction of the TVA Dam in what will become Norris\, TN.
URL:https://norriscommunitylibrary.com/event/1085
LOCATION:TN
CATEGORIES:Community Events
ATTACH;FMTTYPE=image/jpeg:https://norriscommunitylibrary.com/wp-content/uploads/2024/04/Norris-75th-Anniversary-Logo.jpg
END:VEVENT
BEGIN:VEVENT
DTSTART;TZID=UTC:20240413T190000
DTEND;TZID=UTC:20240413T213000
DTSTAMP:20260424T040659
CREATED:20240412T151614Z
LAST-MODIFIED:20240412T154820Z
UID:1083-1713034800-1713043800@norriscommunitylibrary.com
SUMMARY:Norris Anniversary Play: Where I Belong by Tony Branam
DESCRIPTION:Event Information: \nWhere I Belong a play by Tony Branam (Community Play)\n\n\nDate: 04/13/2024\nTime: 7:00pm\nLocation: Museum of Appalachia\nAddress: 2819 Andersonville Hwy\, Clinton\, TN 37716\nContact for questions:\n\nNorris Anniversary Play on Facebook\n\n\n\nThis is a paid event. Tickets are $20 for an adult and $5 for kids 12 and younger. \nA heartwarming comedy set during the construction of the TVA Dam in what will become Norris\, TN.
URL:https://norriscommunitylibrary.com/event/norris-anniversary-play-where-i-belong-by-tony-branam-2
LOCATION:TN
CATEGORIES:Community Events
ATTACH;FMTTYPE=image/jpeg:https://norriscommunitylibrary.com/wp-content/uploads/2024/04/Norris-75th-Anniversary-Logo.jpg
END:VEVENT
BEGIN:VEVENT
DTSTART;TZID=UTC:20240412T190000
DTEND;TZID=UTC:20240412T213000
DTSTAMP:20260424T040659
CREATED:20240412T151420Z
LAST-MODIFIED:20240412T151420Z
UID:1080-1712948400-1712957400@norriscommunitylibrary.com
SUMMARY:Norris Anniversary Play: Where I Belong by Tony Branam
DESCRIPTION:Event Information: \nWhere I Belong a play by Tony Branam (Community Play)\n\n\nDate: 04/12/2024\nTime: 7:00pm\nLocation: Museum of Appalachia\nAddress: 2819 Andersonville Hwy\, Clinton\, TN 37716\nContact for questions:\n\nNorris Anniversary Play on Facebook\n\n\n\nThis is a paid event. Tickets are $20 for an adult and $5 for kids 12 and younger. \nA heartwarming comedy set during the construction of the TVA Dam in what will become Norris\, TN.
URL:https://norriscommunitylibrary.com/event/norris-anniversary-play-where-i-belong-by-tony-branam
LOCATION:TN
CATEGORIES:Community Events
ATTACH;FMTTYPE=image/jpeg:https://norriscommunitylibrary.com/wp-content/uploads/2024/04/Norris-75th-Anniversary-Logo.jpg
END:VEVENT
END:VCALENDAR