BEGIN:VCALENDAR
VERSION:2.0
PRODID:-//Norris Community Library - ECPv6.15.20//NONSGML v1.0//EN
CALSCALE:GREGORIAN
METHOD:PUBLISH
X-ORIGINAL-URL:https://norriscommunitylibrary.com
X-WR-CALDESC:Events for Norris Community Library
REFRESH-INTERVAL;VALUE=DURATION:PT1H
X-Robots-Tag:noindex
X-PUBLISHED-TTL:PT1H
BEGIN:VTIMEZONE
TZID:UTC
BEGIN:STANDARD
TZOFFSETFROM:+0000
TZOFFSETTO:+0000
TZNAME:UTC
DTSTART:20230101T000000
END:STANDARD
END:VTIMEZONE
BEGIN:VEVENT
DTSTART;TZID=UTC:20240910T140000
DTEND;TZID=UTC:20240910T150000
DTSTAMP:20260424T024120
CREATED:20240802T150505Z
LAST-MODIFIED:20240802T215315Z
UID:1634-1725976800-1725980400@norriscommunitylibrary.com
SUMMARY:Adult Immunization Education Event
DESCRIPTION:Adult Immunization Education Event\n\npresented by the UT CRNN (Community Registered Nurse Navigators)\n\n\nDate: 09/10/2024\nTime: 2:00PM\nLocation: Norris Gardens\nAddress: 11 Chestnut Dr Box 98\, Norris\, TN 37828\nContact for questions: unknown\n\nThis is a free event. Education session is on 09/10/24 at 2:00PM and vaccines will be offered at the same location on 09/17/24 at 2PM. (Please note that most vaccines are free with insurance\, but you should check to be sure.) \nEvent Description: \nSubmitted: “Get your vaccines before respiratory virus season starts! \nThis is a chance to learn about immunizations and ask questions without judgement. \nJoin us on September 10 at 2pm at Norris Gardens for the Education Session. Vaccines will be offered here on September 17th at 2pm. Most vaccines are free with insurances. Light refreshments will be served.”
URL:https://norriscommunitylibrary.com/event/adult-immunization-education-event
CATEGORIES:Community Events
END:VEVENT
BEGIN:VEVENT
DTSTART;TZID=UTC:20240909T190000
DTEND;TZID=UTC:20240909T210000
DTSTAMP:20260424T024120
CREATED:20240730T194841Z
LAST-MODIFIED:20240730T194841Z
UID:1623-1725908400-1725915600@norriscommunitylibrary.com
SUMMARY:Claxton Country Squares
DESCRIPTION:What: Learn to square dance to Modern music with Nationally known caller and teacher Mike Hoose. \nWho: You\, your family\, your friends\, your neighbors. No Prior experience required. Dress Casually. \nWhy: It’s great exercise\, both mental and physical\, and you meet great people. Plus\, it’s FUN!!! \nFirst two classes free\, further classes $6 a person. \nFor more info Call/Text 865-257-2955 or email: loall04@comcast.net
URL:https://norriscommunitylibrary.com/event/claxton-country-squares
LOCATION:Claxton Community Center\, 1071 Edgemoor Road\, Clinton\, TN\, 37716\, United States
CATEGORIES:Community Events
ATTACH;FMTTYPE=image/jpeg:https://norriscommunitylibrary.com/wp-content/uploads/2024/07/Picture1.jpg
END:VEVENT
BEGIN:VEVENT
DTSTART;TZID=UTC:20240824T173000
DTEND;TZID=UTC:20240824T200000
DTSTAMP:20260424T024120
CREATED:20240730T203237Z
LAST-MODIFIED:20240730T203237Z
UID:1629-1724520600-1724529600@norriscommunitylibrary.com
SUMMARY:Norris Summer Picnic
DESCRIPTION:𝗕𝗿𝗶𝗻𝗴 𝘆𝗼𝘂𝗿 𝗳𝗮𝘃𝗼𝗿𝗶𝘁𝗲 𝗰𝗵𝗮𝗶𝗿 𝗼𝗿 𝗯𝗹𝗮𝗻𝗸𝗲𝘁 𝗮𝗻𝗱 𝘄𝗲’𝗹𝗹 𝘀𝘂𝗽𝗽𝗹𝘆 𝘁𝗵𝗲 𝗿𝗲𝘀𝘁. 𝗪𝗲 𝗮𝗿𝗲 𝗲𝘅𝗰𝗶𝘁𝗲𝗱 𝘁𝗼 𝘄𝗲𝗹𝗰𝗼𝗺𝗲 The Tenos 𝗮𝗻𝗱 The Clinch River Ramblers  𝗯𝗮𝗰𝗸 𝘁𝗼 𝘁𝗵𝗲 𝗡𝗼𝗿𝗿𝗶𝘀 𝘀𝘁𝗮𝗴𝗲. 𝗧𝗵𝗲 Norris Fire Department 𝘄𝗶𝗹𝗹 𝗲𝗻𝘀𝘂𝗿𝗲 𝘄𝗲 𝗵𝗮𝘃𝗲 𝘀𝗼𝗺𝗲 𝗲𝘅𝗰𝗶𝘁𝗶𝗻𝗴 𝘄𝗮𝘁𝗲𝗿 𝗳𝘂𝗻 𝗳𝗼𝗿 𝘁𝗵𝗲 𝘆𝗼𝘂𝗻𝗴 𝗮𝘁 𝗵𝗲𝗮𝗿𝘁! 𝗙𝗼𝗼𝗱 𝗧𝗿𝘂𝗰𝗸𝘀\, 𝗟𝗮𝘄𝗻 𝗚𝗮𝗺𝗲𝘀\, 𝗕𝗼𝘂𝗻𝗰𝗲 𝗛𝗼𝘂𝘀𝗲…𝘁𝗵𝗲 𝗽𝗲𝗿𝗳𝗲𝗰𝘁 𝗿𝗲𝗰𝗶𝗽𝗲 𝗳𝗼𝗿 𝗮 𝘄𝗼𝗻𝗱𝗲𝗿𝗳𝘂𝗹 𝗲𝘃𝗲𝗻𝗶𝗻𝗴 𝗳𝗼𝗿 𝗮𝗹𝗹 𝗮𝗴𝗲𝘀. \nHosted by the Norris Recreation Commission
URL:https://norriscommunitylibrary.com/event/norris-summer-picnic
CATEGORIES:Community Events
END:VEVENT
BEGIN:VEVENT
DTSTART;TZID=UTC:20240818T120000
DTEND;TZID=UTC:20240818T143000
DTSTAMP:20260424T024120
CREATED:20240730T204509Z
LAST-MODIFIED:20240730T204509Z
UID:1631-1723982400-1723991400@norriscommunitylibrary.com
SUMMARY:5th Annual Community Resource Fair
DESCRIPTION:5th Annual Anderson County Resource Fair\n\nDate: 08/18/2024\nTime: 12:00-2:30 PM\nLocation: Family Life Center\, First Baptist Church\, Clinton\, TN 37716\nContact for questions:\n\ninfo@acresourcefair.com\n\n\n\nThis is a free event. \nFind Resources that Serve and Support the Anderson County Community \nPlease make plans to attend this year’s resource fair! Free Food—hamburgers\, hot dogs\, and all the fixin’s! Freebies on the Tables! Door Prizes! Children’s Activity Area with games and prizes! Adult Activity area with cornhole\, checkers\, etc.! Please also help us spread the word about this event (watch and share the video  as well as the fliers\, etc. on the advertising page) so our community can come together\, learn\, and network\, that we might each become “walking resources fairs” for our neighbors in need. No one person (or church or agency) can meet every need we encounter\, but if we educate ourselves about existing resources in our community\, we will be able to better connect those in need around us to resources that can help.
URL:https://norriscommunitylibrary.com/event/5th-annual-community-resource-fair
CATEGORIES:Community Events
END:VEVENT
BEGIN:VEVENT
DTSTART;TZID=UTC:20240704T190000
DTEND;TZID=UTC:20240704T210000
DTSTAMP:20260424T024120
CREATED:20240604T181848Z
LAST-MODIFIED:20240604T181848Z
UID:1350-1720119600-1720126800@norriscommunitylibrary.com
SUMMARY:Concert on the Commons: 110 in the Shade
DESCRIPTION:Event Information: \nConcert on the Commons: 110 in the Shade\n\nDate: 06/07/2024\nTime: 7:00pm-9:00pm\nLocation: Norris Commons (Front lawn of the Norris Middle School)\nContact for questions:\n\nNorris Recreation Commission Facebook page\n\n\n\nThis is a free event. \nNorris welcomes you to Concert on the Commons. This season\, Season 2024\, for the first time ever\, the Norris Recreation Commission has taken over the “Concert on the Commons” and lined up four talented groups of entertainers to help our Norris concert goers groove into summer. \nLine up: \n\nJune 7th: Voodoo Cadillac\nJune 14th: My New Favorites\nJune 21: Tennessee Sheiks\nJuly 4th: 110 in the Shade\n\nThis event is hosted by the Norris Recreation Commission and sponsored by PCUD Natural Gas.
URL:https://norriscommunitylibrary.com/event/concert-on-the-commons-110-in-the-shade
CATEGORIES:Community Events
END:VEVENT
BEGIN:VEVENT
DTSTART;TZID=UTC:20240621T190000
DTEND;TZID=UTC:20240621T210000
DTSTAMP:20260424T024120
CREATED:20240604T181801Z
LAST-MODIFIED:20240604T181801Z
UID:1348-1718996400-1719003600@norriscommunitylibrary.com
SUMMARY:Concert on the Commons: Tennessee Sheiks
DESCRIPTION:Event Information: \nConcert on the Commons: Tennessee Sheiks\n\nDate: 06/07/2024\nTime: 7:00pm-9:00pm\nLocation: Norris Commons (Front lawn of the Norris Middle School)\nContact for questions:\n\nNorris Recreation Commission Facebook page\n\n\n\nThis is a free event. \nNorris welcomes you to Concert on the Commons. This season\, Season 2024\, for the first time ever\, the Norris Recreation Commission has taken over the “Concert on the Commons” and lined up four talented groups of entertainers to help our Norris concert goers groove into summer. \nLine up: \n\nJune 7th: Voodoo Cadillac\nJune 14th: My New Favorites\nJune 21: Tennessee Sheiks\nJuly 4th: 110 in the Shade\n\nThis event is hosted by the Norris Recreation Commission and sponsored by PCUD Natural Gas.
URL:https://norriscommunitylibrary.com/event/concert-on-the-commons-tennessee-sheiks
CATEGORIES:Community Events
END:VEVENT
BEGIN:VEVENT
DTSTART;TZID=UTC:20240615T090000
DTEND;TZID=UTC:20240615T143000
DTSTAMP:20260424T024120
CREATED:20240531T233844Z
LAST-MODIFIED:20240531T233844Z
UID:1337-1718442000-1718461800@norriscommunitylibrary.com
SUMMARY:Historic Norris Bus Tour
DESCRIPTION:Event Information: \nNorris Historical Bus Tour\n\nDate: 06/15/2024\nLocation: TVA Norris Dam Visitor Center\, 1810 Norris Freeway Norris\, TN 37828\nContact for questions:\n\nNorris 75th Anniversary Facebook page\n\n\n\nThis is a paid event. Spots are limited and tickets are $25 each.
URL:https://norriscommunitylibrary.com/event/historic-norris-bus-tour
CATEGORIES:Community Events
END:VEVENT
BEGIN:VEVENT
DTSTART;TZID=UTC:20240614T190000
DTEND;TZID=UTC:20240614T210000
DTSTAMP:20260424T024120
CREATED:20240604T181702Z
LAST-MODIFIED:20240604T181916Z
UID:1346-1718391600-1718398800@norriscommunitylibrary.com
SUMMARY:Concert on the Commons: My New Favorites
DESCRIPTION:Event Information: \nConcert on the Commons: My New Favorites\n\nDate: 06/07/2024\nTime: 7:00pm-9:00pm\nLocation: Norris Commons (Front lawn of the Norris Middle School)\nContact for questions:\n\nNorris Recreation Commission Facebook page\n\n\n\nThis is a free event. \nNorris welcomes you to Concert on the Commons. This season\, Season 2024\, for the first time ever\, the Norris Recreation Commission has taken over the “Concert on the Commons” and lined up four talented groups of entertainers to help our Norris concert goers groove into summer. \nLine up: \n\nJune 7th: Voodoo Cadillac\nJune 14th: My New Favorites\nJune 21: Tennessee Sheiks\nJuly 4th: 110 in the Shade\n\nThis event is hosted by the Norris Recreation Commission and sponsored by PCUD Natural Gas.
URL:https://norriscommunitylibrary.com/event/concert-on-the-commons-my-new-favorites
CATEGORIES:Community Events
END:VEVENT
BEGIN:VEVENT
DTSTART;TZID=UTC:20240607T190000
DTEND;TZID=UTC:20240607T210000
DTSTAMP:20260424T024120
CREATED:20240604T181503Z
LAST-MODIFIED:20240604T181503Z
UID:1344-1717786800-1717794000@norriscommunitylibrary.com
SUMMARY:Concert on the Commons: Voodoo Cadillac
DESCRIPTION:Event Information: \nConcert on the Commons: Voodoo Cadillac\n\nDate: 06/07/2024\nTime: 7:00pm-9:00pm\nLocation: Norris Commons (Front lawn of the Norris Middle School)\nContact for questions:\n\nNorris Recreation Commission Facebook page\n\n\n\nThis is a free event. \nNorris welcomes you to Concert on the Commons. This season\, Season 2024\, for the first time ever\, the Norris Recreation Commission has taken over the “Concert on the Commons” and lined up four talented groups of entertainers to help our Norris concert goers groove into summer. \nLine up: \n\nJune 7th: Voodoo Cadillac\nJune 14th: My New Favorites\nJune 21: Tennessee Sheiks\nJuly 4th: 110 in the Shade\n\nThis event is hosted by the Norris Recreation Commission and sponsored by PCUD Natural Gas.
URL:https://norriscommunitylibrary.com/event/concert-on-the-commons-voodoo-cadillac
CATEGORIES:Community Events
END:VEVENT
BEGIN:VEVENT
DTSTART;TZID=UTC:20240605T100000
DTEND;TZID=UTC:20240605T150000
DTSTAMP:20260424T024120
CREATED:20240531T233106Z
LAST-MODIFIED:20240531T233106Z
UID:1335-1717581600-1717599600@norriscommunitylibrary.com
SUMMARY:Gardening in Norris Seminar #2
DESCRIPTION:Event Information: \n“Gardening in Norris” Seminar #2\npresented by the Norris Community Garden and Anderson County Master Gardeners Association\n\nDate: 06/05/2024\nTime: 10:00AM-3:00PM\nLocation: Norris Community Building\nAddress: 20 Chestnut Dr.\, Norris\, TN 37828\nContact for questions: Susan Baker at 865 742-2959 or Bonnie Peacock at 865 388-0788\n\nThis is a paid event. Registration is $20\, due by Monday\, June 3rd. Registration fees are nonrefundable. Checks or cash can be mailed to: Norris Community Garden PO Box 515 Norris\, TN 37828. \nEvent Description: \nA second Seminar presented by the Norris Community Garden and Anderson County Master Gardeners Association will be held at the Norris Community Building on Wednesday June 5th from 10:00 AM to 3:00 PM.\n\nA very informative and exciting agenda is as follows:\n10:00 The Good\, the Bad and the Ugly: Beneficial insect\, garden pests and disease in the garden.\n11:00 Beyond the Pot- Wild Ideas with Containers.\n12:00 Lunch provided by Norris Community Garden Committee and Firehouse Subs.\n1:00 Growing Those Necessary Herbs.\n1:40 A Taste of Herbs.\n2:00 Herbs as Medicine.\n2:40 Awarding Door Prizes.
URL:https://norriscommunitylibrary.com/event/gardening-in-norris-seminar-2
CATEGORIES:Community Events
END:VEVENT
BEGIN:VEVENT
DTSTART;TZID=UTC:20240518T080000
DTEND;TZID=UTC:20240518T170000
DTSTAMP:20260424T024120
CREATED:20240409T170353Z
LAST-MODIFIED:20240418T160341Z
UID:1057-1716019200-1716051600@norriscommunitylibrary.com
SUMMARY:Norris Chalk Walk
DESCRIPTION:Event Information: \nNorris Chalk Walk!\n\n\nDate: 05/18/2024 (Rain date: 05/25/2024)\nTime: 8:00am-5:00pm\nLocation: Norris Middle School’s Bus Circle\nAddress: 5 Norris Square\, Norris\, TN 37828\n\n\n\nContact for questions: Norris Community Library (865-494-6800 or questions@norriscommunitylibrary.com)\n\n\n\n\n\nThis is a free event\, but per-registration is required! https://norriscommunitylibrary.com/norris-chalk-walk \nWhat It Is: The Chalk Walk is a day-long event where artists of all ages are invited to illustrate a square in the sidewalk with chalk pastels! The community will then have the opportunity to view the artwork and vote for their favorites from each category! Anyone may sign up for free online or in person at the Norris Community Library while spots are available. \nParking: We recommend that you park in the new parking spaces behind Norris Middle School. Parking on the main street will be available in the morning\, but closed off in the afternoon for the 75th Birthday event. \nSupplies Provided: Water bottles\, 1 box of chalk \nRecommended Supplies: Extra chalk\, extra water and snacks\, brushes\, felt\, gloves\, knee pads\, paper towels\, tape \nBanned Supplies: We are using this space temporarily so paint\, fixatives\, and other permanent supplies will not be allowed. \nSubject Matter: This is a family event\, so please keep the theme of your artwork light and friendly. Banned topics include: nudity\, foul language\, excessive violence\, and politically charged materials. Thank you for being kind and respectful to the community and other artists. \nInstructions for the Day-Of: The event will run from 8:00 AM to 5:00 PM. Please arrive at the Norris Bus Circle between 8:00-9:00 AM to sign in and pickup your name tag\, your supplies\, and your place assignment. Spaces will be marked ahead of time with artists sorted into 4 different categories: Elementary\, Middle/High\, Adult\, Family/Group/Team. Once you have found your spot\, you may set up your supplies and lay down tape\, but may not start with chalk until the event begins. There will be announcements over the course of the event\, so listen closely.
URL:https://norriscommunitylibrary.com/event/norris-chalk-walk
CATEGORIES:All Ages,Community Events,Library Events,Outside Library Events
ATTACH;FMTTYPE=image/png:https://norriscommunitylibrary.com/wp-content/uploads/2024/04/Norris-Chalk-Walk-2024.png
ORGANIZER;CN="Norris Community Library":MAILTO:questions@norriscommunitylibrary.com
END:VEVENT
BEGIN:VEVENT
DTSTART;TZID=UTC:20240518T020000
DTEND;TZID=UTC:20240518T180000
DTSTAMP:20260424T024120
CREATED:20240409T165128Z
LAST-MODIFIED:20240409T165128Z
UID:1055-1715997600-1716055200@norriscommunitylibrary.com
SUMMARY:Norris 75th Anniversary Celebration!
DESCRIPTION:Event Information: \nNorris 75th Anniversary Celebration!\n\n\nDate: 05/18/2024 (Rain date: 05/25/2024)\nTime: 2:00pm\nLocation: Norris Commons\nAddress: Norris Square\, Norris\, TN 37828\nContact for questions: norris75thanniversary@gmail.com\n\nThis is a free event. \nJoin us at the Norris Lions Pavilion for the 75th Anniversary Birthday Celebration\, complete with a historic community photograph on the Commons\, followed by live music\, food trucks\, lawn games\, bounce houses\, antique cars\, a chalk walk\, and a special ceremony & historical display. \nRSVP for the photograph at https://www.eventbrite.com/e/norris-75th-birthday-historic-group-photo-tickets-864997830797?fbclid=IwAR1-Chn0zugeIBc4p82YcQ7Xje1-QajvtZX5a5BftnmqZzSxVfA_NIPoEPk_aem_Afbu5IyihLSaoZWQrsps-oP9e-HhKDy7r9e5yJEWQsVaPmZP6jAN3NlmsaOrCAf_YnHIlNK05bBgt_cFVS2FtaFO \nFind more information on Facebook: https://www.facebook.com/profile.php?id=100090145464067
URL:https://norriscommunitylibrary.com/event/norris-75th-anniversary-celebration
CATEGORIES:Community Events
END:VEVENT
BEGIN:VEVENT
DTSTART;TZID=UTC:20240511T090000
DTEND;TZID=UTC:20240511T120000
DTSTAMP:20260424T024120
CREATED:20240412T154712Z
LAST-MODIFIED:20240412T154712Z
UID:1088-1715418000-1715428800@norriscommunitylibrary.com
SUMMARY:Renaissance Run
DESCRIPTION:Event Information: \nRenaissance Run\n\n\nDate: 05/11/2024\nTime: starting at 9:00AM\nLocation: In the center of Norris\, TN\nAddress: 5 Norris Square\n\nContact for questions:\n\nRenaissance Run on Facebook\nBrianne.Kibler@gmail.com\n\n\n\nThis is a paid event. Registration is $25 and youth (11 and under) $10. \nThe Norris Area Community Foundation Presents the 2024 Renaissance Run. There are three categories for participants to choose from: 5k Run\, 1 Mile Fun Walk\, and Virtual Experience. The event will also have awards\, door prizes\, and a bounce house. Proceeds benefit community grants in the Andersonville\, Bethel\, Fairview\, and Norris service area.
URL:https://norriscommunitylibrary.com/event/renaissance-run
CATEGORIES:Community Events
ATTACH;FMTTYPE=image/jpeg:https://norriscommunitylibrary.com/wp-content/uploads/2024/04/renaissance-run.jpg
END:VEVENT
BEGIN:VEVENT
DTSTART;TZID=UTC:20240430T130000
DTEND;TZID=UTC:20240430T160000
DTSTAMP:20260424T024120
CREATED:20240407T004910Z
LAST-MODIFIED:20240407T004910Z
UID:1048-1714482000-1714492800@norriscommunitylibrary.com
SUMMARY:Mahjong
DESCRIPTION:Event Information: \nMahjong for beginners and all levels.\n\nDate: 04/16/2024\nTime: 1:00-4:00pm\nLocation: Norris City Meeting Room\nAddress: 20 Chestnut Dr\, Norris\, TN 37828\nContact for questions:\n\nCynthia Edrington 865-202-0995\n\n\n\nThis is a free event.
URL:https://norriscommunitylibrary.com/event/mahjong-2
CATEGORIES:Community Events
END:VEVENT
BEGIN:VEVENT
DTSTART;TZID=UTC:20240424T133000
DTEND;TZID=UTC:20240424T150000
DTSTAMP:20260424T024120
CREATED:20240409T160314Z
LAST-MODIFIED:20240409T160314Z
UID:1053-1713965400-1713970800@norriscommunitylibrary.com
SUMMARY:Bits 'N Pieces Quilt Guild Meeting
DESCRIPTION:Event Information: \nBits ‘N Pieces Quilt Guild Monthly Meeting\n\n\nDate: 04/24/2024\nTime: 1:30-3:00pm (come early at 1:00 to socialize!)\nLocation: Norris Community Center\nAddress: 20 Chestnut Dr\, Norris\, TN 37828\nContact for questions:\n\nLisa MacKay\, Co-President & Treasurer\, 407-416-6533\nJudy Valentine\, Co-President\, 865-898-1137\nCarolyn Jenkinson\, Secretary\, 865-719-5578\n\n\n\nYearly dues are $15\, but you may attend your first two meetings without joining to “check us out.” Meetings usually include catching up on guild business\, show and tell\, and a program.
URL:https://norriscommunitylibrary.com/event/bits-n-pieces-quilt-guild-meeting
CATEGORIES:Community Events
END:VEVENT
BEGIN:VEVENT
DTSTART;TZID=UTC:20240420T090000
DTEND;TZID=UTC:20240420T130000
DTSTAMP:20260424T024120
CREATED:20240412T183440Z
LAST-MODIFIED:20240412T183440Z
UID:1093-1713603600-1713618000@norriscommunitylibrary.com
SUMMARY:Norris Religious Fellowship Plant Sale
DESCRIPTION:Event Information: \nPlant Sale\n\n\nDate: 04/20/2024\nTime: 9:00 AM-1:00PM\nLocation: Norris Religious Fellowship\nAddress: 23 Dogwood Rd\, Norris\, TN 37828\nContact for questions: 865-494-7131\n\nThis is a free event to attend\, but is a sale. \nHonoring the Plant Sale founders Betty Lovell & Allene Ray. Featuring plants from local gardens. This organization is also seeking plant donations. Please drop off your plant donations by April 19th.
URL:https://norriscommunitylibrary.com/event/norris-religious-fellowship-plant-sale
CATEGORIES:Community Events
END:VEVENT
BEGIN:VEVENT
DTSTART;TZID=UTC:20240416T130000
DTEND;TZID=UTC:20240416T160000
DTSTAMP:20260424T024120
CREATED:20240407T004501Z
LAST-MODIFIED:20240407T004620Z
UID:1044-1713272400-1713283200@norriscommunitylibrary.com
SUMMARY:Mahjong
DESCRIPTION:Event Information: \nMahjong for beginners and all levels.\n\nDate: 04/16/2024\nTime: 1:00-4:00pm\nLocation: Norris City Meeting Room\nAddress: 20 Chestnut Dr\, Norris\, TN 37828\nContact for questions:\n\nCynthia Edrington 865-202-0995\n\n\n\nThis is a free event.
URL:https://norriscommunitylibrary.com/event/mahjong
CATEGORIES:Community Events
END:VEVENT
BEGIN:VEVENT
DTSTART;TZID=UTC:20240414T140000
DTEND;TZID=UTC:20240414T163000
DTSTAMP:20260424T024120
CREATED:20240412T151931Z
LAST-MODIFIED:20240412T152013Z
UID:1085-1713103200-1713112200@norriscommunitylibrary.com
SUMMARY:Norris Anniversary Play: Where I Belong by Tony Branam
DESCRIPTION:Event Information: \nWhere I Belong a play by Tony Branam (Community Play)\n\n\nDate: 04/14/2024\nTime: 2:00pm\nLocation: Museum of Appalachia\nAddress: 2819 Andersonville Hwy\, Clinton\, TN 37716\nContact for questions:\n\nNorris Anniversary Play on Facebook\n\n\n\nThis is a paid event. Tickets are $20 for an adult and $5 for kids 12 and younger. Tickets for this showing are sold out. \nA heartwarming comedy set during the construction of the TVA Dam in what will become Norris\, TN.
URL:https://norriscommunitylibrary.com/event/1085
CATEGORIES:Community Events
ATTACH;FMTTYPE=image/jpeg:https://norriscommunitylibrary.com/wp-content/uploads/2024/04/Norris-75th-Anniversary-Logo.jpg
END:VEVENT
BEGIN:VEVENT
DTSTART;TZID=UTC:20240413T190000
DTEND;TZID=UTC:20240413T213000
DTSTAMP:20260424T024120
CREATED:20240412T151614Z
LAST-MODIFIED:20240412T154820Z
UID:1083-1713034800-1713043800@norriscommunitylibrary.com
SUMMARY:Norris Anniversary Play: Where I Belong by Tony Branam
DESCRIPTION:Event Information: \nWhere I Belong a play by Tony Branam (Community Play)\n\n\nDate: 04/13/2024\nTime: 7:00pm\nLocation: Museum of Appalachia\nAddress: 2819 Andersonville Hwy\, Clinton\, TN 37716\nContact for questions:\n\nNorris Anniversary Play on Facebook\n\n\n\nThis is a paid event. Tickets are $20 for an adult and $5 for kids 12 and younger. \nA heartwarming comedy set during the construction of the TVA Dam in what will become Norris\, TN.
URL:https://norriscommunitylibrary.com/event/norris-anniversary-play-where-i-belong-by-tony-branam-2
CATEGORIES:Community Events
ATTACH;FMTTYPE=image/jpeg:https://norriscommunitylibrary.com/wp-content/uploads/2024/04/Norris-75th-Anniversary-Logo.jpg
END:VEVENT
BEGIN:VEVENT
DTSTART;TZID=UTC:20240412T190000
DTEND;TZID=UTC:20240412T213000
DTSTAMP:20260424T024120
CREATED:20240412T151420Z
LAST-MODIFIED:20240412T151420Z
UID:1080-1712948400-1712957400@norriscommunitylibrary.com
SUMMARY:Norris Anniversary Play: Where I Belong by Tony Branam
DESCRIPTION:Event Information: \nWhere I Belong a play by Tony Branam (Community Play)\n\n\nDate: 04/12/2024\nTime: 7:00pm\nLocation: Museum of Appalachia\nAddress: 2819 Andersonville Hwy\, Clinton\, TN 37716\nContact for questions:\n\nNorris Anniversary Play on Facebook\n\n\n\nThis is a paid event. Tickets are $20 for an adult and $5 for kids 12 and younger. \nA heartwarming comedy set during the construction of the TVA Dam in what will become Norris\, TN.
URL:https://norriscommunitylibrary.com/event/norris-anniversary-play-where-i-belong-by-tony-branam
CATEGORIES:Community Events
ATTACH;FMTTYPE=image/jpeg:https://norriscommunitylibrary.com/wp-content/uploads/2024/04/Norris-75th-Anniversary-Logo.jpg
END:VEVENT
END:VCALENDAR