BEGIN:VCALENDAR
VERSION:2.0
PRODID:-//Norris Community Library - ECPv6.15.20//NONSGML v1.0//EN
CALSCALE:GREGORIAN
METHOD:PUBLISH
X-WR-CALNAME:Norris Community Library
X-ORIGINAL-URL:https://norriscommunitylibrary.com
X-WR-CALDESC:Events for Norris Community Library
REFRESH-INTERVAL;VALUE=DURATION:PT1H
X-Robots-Tag:noindex
X-PUBLISHED-TTL:PT1H
BEGIN:VTIMEZONE
TZID:UTC
BEGIN:STANDARD
TZOFFSETFROM:+0000
TZOFFSETTO:+0000
TZNAME:UTC
DTSTART:20250101T000000
END:STANDARD
END:VTIMEZONE
BEGIN:VEVENT
DTSTART;TZID=UTC:20260509T190000
DTEND;TZID=UTC:20260509T210000
DTSTAMP:20260425T123643
CREATED:20260414T141947Z
LAST-MODIFIED:20260417T171048Z
UID:5965-1778353200-1778360400@norriscommunitylibrary.com
SUMMARY:Night 2 - The Red Velvet Cake War
DESCRIPTION:Date: 05/09/2026\nTime: Starting at 7:00pm\nLocation: Anderson County High School\nAddress: 130 Maverick Circle\, Clinton\, TN 37716\nContact for questions:\n\nnorrislittletheatretn@gmail.com\n\n\n\nYou! Yes\, you!!! You have to see this hilarious play by the writing team\, Jones Hope Wooten!\nCrazy family  Wild bets Revenge fantasies ShenanigansAn eye patch???\nInterested?? Well\, make sure to GET YOUR TICKETS!!!\nCome get your tickets Saturday\, April 18th & 25th as well as May 2nd. We’ll be outside the Norris Post Office from 9:00 AM to 11:00AM.\nReach out to us with questions.\nTickets are $15 each- kids five and under are free!\nCome see the HILARIOUS play Mother’s Day Weekend!!\n(License through Concord Theatricals)_________________________________________\nIt will run May 8th\, 9th\, and 10th at the Anderson Co. High School Theater in Clinton\, TN.\nLearn more about the writers here: https://tinyurl.com/JHWplays\nLicense through Concord Theatricals- https://www.concordtheatricals.com/\n#theatre #communitytheatre #easttennessee #knoxville #mothersday\n 
URL:https://norriscommunitylibrary.com/event/the-red-velvet-cake-war-2
LOCATION:Anderson County High School\, 130 Maverick Circle\, Clinton\, TN\, 37716\, United States
CATEGORIES:Community Events
ATTACH;FMTTYPE=image/jpeg:https://norriscommunitylibrary.com/wp-content/uploads/2026/02/The-Red-Velvet-Cake-War.jpg
ORGANIZER;CN="Norris Little Theatre":MAILTO:norrislittletheatretn@gmail.com
END:VEVENT
BEGIN:VEVENT
DTSTART;TZID=UTC:20260510T140000
DTEND;TZID=UTC:20260510T160000
DTSTAMP:20260425T123643
CREATED:20260414T142205Z
LAST-MODIFIED:20260417T171030Z
UID:5967-1778421600-1778428800@norriscommunitylibrary.com
SUMMARY:Final Show/Sunday Matinee - The Red Velvet Cake War
DESCRIPTION:Date: 05/10/2026\nTime: Starting at 2:00pm\nLocation: Anderson County High School\nAddress: 130 Maverick Circle\, Clinton\, TN 37716\nContact for questions:\n\nnorrislittletheatretn@gmail.com\n\n\n\nYou! Yes\, you!!! You have to see this hilarious play by the writing team\, Jones Hope Wooten!\nCrazy family  Wild bets Revenge fantasies ShenanigansAn eye patch???\nInterested?? Well\, make sure to GET YOUR TICKETS!!!\nCome get your tickets Saturday\, April 18th & 25th as well as May 2nd. We’ll be outside the Norris Post Office from 9:00 AM to 11:00AM.\nReach out to us with questions.\nTickets are $15 each- kids five and under are free!\nCome see the HILARIOUS play Mother’s Day Weekend!!\n(License through Concord Theatricals)_________________________________________\nIt will run May 8th\, 9th\, and 10th at the Anderson Co. High School Theater in Clinton\, TN.\nLearn more about the writers here: https://tinyurl.com/JHWplays\nLicense through Concord Theatricals- https://www.concordtheatricals.com/\n#theatre #communitytheatre #easttennessee #knoxville #mothersday\n 
URL:https://norriscommunitylibrary.com/event/the-red-velvet-cake-war-3
LOCATION:Anderson County High School\, 130 Maverick Circle\, Clinton\, TN\, 37716\, United States
CATEGORIES:Community Events
ATTACH;FMTTYPE=image/jpeg:https://norriscommunitylibrary.com/wp-content/uploads/2026/02/The-Red-Velvet-Cake-War.jpg
ORGANIZER;CN="Norris Little Theatre":MAILTO:norrislittletheatretn@gmail.com
END:VEVENT
BEGIN:VEVENT
DTSTART;TZID=UTC:20260619T180000
DTEND;TZID=UTC:20260619T210000
DTSTAMP:20260425T123643
CREATED:20260423T152352Z
LAST-MODIFIED:20260423T152352Z
UID:6218-1781892000-1781902800@norriscommunitylibrary.com
SUMMARY:Barn Dance Fundraiser
DESCRIPTION:Barn Dance Fundraiser 2026 (Museum of Appalachia)\n\n\nDate: 06/19/2026\nTime: 6:00pm – 9:00pm\nLocation: Museum of Appalachia\nAddress: 2819 Andersonville Hwy\, Clinton\, TN 37716\nAdmission Cost: $175 – $200\nContact for questions:\n\nmuseum@museumofappalachia.org\n\n\n\nThe Museum of Appalachia’s signature fundraising event features a dinner + live and silent auctions\, as well as wagon rides\, live music\, square dancing\, and more. Proceeds benefit the Museum of Appalachia\, a 501(c)(3) organization\, and are used in support of their mission to preserve Southern Appalachian history and culture. \n 
URL:https://norriscommunitylibrary.com/event/barn-dance-fundraiser
LOCATION:Museum of Appalachia\, 2819 Andersonville Hwy\, Clinton\, TN\, 37716\, United States
CATEGORIES:Community Events
ATTACH;FMTTYPE=image/jpeg:https://norriscommunitylibrary.com/wp-content/uploads/2026/04/Barn-Dance.jpg
ORGANIZER;CN="Museum of Appalachia":MAILTO:museum@museumofappalachia.org
END:VEVENT
END:VCALENDAR