BEGIN:VCALENDAR
VERSION:2.0
PRODID:-//Norris Community Library - ECPv6.15.20//NONSGML v1.0//EN
CALSCALE:GREGORIAN
METHOD:PUBLISH
X-ORIGINAL-URL:https://norriscommunitylibrary.com
X-WR-CALDESC:Events for Norris Community Library
REFRESH-INTERVAL;VALUE=DURATION:PT1H
X-Robots-Tag:noindex
X-PUBLISHED-TTL:PT1H
BEGIN:VTIMEZONE
TZID:UTC
BEGIN:STANDARD
TZOFFSETFROM:+0000
TZOFFSETTO:+0000
TZNAME:UTC
DTSTART:20250101T000000
END:STANDARD
END:VTIMEZONE
BEGIN:VEVENT
DTSTART;TZID=UTC:20260508T190000
DTEND;TZID=UTC:20260508T210000
DTSTAMP:20260423T233833
CREATED:20260414T141740Z
LAST-MODIFIED:20260417T171113Z
UID:5961-1778266800-1778274000@norriscommunitylibrary.com
SUMMARY:Opening Night - The Red Velvet Cake War
DESCRIPTION:Date: 05/08/2026\nTime: Starting at 7:00pm\nLocation: Anderson County High School\nAddress: 130 Maverick Circle\, Clinton\, TN 37716\nContact for questions:\n\nnorrislittletheatretn@gmail.com\n\n\n\nYou! Yes\, you!!! You have to see this hilarious play by the writing team\, Jones Hope Wooten!\nCrazy family  Wild bets Revenge fantasies ShenanigansAn eye patch???\nInterested?? Well\, make sure to GET YOUR TICKETS!!!\nCome get your tickets Saturday\, April 18th & 25th as well as May 2nd. We’ll be outside the Norris Post Office from 9:00 AM to 11:00AM.\nReach out to us with questions.\nTickets are $15 each- kids five and under are free!\nCome see the HILARIOUS play Mother’s Day Weekend!!\n(License through Concord Theatricals)_________________________________________\nIt will run May 8th\, 9th\, and 10th at the Anderson Co. High School Theater in Clinton\, TN.\nLearn more about the writers here: https://tinyurl.com/JHWplays\nLicense through Concord Theatricals- https://www.concordtheatricals.com/\n#theatre #communitytheatre #easttennessee #knoxville #mothersday\n 
URL:https://norriscommunitylibrary.com/event/the-red-velvet-cake-war
LOCATION:Anderson County High School\, 130 Maverick Circle\, Clinton\, TN\, 37716\, United States
CATEGORIES:Community Events
ATTACH;FMTTYPE=image/jpeg:https://norriscommunitylibrary.com/wp-content/uploads/2026/02/The-Red-Velvet-Cake-War.jpg
ORGANIZER;CN="Norris Little Theatre":MAILTO:norrislittletheatretn@gmail.com
END:VEVENT
END:VCALENDAR