BEGIN:VCALENDAR
VERSION:2.0
PRODID:-//Norris Community Library - ECPv6.15.20//NONSGML v1.0//EN
CALSCALE:GREGORIAN
METHOD:PUBLISH
X-WR-CALNAME:Norris Community Library
X-ORIGINAL-URL:https://norriscommunitylibrary.com
X-WR-CALDESC:Events for Norris Community Library
REFRESH-INTERVAL;VALUE=DURATION:PT1H
X-Robots-Tag:noindex
X-PUBLISHED-TTL:PT1H
BEGIN:VTIMEZONE
TZID:UTC
BEGIN:STANDARD
TZOFFSETFROM:+0000
TZOFFSETTO:+0000
TZNAME:UTC
DTSTART:20250101T000000
END:STANDARD
END:VTIMEZONE
BEGIN:VEVENT
DTSTART;TZID=UTC:20260501T090000
DTEND;TZID=UTC:20260501T150000
DTSTAMP:20260423T220304
CREATED:20260220T171539Z
LAST-MODIFIED:20260423T152545Z
UID:5680-1777626000-1777647600@norriscommunitylibrary.com
SUMMARY:Sheep Shearing Days 2026 – Day 2
DESCRIPTION:Sheep Shearing Days 2026 (Museum of Appalachia)\n\n\nDate: 05/01/2026\nTime: 9:00am – 3:00pm\nLocation: Museum of Appalachia\nAddress: 2819 Andersonville Hwy\, Clinton\, TN 37716\nAdmission Cost: $20 – $52\nContact for questions:\n\nmuseum@museumofappalachia.org\n\n\n\nApril 24th and May 1st\, 2026 – Students and families are invited to celebrate the arrival of spring with the annual tradition of sheep shearing. This student-focused event explores how pioneers turned wool into clothing and features hands-on activities and immersive learning experiences with Appalachian artisans\, educators\, and musicians!\nSheep Shearing is the centerpiece of an event that includes a host of pioneer demonstrations\, including sheep shearing\, sheep herding\, dollmaking\, broom-making\, coopering\, wood carving\, quilting\, beekeeping\, and dozens more. Interactive activities include spelling bees\, painting\, an animal meet-and-greet\, shape-note singing\, storytelling\, and more.\nThis event will also feature live bluegrass music\, on-site food options\, and a self-guided tour of the museum itself. Each Museum of Appalachia tour features three dozen historic log structures\, exhibit halls brimming with thousands of authentic Appalachian artifacts\, working gardens\, and farm animals.\nFor group and school reservations\, please email bookings@museumofappalachia.org.\nThis event is free for Museum members; no reservation is required.\nThis event was made possible due to support from the Tennessee Arts Commission.
URL:https://norriscommunitylibrary.com/event/sheep-shearing-days-2026-day-2
LOCATION:Museum of Appalachia\, 2819 Andersonville Hwy\, Clinton\, TN\, 37716\, United States
CATEGORIES:Community Events
ATTACH;FMTTYPE=image/jpeg:https://norriscommunitylibrary.com/wp-content/uploads/2026/02/Sheep-Shearing.jpg
ORGANIZER;CN="Museum of Appalachia":MAILTO:museum@museumofappalachia.org
END:VEVENT
END:VCALENDAR