BEGIN:VCALENDAR
VERSION:2.0
PRODID:-//Norris Community Library - ECPv6.15.20//NONSGML v1.0//EN
CALSCALE:GREGORIAN
METHOD:PUBLISH
X-ORIGINAL-URL:https://norriscommunitylibrary.com
X-WR-CALDESC:Events for Norris Community Library
REFRESH-INTERVAL;VALUE=DURATION:PT1H
X-Robots-Tag:noindex
X-PUBLISHED-TTL:PT1H
BEGIN:VTIMEZONE
TZID:UTC
BEGIN:STANDARD
TZOFFSETFROM:+0000
TZOFFSETTO:+0000
TZNAME:UTC
DTSTART:20250101T000000
END:STANDARD
END:VTIMEZONE
BEGIN:VEVENT
DTSTART;TZID=UTC:20260224T170000
DTEND;TZID=UTC:20260224T170000
DTSTAMP:20260423T233832
CREATED:20260114T165129Z
LAST-MODIFIED:20260114T165129Z
UID:5434-1771952400-1771952400@norriscommunitylibrary.com
SUMMARY:Open Paint Session (Acrylic Focus)
DESCRIPTION:Event Information: \nOpen Paint Session (Acrylic Focus)\n\nDate: Every 2nd and 4th Tuesday\nTime: 5:00pm\nLocation: Norris Community Center\nAddress: 20 Chestnut Dr\, Norris\, TN 37828\nContact for questions:\n\nJennifer\, (404) 663-7184\nPlease contact her prior to your first visit!\n\n\n\nThis is a free event. Provide your own paint\, brushes\, and canvas.
URL:https://norriscommunitylibrary.com/event/open-paint-session-acrylic-focus-3
LOCATION:Norris Community Center\, 20 Chestnut Drive\, Norris\, TN\, 37828\, United States
CATEGORIES:Community Events
END:VEVENT
END:VCALENDAR