BEGIN:VCALENDAR
VERSION:2.0
PRODID:-//Norris Community Library - ECPv6.15.20//NONSGML v1.0//EN
CALSCALE:GREGORIAN
METHOD:PUBLISH
X-WR-CALNAME:Norris Community Library
X-ORIGINAL-URL:https://norriscommunitylibrary.com
X-WR-CALDESC:Events for Norris Community Library
REFRESH-INTERVAL;VALUE=DURATION:PT1H
X-Robots-Tag:noindex
X-PUBLISHED-TTL:PT1H
BEGIN:VTIMEZONE
TZID:UTC
BEGIN:STANDARD
TZOFFSETFROM:+0000
TZOFFSETTO:+0000
TZNAME:UTC
DTSTART:20250101T000000
END:STANDARD
END:VTIMEZONE
BEGIN:VEVENT
DTSTART;TZID=UTC:20260222T150000
DTEND;TZID=UTC:20260222T180000
DTSTAMP:20260424T011110
CREATED:20260220T161151Z
LAST-MODIFIED:20260220T161429Z
UID:5672-1771772400-1771783200@norriscommunitylibrary.com
SUMMARY:Day 2 - Auditions for The Red Velvet Cake War
DESCRIPTION:Date: 02/22/2026\nTime: 3:00pm – 6:00pm\nLocation: St. Francis Episcopal Church\nAddress: 154 W. Norris Rd. Norris\, TN 37828\nContact for questions:\n\nnorrislittletheatretn@gmail.com\n\n\n\nThe Norris Little Theatre is excited to announce our Spring 2026 Play- The Red Velvet Cake War by Jones Hope Wooten. It will run May 8th\, 9th\, and 10th at the Anderson Co. High School Theater in Clinton\, TN.\nWe are proud to have James Fisher back as our director.\nAuditions will be held Saturday\, February 21st and Sunday\, February 22nd from 3 PM to 6 PM at St. Francis Episcopal Church- 154 W. Norris Rd. Norris\, TN.\nWe’re excited for this new chapter for one of Tennessee’s longest running community theatres. We cannot wait to see y’all at auditions or at the show!\nLearn more about the writers here: https://tinyurl.com/JHWplays\nPlay License through Concord Theatricals- https://www.concordtheatricals.com/
URL:https://norriscommunitylibrary.com/event/day-2-auditions-for-the-red-velvet-cake-war
LOCATION:St. Francis Episcopal Church\, 158 W Norris Rd\, Norris\, TN\, 37828\, United States
CATEGORIES:Community Events
ATTACH;FMTTYPE=image/jpeg:https://norriscommunitylibrary.com/wp-content/uploads/2026/02/The-Red-Velvet-Cake-War.jpg
ORGANIZER;CN="Norris Little Theatre":MAILTO:norrislittletheatretn@gmail.com
END:VEVENT
END:VCALENDAR