BEGIN:VCALENDAR
VERSION:2.0
PRODID:-//Norris Community Library - ECPv6.15.20//NONSGML v1.0//EN
CALSCALE:GREGORIAN
METHOD:PUBLISH
X-ORIGINAL-URL:https://norriscommunitylibrary.com
X-WR-CALDESC:Events for Norris Community Library
REFRESH-INTERVAL;VALUE=DURATION:PT1H
X-Robots-Tag:noindex
X-PUBLISHED-TTL:PT1H
BEGIN:VTIMEZONE
TZID:UTC
BEGIN:STANDARD
TZOFFSETFROM:+0000
TZOFFSETTO:+0000
TZNAME:UTC
DTSTART:20250101T000000
END:STANDARD
END:VTIMEZONE
BEGIN:VEVENT
DTSTART;TZID=UTC:20260217T113000
DTEND;TZID=UTC:20260217T124500
DTSTAMP:20260424T011236
CREATED:20260114T164253Z
LAST-MODIFIED:20260115T214206Z
UID:5428-1771327800-1771332300@norriscommunitylibrary.com
SUMMARY:Norris Mahjong: Beginners Adult Class
DESCRIPTION:Event Information: \nMahjong Beginners Class\n\nDate: 1/20/26\, 2/3/26\, 2/17/26\nTime: 11:30-12:45pm\nLocation: Norris Community Center\nAddress: 20 Chestnut Dr\, Norris\, TN 37828\nContact for questions:\n\nCynthia Edrington 865-202-0995\n\n\n\nThis is a free event.
URL:https://norriscommunitylibrary.com/event/norris-mahjong-beginners-adult-class-2
LOCATION:Norris Community Center\, 20 Chestnut Drive\, Norris\, TN\, 37828\, United States
CATEGORIES:Community Events
ATTACH;FMTTYPE=image/png:https://norriscommunitylibrary.com/wp-content/uploads/2026/01/Norris-Mahjongg.png
END:VEVENT
BEGIN:VEVENT
DTSTART;TZID=UTC:20260217T130000
DTEND;TZID=UTC:20260217T160000
DTSTAMP:20260424T011236
CREATED:20260114T165658Z
LAST-MODIFIED:20260114T165658Z
UID:5440-1771333200-1771344000@norriscommunitylibrary.com
SUMMARY:Norris Mahjong
DESCRIPTION:Event Information: \nMahjong\n\nDate: 1st\, 3rd\, and 5th Tuesdays\nTime: 1:00-4:00pm\nLocation: Norris Community Center\nAddress: 20 Chestnut Dr\, Norris\, TN 37828\nContact for questions:\n\nCynthia Edrington 865-202-0995\n\n\n\nThis is a free event.
URL:https://norriscommunitylibrary.com/event/norris-mahjong-3
LOCATION:Norris Community Center\, 20 Chestnut Drive\, Norris\, TN\, 37828\, United States
CATEGORIES:Community Events
END:VEVENT
END:VCALENDAR