BEGIN:VCALENDAR
VERSION:2.0
PRODID:-//Norris Community Library - ECPv6.15.20//NONSGML v1.0//EN
CALSCALE:GREGORIAN
METHOD:PUBLISH
X-WR-CALNAME:Norris Community Library
X-ORIGINAL-URL:https://norriscommunitylibrary.com
X-WR-CALDESC:Events for Norris Community Library
REFRESH-INTERVAL;VALUE=DURATION:PT1H
X-Robots-Tag:noindex
X-PUBLISHED-TTL:PT1H
BEGIN:VTIMEZONE
TZID:UTC
BEGIN:STANDARD
TZOFFSETFROM:+0000
TZOFFSETTO:+0000
TZNAME:UTC
DTSTART:20240101T000000
END:STANDARD
END:VTIMEZONE
BEGIN:VEVENT
DTSTART;TZID=UTC:20251219T170000
DTEND;TZID=UTC:20251219T210000
DTSTAMP:20260424T040739
CREATED:20251030T161627Z
LAST-MODIFIED:20251030T161828Z
UID:4746-1766163600-1766178000@norriscommunitylibrary.com
SUMMARY:Christmas in the Park
DESCRIPTION:Date: 12/19/2025\nTime: 5:00pm\nLocation: Norris Dam State Park\nAddress: 2121 Norris Fwy\, Andersonville\, TN 37828-3044\nAdmission Cost: Free\nContact for questions:\n\n865-425-4500\n\n\n\nCome to Norris Dam for a vintage evening celebrating the Christmas season! This event will feature hot chocolate\, live folk music\, family-friendly crafts\, silent pie auctions\, story times with a ranger\, and a special appearance from SANTA!\nThis free holiday event will be Friday\, December 19th from 5:00pm to 8:30pm at the Lenoir Museum\, Grist Mill\, and Threshing Barn. Parking will be at the Lenoir Museum\, located at 2121 Norris Freeway\, with limited handicap accessible parking at the Rice Gristmill.\nWe will also be collecting non-perishable food donations for local Norris food banks. Please consider bringing a canned food item to support your local community.\nA silent pie auction will be held from 5:00pm to 7:30pm at the Crosby Threshing Barn! Support Norris Dam State Park and take home a tasty treat; it’s a win-win! You do NOT have to be present to win- winners will be announced or called at 7:30pm on the dot!\n(If you wish to donate a pie for this auction\, please email hailee.huffstetler@tn.gov)\nKiddos can meet at the bonfire pit in front of the Threshing Barn at 5:30pm\, 6:30pm\, and 7:30pm to “Read with a Ranger” where one of our Park Rangers will read aloud a Christmas story. The Barn will also house craft stations!\nLive music will be in the Lenoir Museum\, along with historic crafts.\nIf you have questions\, please contact the park office at 865-425-4500.\nPlease consider registering and donating to the park! All of your donations stay in Norris Dam State Park to help with interpretive programs and events\, park resource management\, and other projects. Thank you for supporting your TN State Park!
URL:https://norriscommunitylibrary.com/event/christmas-in-the-park-2
LOCATION:Norris Dam State Park\, 2121 Norris Fwy\, Andersonville\, TN\, 37828-3044\, United States
CATEGORIES:Community Events
ATTACH;FMTTYPE=image/jpeg:https://norriscommunitylibrary.com/wp-content/uploads/2025/10/Christmas-in-the-Park.jpg
END:VEVENT
END:VCALENDAR