BEGIN:VCALENDAR
VERSION:2.0
PRODID:-//Norris Community Library - ECPv6.15.20//NONSGML v1.0//EN
CALSCALE:GREGORIAN
METHOD:PUBLISH
X-ORIGINAL-URL:https://norriscommunitylibrary.com
X-WR-CALDESC:Events for Norris Community Library
REFRESH-INTERVAL;VALUE=DURATION:PT1H
X-Robots-Tag:noindex
X-PUBLISHED-TTL:PT1H
BEGIN:VTIMEZONE
TZID:UTC
BEGIN:STANDARD
TZOFFSETFROM:+0000
TZOFFSETTO:+0000
TZNAME:UTC
DTSTART:20240101T000000
END:STANDARD
END:VTIMEZONE
BEGIN:VEVENT
DTSTART;TZID=UTC:20251213T160000
DTEND;TZID=UTC:20251213T210000
DTSTAMP:20260424T041626
CREATED:20251202T175149Z
LAST-MODIFIED:20251202T175149Z
UID:5009-1765641600-1765659600@norriscommunitylibrary.com
SUMMARY:Candlelight Christmas
DESCRIPTION:Candlelight Christmas (Museum of Appalachia)\n\n\nDate: 12/13/2025\nTime: 4:00pm-9:00pm\nLocation: Museum of Appalachia\nAddress: 2819 Andersonville Hwy\, Clinton\, TN 37716\nAdmission Cost: $10.00-$20.00\nContact for questions:\n\nmuseum@museumofappalachia.org\n\n\n\nExperience the serenity of a pioneer Christmas at the Museum of Appalachia! The centerpiece of this holiday event is an evening tour of the Museum’s pioneer village. The cabins will be adorned with old-fashioned Christmas decorations and festively lit for the occasion.\nThe event will include a meet & greet with Santa\, a Holiday Market\, live music\, wagon rides\, storytelling\, interactive activities for kids\, and lots of pioneer demonstrations.\nDiscounted advance tickets will go on-sale starting Monday\, October 20th at 12pm EST.
URL:https://norriscommunitylibrary.com/event/candlelight-christmas-3
LOCATION:Museum of Appalachia\, 2819 Andersonville Hwy\, Clinton\, TN\, 37716\, United States
CATEGORIES:Community Events
ORGANIZER;CN="Museum of Appalachia":MAILTO:museum@museumofappalachia.org
END:VEVENT
END:VCALENDAR