BEGIN:VCALENDAR
VERSION:2.0
PRODID:-//Norris Community Library - ECPv6.15.20//NONSGML v1.0//EN
CALSCALE:GREGORIAN
METHOD:PUBLISH
X-ORIGINAL-URL:https://norriscommunitylibrary.com
X-WR-CALDESC:Events for Norris Community Library
REFRESH-INTERVAL;VALUE=DURATION:PT1H
X-Robots-Tag:noindex
X-PUBLISHED-TTL:PT1H
BEGIN:VTIMEZONE
TZID:UTC
BEGIN:STANDARD
TZOFFSETFROM:+0000
TZOFFSETTO:+0000
TZNAME:UTC
DTSTART:20240101T000000
END:STANDARD
END:VTIMEZONE
BEGIN:VEVENT
DTSTART;TZID=UTC:20251101T080000
DTEND;TZID=UTC:20251101T140000
DTSTAMP:20260424T053119
CREATED:20251028T205347Z
LAST-MODIFIED:20251028T210224Z
UID:4715-1761984000-1762005600@norriscommunitylibrary.com
SUMMARY:Norris Lions Club Turkey Shoot
DESCRIPTION:Date: 11/01/2025\nTime: 8:00am\nLocation: Andersonville\nAddress: Andersonville along Route 61 one mile East of the traffic light at the entrance to Norris –  follow signs along Route 61\nAdmission Cost: Free\nContact for questions:\n\nJrhayes46@bellsouth.net\n\n\n\nWhat’s a turkey shoot? Twelve contestants per round shoot at paper targets 90 feet away with shotguns. Closest to the center of the target wins the round. \nWinners receive: $20 gift certificates for Turkey rounds\, $30 gift certificates for Ham rounds \nIn the event of rain\, a contingency day will be held on Saturday\, November 15. \n 
URL:https://norriscommunitylibrary.com/event/norris-lions-club-turkey-shoot
LOCATION:TN
CATEGORIES:Community Events
ATTACH;FMTTYPE=image/jpeg:https://norriscommunitylibrary.com/wp-content/uploads/2025/10/Turkey-Shoot.jpg
END:VEVENT
BEGIN:VEVENT
DTSTART;TZID=UTC:20251101T173000
DTEND;TZID=UTC:20251101T193000
DTSTAMP:20260424T053119
CREATED:20251028T212403Z
LAST-MODIFIED:20251028T212403Z
UID:4731-1762018200-1762025400@norriscommunitylibrary.com
SUMMARY:Annual Mexican Dinner & Benefit Auction
DESCRIPTION:Date: 11/01/2025\nTime: 5:30pm\nLocation: St. Francis Episcopal Church\nAddress: 158 W Norris Rd\, Norris\, TN 37828\nAdmission Cost: Adult: $15\, Child: $8\nContact for questions:\n\noffice@stfrancisnorris.org\n\n\n\n\n\nYOU’RE INVITED TO THE ANNUAL ST. FRANCIS MEXICAN DINNER & BENEFIT AUCTION on Saturday November 1st starting at at 5:30pm in St. Francis’ Parish Hall.\nADULT: $15 • CHILD: $8 (Take out available)(La Sierra charges us $16.50 per person\, so this is a deal!)\nRESERVE TICKETS BY: Monday\, October 27th.Call/Email: 865-494-7167 or office@stfrancisnorris.org\nMENU: Chicken\, steak and shrimp fajitas\, Cheese\, Lettuce\, Guacamole\, Sour cream\, Pico de Gallo\, Shedded cheese\, Tortillas (corn and flour)\, Rice and Beans\, Chips & SalsaChoice of Beverage & Dessert\nSILENT & LIVE AUCTION:Tickets\, Gift Cards\, Handmade Local Art\, Auto Care\, Restaurants\, Desserts\, and more!!\nProceeds benefit the St. Francis Outreach Committee. This event is the Outreach Committee‘s primary annual fundraiser. All proceeds from this event benefit a variety of charitable causes\, many of which are local. This past year we were able to support: MAW’s Cause\, Good Neighbors\, Second Harvest of East Tennessee\, Norris Area Community Foundation\, Bridge Refugee Services\, ADFAC\, Norris Winter Festival\, Norris Area Food Pantry\, The Norris Fire Department\, among others.
URL:https://norriscommunitylibrary.com/event/annual-mexican-dinner-benefit-auction
LOCATION:St. Francis Episcopal Church\, 158 W Norris Rd\, Norris\, TN\, 37828\, United States
CATEGORIES:Community Events
ATTACH;FMTTYPE=image/jpeg:https://norriscommunitylibrary.com/wp-content/uploads/2025/10/Annual-Mexican-Dinner-and-Benefit-Auction-1.jpg
ORGANIZER;CN="St. Francis Episcopal Church":MAILTO:office@stfrancisnorris.org
END:VEVENT
END:VCALENDAR