BEGIN:VCALENDAR
VERSION:2.0
PRODID:-//Norris Community Library - ECPv6.15.20//NONSGML v1.0//EN
CALSCALE:GREGORIAN
METHOD:PUBLISH
X-WR-CALNAME:Norris Community Library
X-ORIGINAL-URL:https://norriscommunitylibrary.com
X-WR-CALDESC:Events for Norris Community Library
REFRESH-INTERVAL;VALUE=DURATION:PT1H
X-Robots-Tag:noindex
X-PUBLISHED-TTL:PT1H
BEGIN:VTIMEZONE
TZID:UTC
BEGIN:STANDARD
TZOFFSETFROM:+0000
TZOFFSETTO:+0000
TZNAME:UTC
DTSTART:20240101T000000
END:STANDARD
END:VTIMEZONE
BEGIN:VEVENT
DTSTART;TZID=UTC:20251031T090000
DTEND;TZID=UTC:20251031T150000
DTSTAMP:20260424T053627
CREATED:20251030T155815Z
LAST-MODIFIED:20251030T155815Z
UID:4744-1761901200-1761922800@norriscommunitylibrary.com
SUMMARY:Fall Heritage Days
DESCRIPTION:Fall Heritage Days (Museum of Appalachia)\n\n\nDate: 10/31/2025\nTime: 9:00am-3:00pm\nLocation: Museum of Appalachia\nAddress: 2819 Andersonville Hwy\, Clinton\, TN 37716\nAdmission Cost: $10.00-$20.00\nContact for questions:\n\nmuseum@museumofappalachia.org\n\n\n\nOctober 24\, 30\, 31\, & November 7 from 9:00am-3:00pm\nThe Museum of Appalachia invites students and families to step back in time to enjoy the sights\, sounds\, smells\, and tastes of pioneer Southern Appalachian traditions and old-time demonstrations of the fall harvest season.\nDemonstrations and activities include pumpkin carving\, crosscut sawing\, doll making\, beekeeping\, pottery\, wagon rides\, rug hooking\, basket making\, bluegrass music\, sorghum making\, spinning & weaving\, chair caning\, blacksmithing\, broom making\, spelling bees\, + so much more!\nSchool groups and homeschool groups must make reservations in advance. To reserve your spot\, please fill out the reservation form here: http://forms.office.com/r/8a98X5QMzB\nThis event is free for Museum Members.\nSponsored by Tennessee Arts Commission
URL:https://norriscommunitylibrary.com/event/fall-heritage-days-4
LOCATION:Museum of Appalachia\, 2819 Andersonville Hwy\, Clinton\, TN\, 37716\, United States
CATEGORIES:Community Events
ORGANIZER;CN="Museum of Appalachia":MAILTO:museum@museumofappalachia.org
END:VEVENT
BEGIN:VEVENT
DTSTART;TZID=UTC:20251031T163000
DTEND;TZID=UTC:20251031T180000
DTSTAMP:20260424T053627
CREATED:20251028T202753Z
LAST-MODIFIED:20251028T202753Z
UID:4708-1761928200-1761933600@norriscommunitylibrary.com
SUMMARY:Halloween on the Commons
DESCRIPTION:Date: 10/31/2025\nTime: 4:30pm\nLocation: Norris Commons\nAddress: Norris Square\, Norris\, TN 37828\nAdmission Cost: Free\nContact for questions:\n\nnorrisrecreationcommission@gmail.com\n\n\n\n𝗖𝗼𝗻𝘁𝗶𝗻𝘂𝗶𝗻𝗴 𝗮 𝗹𝗼𝗻𝗴 𝘀𝘁𝗮𝗻𝗱𝗶𝗻𝗴 𝘁𝗿𝗮𝗱𝗶𝘁𝗶𝗼𝗻\, 𝗴𝗵𝗼𝘀𝘁𝘀 𝗮𝗻𝗱 𝗴𝗼𝗯𝗹𝗶𝗻𝘀 𝗼𝗳 𝗮𝗹𝗹 𝗮𝗴𝗲𝘀 𝗮𝗿𝗲 𝗶𝗻𝘃𝗶𝘁𝗲𝗱 𝘁𝗼 𝗴𝗮𝘁𝗵𝗲𝗿 𝗼𝗻 𝘁𝗵𝗲 𝗡𝗼𝗿𝗿𝗶𝘀 𝗖𝗼𝗺𝗺𝗼𝗻𝘀 𝘁𝗼 𝘁𝗮𝗸𝗲 𝗽𝗮𝗿𝘁 𝗶𝗻 𝘁𝗵𝗲 𝗮𝗻𝗻𝘂𝗮𝗹 𝗛𝗮𝗹𝗹𝗼𝘄𝗲𝗲𝗻 𝗳𝗲𝘀𝘁𝗶𝘃𝗶𝘁𝗶𝗲𝘀 𝗼𝗻 𝗢𝗰𝘁𝗼𝗯𝗲𝗿 𝟯𝟭𝘀𝘁. \n𝗧𝗵𝗲𝗿𝗲 𝘄𝗶𝗹𝗹 𝗯𝗲 𝗽𝗹𝗲𝗻𝘁𝘆 𝗼𝗳 𝗼𝗽𝗽𝗼𝗿𝘁𝘂𝗻𝗶𝘁𝘆 𝘁𝗼 𝘁𝗮𝗸𝗲 𝗽𝗶𝗰𝘁𝘂𝗿𝗲𝘀\, 𝗰𝗼𝗺𝗽𝗮𝗿𝗲 𝗰𝗼𝘀𝘁𝘂𝗺𝗲𝘀\, 𝗮𝗻𝗱 𝘀𝘄𝗮𝗽 𝗴𝗵𝗼𝘀𝘁 𝘀𝘁𝗼𝗿𝗶𝗲𝘀 𝗯𝗲𝗳𝗼𝗿𝗲 𝗵𝗲𝗮𝗱𝗶𝗻𝗴 𝗼𝘂𝘁 𝘁𝗼 𝘁𝗿𝗶𝗰𝗸-𝗼𝗿-𝘁𝗿𝗲𝗮𝘁 𝗮𝗹𝗼𝗻𝗴 𝗰𝗶𝘁𝘆 𝘀𝘁𝗿𝗲𝗲𝘁𝘀.\n𝗕𝗲𝗴𝗶𝗻𝗻𝗶𝗻𝗴 𝗮𝗿𝗼𝘂𝗻𝗱 𝟰:𝟯𝟬 𝘁𝗵𝗲 𝗡𝗼𝗿𝗿𝗶𝘀 𝗥𝗲𝗰𝗿𝗲𝗮𝘁𝗶𝗼𝗻 𝗖𝗼𝗺𝗺𝗶𝘀𝘀𝗶𝗼𝗻 𝘄𝗶𝗹𝗹 𝗯𝗲 𝗼𝗳𝗳𝗲𝗿𝗶𝗻𝗴 𝗮 𝗹𝗶𝗴𝗵𝘁 𝗵𝗼𝘁𝗱𝗼𝗴 𝗱𝗶𝗻𝗻𝗲𝗿.\n𝗔𝘁 𝗮𝗿𝗼𝘂𝗻𝗱 𝟱:𝟰𝟱\, 𝗲𝘃𝗲𝗿𝘆𝗼𝗻𝗲 𝗶𝘀 𝗶𝗻𝘃𝗶𝘁𝗲𝗱 𝘁𝗼 𝗴𝗮𝘁𝗵𝗲𝗿 𝗳𝗼𝗿 𝗼𝘂𝗿 𝗮𝗻𝗻𝘂𝗮𝗹 𝗴𝗿𝗼𝘂𝗽 𝗽𝗵𝗼𝘁𝗼𝗴𝗿𝗮𝗽𝗵 𝗼𝗻 𝘁𝗵𝗲 𝗡𝗼𝗿𝗿𝗶𝘀 𝗠𝗶𝗱𝗱𝗹𝗲 𝗦𝗰𝗵𝗼𝗼𝗹 𝘀𝘁𝗲𝗽𝘀 𝗯𝗲𝗳𝗼𝗿𝗲 𝗵𝗲𝗮𝗱𝗶𝗻𝗴 𝗼𝘂𝘁 𝘁𝗼 𝘁𝗿𝗶𝗰𝗸 𝗼𝗿 𝘁𝗿𝗲𝗮𝘁.
URL:https://norriscommunitylibrary.com/event/halloween-on-the-commons-2
LOCATION:Norris Commons\, Norris Square\, Norris\, TN\, 37828\, United States
CATEGORIES:Community Events
ATTACH;FMTTYPE=image/jpeg:https://norriscommunitylibrary.com/wp-content/uploads/2025/10/Halloween-on-the-Commons.jpg
ORGANIZER;CN="Norris Recreation Commission":MAILTO:norrisrecreationcommission@gmail.com
END:VEVENT
END:VCALENDAR