BEGIN:VCALENDAR
VERSION:2.0
PRODID:-//Norris Community Library - ECPv6.15.20//NONSGML v1.0//EN
CALSCALE:GREGORIAN
METHOD:PUBLISH
X-ORIGINAL-URL:https://norriscommunitylibrary.com
X-WR-CALDESC:Events for Norris Community Library
REFRESH-INTERVAL;VALUE=DURATION:PT1H
X-Robots-Tag:noindex
X-PUBLISHED-TTL:PT1H
BEGIN:VTIMEZONE
TZID:UTC
BEGIN:STANDARD
TZOFFSETFROM:+0000
TZOFFSETTO:+0000
TZNAME:UTC
DTSTART:20240101T000000
END:STANDARD
END:VTIMEZONE
BEGIN:VEVENT
DTSTART;TZID=UTC:20251030T090000
DTEND;TZID=UTC:20251030T150000
DTSTAMP:20260424T053757
CREATED:20251030T155611Z
LAST-MODIFIED:20251030T155651Z
UID:4739-1761814800-1761836400@norriscommunitylibrary.com
SUMMARY:Fall Heritage Days
DESCRIPTION:Fall Heritage Days (Museum of Appalachia)\n\n\nDate: 10/30/2025\nTime: 9:00am-3:00pm\nLocation: Museum of Appalachia\nAddress: 2819 Andersonville Hwy\, Clinton\, TN 37716\nAdmission Cost: $10.00-$20.00\nContact for questions:\n\nmuseum@museumofappalachia.org\n\n\n\nOctober 24\, 30\, 31\, & November 7 from 9:00am-3:00pm\nThe Museum of Appalachia invites students and families to step back in time to enjoy the sights\, sounds\, smells\, and tastes of pioneer Southern Appalachian traditions and old-time demonstrations of the fall harvest season.\nDemonstrations and activities include pumpkin carving\, crosscut sawing\, doll making\, beekeeping\, pottery\, wagon rides\, rug hooking\, basket making\, bluegrass music\, sorghum making\, spinning & weaving\, chair caning\, blacksmithing\, broom making\, spelling bees\, + so much more!\nSchool groups and homeschool groups must make reservations in advance. To reserve your spot\, please fill out the reservation form here: http://forms.office.com/r/8a98X5QMzB\nThis event is free for Museum Members.\nSponsored by Tennessee Arts Commission
URL:https://norriscommunitylibrary.com/event/fall-heritage-days-3
LOCATION:Museum of Appalachia\, 2819 Andersonville Hwy\, Clinton\, TN\, 37716\, United States
CATEGORIES:Community Events
ORGANIZER;CN="Museum of Appalachia":MAILTO:museum@museumofappalachia.org
END:VEVENT
END:VCALENDAR