BEGIN:VCALENDAR
VERSION:2.0
PRODID:-//Norris Community Library - ECPv6.15.20//NONSGML v1.0//EN
CALSCALE:GREGORIAN
METHOD:PUBLISH
X-ORIGINAL-URL:https://norriscommunitylibrary.com
X-WR-CALDESC:Events for Norris Community Library
REFRESH-INTERVAL;VALUE=DURATION:PT1H
X-Robots-Tag:noindex
X-PUBLISHED-TTL:PT1H
BEGIN:VTIMEZONE
TZID:UTC
BEGIN:STANDARD
TZOFFSETFROM:+0000
TZOFFSETTO:+0000
TZNAME:UTC
DTSTART:20240101T000000
END:STANDARD
END:VTIMEZONE
BEGIN:VEVENT
DTSTART;TZID=UTC:20250915T190000
DTEND;TZID=UTC:20250915T200000
DTSTAMP:20260424T082823
CREATED:20250812T144336Z
LAST-MODIFIED:20250812T144336Z
UID:4188-1757962800-1757966400@norriscommunitylibrary.com
SUMMARY:Claxton Country Squares
DESCRIPTION:Date: 09/15/2025\nTime: 7:00 pm\nLocation: Claxton Community Center\nAddress: 1071 Edgemoor Rd\, Clinton\, TN 37716\nAdmission Cost: Free!\nContact for questions:\n\nRor Smith- rsmith599@yahoo.com 865-257-2955\n\n\n\nCome and join the fun!  Classes are now underway for the 2024-2025 beginners lessons. Classes build on the previous class’s material.
URL:https://norriscommunitylibrary.com/event/claxton-country-squares-4
LOCATION:Claxton Community Center\, 1071 Edgemoor Road\, Clinton\, TN\, 37716\, United States
CATEGORIES:Community Events
END:VEVENT
END:VCALENDAR