BEGIN:VCALENDAR
VERSION:2.0
PRODID:-//Norris Community Library - ECPv6.15.20//NONSGML v1.0//EN
CALSCALE:GREGORIAN
METHOD:PUBLISH
X-WR-CALNAME:Norris Community Library
X-ORIGINAL-URL:https://norriscommunitylibrary.com
X-WR-CALDESC:Events for Norris Community Library
REFRESH-INTERVAL;VALUE=DURATION:PT1H
X-Robots-Tag:noindex
X-PUBLISHED-TTL:PT1H
BEGIN:VTIMEZONE
TZID:UTC
BEGIN:STANDARD
TZOFFSETFROM:+0000
TZOFFSETTO:+0000
TZNAME:UTC
DTSTART:20240101T000000
END:STANDARD
END:VTIMEZONE
BEGIN:VEVENT
DTSTART;TZID=UTC:20250808T173000
DTEND;TZID=UTC:20250808T203000
DTSTAMP:20260424T094346
CREATED:20250709T181031Z
LAST-MODIFIED:20250709T181031Z
UID:3904-1754674200-1754685000@norriscommunitylibrary.com
SUMMARY:Full Moon Pickin' Party
DESCRIPTION:Event Information: \nFull Moon Pickin’ Party (Museum of Appalachia)\n\n\nDate: 08/08/2025\nTime: 5:30pm\nLocation: Museum of Appalachia\nAddress: 2819 Andersonville Hwy\, Clinton\, TN 37716\nAdmission Cost: $25\nContact for questions:\n\nmuseum@museumofappalachia.org\n\n\n\nYee-Haw Brewing Company presents a Full Moon Pickin’ Party with Jake Worthington\, live from the outdoor stage at the Museum of Appalachia! Bring the whole family and enjoy an evening of great country music in a one-of-a-kind setting. \n\n🗓️ Date: Friday\, August 8th\n🕢 Jake Worthington takes the stage at 7:00 p.m.\n🚪 Doors open at 5:30 p.m.\n🍔 Food and beverages available for purchase\n🍺 Adults 21+ must show ID to purchase beer\n🪕 Please\, no coolers\, outside food or drinks\, or animals (except service animals)\n🎟 Tickets are on sale now at museumofappalachia.org or at this link: bit.ly/4kbYhUh\nPresented by Yee-Haw Brewing Company and proudly sponsored by Ole Smoky Distillery
URL:https://norriscommunitylibrary.com/event/full-moon-pickin-party
LOCATION:TN
CATEGORIES:Community Events
ATTACH;FMTTYPE=image/jpeg:https://norriscommunitylibrary.com/wp-content/uploads/2025/07/pickin.jpg
END:VEVENT
END:VCALENDAR