BEGIN:VCALENDAR
VERSION:2.0
PRODID:-//Norris Community Library - ECPv6.15.20//NONSGML v1.0//EN
CALSCALE:GREGORIAN
METHOD:PUBLISH
X-ORIGINAL-URL:https://norriscommunitylibrary.com
X-WR-CALDESC:Events for Norris Community Library
REFRESH-INTERVAL;VALUE=DURATION:PT1H
X-Robots-Tag:noindex
X-PUBLISHED-TTL:PT1H
BEGIN:VTIMEZONE
TZID:UTC
BEGIN:STANDARD
TZOFFSETFROM:+0000
TZOFFSETTO:+0000
TZNAME:UTC
DTSTART:20250101T000000
END:STANDARD
END:VTIMEZONE
BEGIN:VEVENT
DTSTART;TZID=UTC:20260307T090000
DTEND;TZID=UTC:20260307T140000
DTSTAMP:20260423T215511
CREATED:20260217T224831Z
LAST-MODIFIED:20260219T164831Z
UID:5609-1772874000-1772892000@norriscommunitylibrary.com
SUMMARY:Norris Religious Fellowship Book Sale
DESCRIPTION:  \n\n\n\n\n\n\n\n\n\nDate: 03/07/2026\nTime: 9:00am – 2:00pm\nLocation: Norris Religious Fellowship\nAddress: 23 Dogwood Rd\, Norris\, TN 37828\nContact for questions:\n\nnorrisrf@comcast.net\n\n\n\nDrop in to experience local authors and their books\, refreshments\, and gently used books for sale\, including cook books and puzzles. Author Talk 12 till 1: featuring local author\, historian and musician\, Don Bell of Oak Ridge\, Tennessee. He authored “Life Stories From a Secret City Kid” in which he documents life in the “Secret City” during and after the Manhattan Project. Don has also authored The Routine\, The Routine\, the Life-Sucking Routine”\, and “Frenchy’s Hockey Fantasy”.
URL:https://norriscommunitylibrary.com/event/norris-religious-fellowship-book-sale
LOCATION:Norris Religious Fellowship\, 23 Dogwood Rd\, Norris\, TN\, 37828\, United States
CATEGORIES:Community Events
ATTACH;FMTTYPE=image/jpeg:https://norriscommunitylibrary.com/wp-content/uploads/2026/02/Book-Fair-and-Author-Talk.jpg
ORGANIZER;CN="Norris Religious Fellowship":MAILTO:norrisrf@comcast.net
END:VEVENT
BEGIN:VEVENT
DTSTART;TZID=UTC:20260315T140000
DTEND;TZID=UTC:20260315T160000
DTSTAMP:20260423T215511
CREATED:20260217T224231Z
LAST-MODIFIED:20260217T224231Z
UID:5605-1773583200-1773590400@norriscommunitylibrary.com
SUMMARY:The Civil War & East Tennessee\, with Josh Anderson
DESCRIPTION:Date: 03/15/2026\nTime: 2:00pm – 4:30pm\nLocation: Norris Religious Fellowship\nAddress: 23 Dogwood Rd\, Norris\, TN 37828\nContact for questions:\n\ninfo@norrishistorical.org\n\n\n\nJoin us 2 pm\, Sunday\, March 15\, 2026\, for a program on the Civil War in East Tennessee and Anderson County. Our presenter will be Josh Anderson.
URL:https://norriscommunitylibrary.com/event/the-civil-war-east-tennessee-with-josh-anderson
LOCATION:Norris Religious Fellowship\, 23 Dogwood Rd\, Norris\, TN\, 37828\, United States
CATEGORIES:Community Events
ATTACH;FMTTYPE=image/jpeg:https://norriscommunitylibrary.com/wp-content/uploads/2026/02/The-Civil-War-Talk.jpg
ORGANIZER;CN="Norris Historical Society":MAILTO:info@norrishistorical.org
END:VEVENT
END:VCALENDAR