BEGIN:VCALENDAR
VERSION:2.0
PRODID:-//Norris Community Library - ECPv6.15.20//NONSGML v1.0//EN
CALSCALE:GREGORIAN
METHOD:PUBLISH
X-ORIGINAL-URL:https://norriscommunitylibrary.com
X-WR-CALDESC:Events for Norris Community Library
REFRESH-INTERVAL;VALUE=DURATION:PT1H
X-Robots-Tag:noindex
X-PUBLISHED-TTL:PT1H
BEGIN:VTIMEZONE
TZID:UTC
BEGIN:STANDARD
TZOFFSETFROM:+0000
TZOFFSETTO:+0000
TZNAME:UTC
DTSTART:20250101T000000
END:STANDARD
END:VTIMEZONE
BEGIN:VEVENT
DTSTART;TZID=UTC:20260120T113000
DTEND;TZID=UTC:20260120T124500
DTSTAMP:20260424T011035
CREATED:20260114T164004Z
LAST-MODIFIED:20260115T214128Z
UID:5423-1768908600-1768913100@norriscommunitylibrary.com
SUMMARY:Norris Mahjong: Beginners Adult Class
DESCRIPTION:Event Information: \nMahjong Beginners Class\n\nDate: 1/20/26\, 2/3/26\, 2/17/26\nTime: 11:30-12:45pm\nLocation: Norris Community Center\nAddress: 20 Chestnut Dr\, Norris\, TN 37828\nContact for questions:\n\nCynthia Edrington 865-202-0995\n\n\n\nThis is a free event.
URL:https://norriscommunitylibrary.com/event/norris-mahjong-beginners-adult-class
LOCATION:Norris Community Center\, 20 Chestnut Drive\, Norris\, TN\, 37828\, United States
CATEGORIES:Community Events
ATTACH;FMTTYPE=image/png:https://norriscommunitylibrary.com/wp-content/uploads/2026/01/Norris-Mahjongg.png
END:VEVENT
BEGIN:VEVENT
DTSTART;TZID=UTC:20260120T130000
DTEND;TZID=UTC:20260120T160000
DTSTAMP:20260424T011035
CREATED:20260114T165454Z
LAST-MODIFIED:20260114T165454Z
UID:5436-1768914000-1768924800@norriscommunitylibrary.com
SUMMARY:Norris Mahjong
DESCRIPTION:Event Information: \nMahjong\n\nDate: 1st\, 3rd\, and 5th Tuesdays\nTime: 1:00-4:00pm\nLocation: Norris Community Center\nAddress: 20 Chestnut Dr\, Norris\, TN 37828\nContact for questions:\n\nCynthia Edrington 865-202-0995\n\n\n\nThis is a free event.
URL:https://norriscommunitylibrary.com/event/norris-mahjong
LOCATION:Norris Community Center\, 20 Chestnut Drive\, Norris\, TN\, 37828\, United States
CATEGORIES:Community Events
END:VEVENT
BEGIN:VEVENT
DTSTART;TZID=UTC:20260127T170000
DTEND;TZID=UTC:20260127T170000
DTSTAMP:20260424T011035
CREATED:20260114T164712Z
LAST-MODIFIED:20260114T164932Z
UID:5430-1769533200-1769533200@norriscommunitylibrary.com
SUMMARY:Open Paint Session (Acrylic Focus)
DESCRIPTION:Event Information: \nOpen Paint Session (Acrylic Focus)\n\nDate: Every 2nd and 4th Tuesday\nTime: 5:00pm\nLocation: Norris Community Center\nAddress: 20 Chestnut Dr\, Norris\, TN 37828\nContact for questions:\n\nJennifer\, (404) 663-7184\nPlease contact her prior to your first visit!\n\n\n\nThis is a free event. Provide your own paint\, brushes\, and canvas.
URL:https://norriscommunitylibrary.com/event/open-paint-session-acrylic-focus
LOCATION:Norris Community Center\, 20 Chestnut Drive\, Norris\, TN\, 37828\, United States
CATEGORIES:Community Events
END:VEVENT
END:VCALENDAR