BEGIN:VCALENDAR
VERSION:2.0
PRODID:-//Norris Community Library - ECPv6.15.20//NONSGML v1.0//EN
CALSCALE:GREGORIAN
METHOD:PUBLISH
X-WR-CALNAME:Norris Community Library
X-ORIGINAL-URL:https://norriscommunitylibrary.com
X-WR-CALDESC:Events for Norris Community Library
REFRESH-INTERVAL;VALUE=DURATION:PT1H
X-Robots-Tag:noindex
X-PUBLISHED-TTL:PT1H
BEGIN:VTIMEZONE
TZID:UTC
BEGIN:STANDARD
TZOFFSETFROM:+0000
TZOFFSETTO:+0000
TZNAME:UTC
DTSTART:20220101T000000
END:STANDARD
END:VTIMEZONE
BEGIN:VEVENT
DTSTART;TZID=UTC:20250626T153000
DTEND;TZID=UTC:20250626T163000
DTSTAMP:20260423T233907
CREATED:20250516T184823Z
LAST-MODIFIED:20250516T194714Z
UID:3507-1750951800-1750955400@norriscommunitylibrary.com
SUMMARY:Kids Art Club
DESCRIPTION:Kids can join us for our weekly art club every Thursday from 3:30-4:30pm! This week we’re making Paint Bookends!
URL:https://norriscommunitylibrary.com/event/kids-art-club-46
CATEGORIES:Art Club,Kids,Kids Art Club,Summer Reading
ATTACH;FMTTYPE=image/jpeg:https://norriscommunitylibrary.com/wp-content/uploads/2023/07/Kids-art-club.jpg
END:VEVENT
BEGIN:VEVENT
DTSTART;TZID=UTC:20250612T153000
DTEND;TZID=UTC:20250612T163000
DTSTAMP:20260423T233907
CREATED:20250516T184528Z
LAST-MODIFIED:20250516T194228Z
UID:3503-1749742200-1749745800@norriscommunitylibrary.com
SUMMARY:Kids Art Club
DESCRIPTION:Kids can join us for our weekly art club every Thursday from 3:30-4:30pm! This week we’re making Hodgepodgekins!
URL:https://norriscommunitylibrary.com/event/kids-art-club-45
CATEGORIES:Art Club,Kids,Kids Art Club,Summer Reading
ATTACH;FMTTYPE=image/jpeg:https://norriscommunitylibrary.com/wp-content/uploads/2023/07/Kids-art-club.jpg
END:VEVENT
BEGIN:VEVENT
DTSTART;TZID=UTC:20250605T153000
DTEND;TZID=UTC:20250605T163000
DTSTAMP:20260423T233907
CREATED:20250516T184401Z
LAST-MODIFIED:20250529T143224Z
UID:3501-1749137400-1749141000@norriscommunitylibrary.com
SUMMARY:Summer Reading Kickoff! All Ages Art Club
DESCRIPTION:Join us to celebrate the start of our 2025 summer reading program: Color Our World! We’ll have arts and crafts activities for all ages (toddlers to teens\, and yes\, adults too!) as well as the chance to sign up for our Summer Reading Program
URL:https://norriscommunitylibrary.com/event/summer-reading-kickoff-all-ages-art-club
CATEGORIES:All Ages,Art Club,Summer Reading
ATTACH;FMTTYPE=image/jpeg:https://norriscommunitylibrary.com/wp-content/uploads/2025/05/Summer-Reading-Kickoff.jpg
END:VEVENT
BEGIN:VEVENT
DTSTART;TZID=UTC:20250529T153000
DTEND;TZID=UTC:20250529T163000
DTSTAMP:20260423T233907
CREATED:20250410T142950Z
LAST-MODIFIED:20250410T142950Z
UID:3165-1748532600-1748536200@norriscommunitylibrary.com
SUMMARY:Kids Art Club
DESCRIPTION:Kids can join us for our weekly art club every Thursday from 3:30-4:30pm! This week we’re making Bubble Wrap Flowers!
URL:https://norriscommunitylibrary.com/event/kids-art-club-44
CATEGORIES:Art Club,Kids,Kids Art Club
ATTACH;FMTTYPE=image/jpeg:https://norriscommunitylibrary.com/wp-content/uploads/2023/07/Kids-art-club.jpg
END:VEVENT
BEGIN:VEVENT
DTSTART;TZID=UTC:20250522T153000
DTEND;TZID=UTC:20250522T163000
DTSTAMP:20260423T233907
CREATED:20250410T142839Z
LAST-MODIFIED:20250410T142839Z
UID:3163-1747927800-1747931400@norriscommunitylibrary.com
SUMMARY:Kids Art Club
DESCRIPTION:Kids can join us for our weekly art club every Thursday from 3:30-4:30pm! This week we’re making 3D Ladybugs!
URL:https://norriscommunitylibrary.com/event/kids-art-club-43
CATEGORIES:Art Club,Kids,Kids Art Club
ATTACH;FMTTYPE=image/jpeg:https://norriscommunitylibrary.com/wp-content/uploads/2023/07/Kids-art-club.jpg
END:VEVENT
BEGIN:VEVENT
DTSTART;TZID=UTC:20250515T153000
DTEND;TZID=UTC:20250515T163000
DTSTAMP:20260423T233907
CREATED:20250410T142712Z
LAST-MODIFIED:20250410T142712Z
UID:3161-1747323000-1747326600@norriscommunitylibrary.com
SUMMARY:Kids Art Club
DESCRIPTION:Kids can join us for our weekly art club every Thursday from 3:30-4:30pm! This week we’re making Pompom Resist Paint!
URL:https://norriscommunitylibrary.com/event/kids-art-club-42
CATEGORIES:Art Club,Kids,Kids Art Club
ATTACH;FMTTYPE=image/jpeg:https://norriscommunitylibrary.com/wp-content/uploads/2023/07/Kids-art-club.jpg
END:VEVENT
BEGIN:VEVENT
DTSTART;TZID=UTC:20250508T153000
DTEND;TZID=UTC:20250508T163000
DTSTAMP:20260423T233907
CREATED:20250410T142605Z
LAST-MODIFIED:20250410T142605Z
UID:3159-1746718200-1746721800@norriscommunitylibrary.com
SUMMARY:Kids Art Club
DESCRIPTION:Kids can join us for our weekly art club every Thursday from 3:30-4:30pm! This week we’re making Paper Stars and Hearts!
URL:https://norriscommunitylibrary.com/event/kids-art-club-41
CATEGORIES:Art Club,Kids,Kids Art Club
ATTACH;FMTTYPE=image/jpeg:https://norriscommunitylibrary.com/wp-content/uploads/2023/07/Kids-art-club.jpg
END:VEVENT
BEGIN:VEVENT
DTSTART;TZID=UTC:20250501T153000
DTEND;TZID=UTC:20250501T163000
DTSTAMP:20260423T233907
CREATED:20250410T142424Z
LAST-MODIFIED:20250410T142424Z
UID:3157-1746113400-1746117000@norriscommunitylibrary.com
SUMMARY:Kids Art Club
DESCRIPTION:Kids can join us for our weekly art club every Thursday from 3:30-4:30pm! This week we’re making Plastic Bag Stamp Flowers!
URL:https://norriscommunitylibrary.com/event/kids-art-club-40
CATEGORIES:Art Club,Kids,Kids Art Club
ATTACH;FMTTYPE=image/jpeg:https://norriscommunitylibrary.com/wp-content/uploads/2023/07/Kids-art-club.jpg
END:VEVENT
BEGIN:VEVENT
DTSTART;TZID=UTC:20250424T153000
DTEND;TZID=UTC:20250424T163000
DTSTAMP:20260423T233907
CREATED:20250310T201348Z
LAST-MODIFIED:20250310T201348Z
UID:2838-1745508600-1745512200@norriscommunitylibrary.com
SUMMARY:Kids Art Club
DESCRIPTION:Kids can join us for our weekly art club every Thursday from 3:30-4:30pm! This week we’re making Bead Mice!
URL:https://norriscommunitylibrary.com/event/kids-art-club-39
CATEGORIES:Art Club,Kids,Kids Art Club
ATTACH;FMTTYPE=image/jpeg:https://norriscommunitylibrary.com/wp-content/uploads/2023/07/Kids-art-club.jpg
END:VEVENT
BEGIN:VEVENT
DTSTART;TZID=UTC:20250417T153000
DTEND;TZID=UTC:20250417T163000
DTSTAMP:20260423T233907
CREATED:20250310T201236Z
LAST-MODIFIED:20250310T201236Z
UID:2836-1744903800-1744907400@norriscommunitylibrary.com
SUMMARY:Kids Art Club
DESCRIPTION:Kids can join us for our weekly art club every Thursday from 3:30-4:30pm! This week we’re making Cardboard Lions!
URL:https://norriscommunitylibrary.com/event/kids-art-club-38
CATEGORIES:Art Club,Kids,Kids Art Club
ATTACH;FMTTYPE=image/jpeg:https://norriscommunitylibrary.com/wp-content/uploads/2023/07/Kids-art-club.jpg
END:VEVENT
BEGIN:VEVENT
DTSTART;TZID=UTC:20250410T153000
DTEND;TZID=UTC:20250410T163000
DTSTAMP:20260423T233907
CREATED:20250310T201032Z
LAST-MODIFIED:20250310T201032Z
UID:2834-1744299000-1744302600@norriscommunitylibrary.com
SUMMARY:Kids Art Club
DESCRIPTION:Kids can join us for our weekly art club every Thursday from 3:30-4:30pm! This week we’re making Plate Chickens!
URL:https://norriscommunitylibrary.com/event/kids-art-club-37
CATEGORIES:Art Club,Kids,Kids Art Club
ATTACH;FMTTYPE=image/jpeg:https://norriscommunitylibrary.com/wp-content/uploads/2023/07/Kids-art-club.jpg
END:VEVENT
BEGIN:VEVENT
DTSTART;TZID=UTC:20250403T153000
DTEND;TZID=UTC:20250403T163000
DTSTAMP:20260423T233907
CREATED:20250310T200912Z
LAST-MODIFIED:20250310T200912Z
UID:2832-1743694200-1743697800@norriscommunitylibrary.com
SUMMARY:Kids Art Club
DESCRIPTION:Kids can join us for our weekly art club every Thursday from 3:30-4:30pm! This week we’re making Yarn Bugs!
URL:https://norriscommunitylibrary.com/event/kids-art-club-36
CATEGORIES:Art Club,Kids,Kids Art Club
ATTACH;FMTTYPE=image/jpeg:https://norriscommunitylibrary.com/wp-content/uploads/2023/07/Kids-art-club.jpg
END:VEVENT
BEGIN:VEVENT
DTSTART;TZID=UTC:20250327T153000
DTEND;TZID=UTC:20250327T163000
DTSTAMP:20260423T233907
CREATED:20250213T215347Z
LAST-MODIFIED:20250213T215347Z
UID:2656-1743089400-1743093000@norriscommunitylibrary.com
SUMMARY:Kids Art Club
DESCRIPTION:Kids can join us for our weekly art club every Thursday from 3:30-4:30pm! This week we’re making Paper Roll Giraffes!
URL:https://norriscommunitylibrary.com/event/kids-art-club-35
CATEGORIES:Art Club,Kids,Kids Art Club
ATTACH;FMTTYPE=image/jpeg:https://norriscommunitylibrary.com/wp-content/uploads/2023/07/Kids-art-club.jpg
END:VEVENT
BEGIN:VEVENT
DTSTART;TZID=UTC:20250320T153000
DTEND;TZID=UTC:20250320T163000
DTSTAMP:20260423T233907
CREATED:20250213T215248Z
LAST-MODIFIED:20250310T195944Z
UID:2654-1742484600-1742488200@norriscommunitylibrary.com
SUMMARY:Kids Art Club
DESCRIPTION:Kids can join us for our weekly art club every Thursday from 3:30-4:30pm! This week we’re making Nonsense Doodles!
URL:https://norriscommunitylibrary.com/event/kids-art-club-34
CATEGORIES:Art Club,Kids,Kids Art Club
ATTACH;FMTTYPE=image/jpeg:https://norriscommunitylibrary.com/wp-content/uploads/2023/07/Kids-art-club.jpg
END:VEVENT
BEGIN:VEVENT
DTSTART;TZID=UTC:20250313T153000
DTEND;TZID=UTC:20250313T163000
DTSTAMP:20260423T233907
CREATED:20250213T215136Z
LAST-MODIFIED:20250310T195917Z
UID:2652-1741879800-1741883400@norriscommunitylibrary.com
SUMMARY:Kids Art Club
DESCRIPTION:Kids can join us for our weekly art club every Thursday from 3:30-4:30pm! This week we’re making Socktopi!
URL:https://norriscommunitylibrary.com/event/kids-art-club-33
CATEGORIES:Art Club,Kids,Kids Art Club
ATTACH;FMTTYPE=image/jpeg:https://norriscommunitylibrary.com/wp-content/uploads/2023/07/Kids-art-club.jpg
END:VEVENT
BEGIN:VEVENT
DTSTART;TZID=UTC:20250306T153000
DTEND;TZID=UTC:20250306T163000
DTSTAMP:20260423T233907
CREATED:20250213T215035Z
LAST-MODIFIED:20250213T215035Z
UID:2650-1741275000-1741278600@norriscommunitylibrary.com
SUMMARY:Kids Art Club
DESCRIPTION:Kids can join us for our weekly art club every Thursday from 3:30-4:30pm! This week we’re making Cardboard Hedgehogs!
URL:https://norriscommunitylibrary.com/event/kids-art-club-32
CATEGORIES:Art Club,Kids,Kids Art Club
ATTACH;FMTTYPE=image/jpeg:https://norriscommunitylibrary.com/wp-content/uploads/2023/07/Kids-art-club.jpg
END:VEVENT
BEGIN:VEVENT
DTSTART;TZID=UTC:20250227T153000
DTEND;TZID=UTC:20250227T163000
DTSTAMP:20260423T233907
CREATED:20250128T185346Z
LAST-MODIFIED:20250128T185346Z
UID:2585-1740670200-1740673800@norriscommunitylibrary.com
SUMMARY:Kids Art Club
DESCRIPTION:Kids can join us for our weekly art club every Thursday from 3:30-4:30pm! This week we’re making Watercolor Silhouettes!
URL:https://norriscommunitylibrary.com/event/kids-art-club-31
CATEGORIES:Art Club,Kids,Kids Art Club
ATTACH;FMTTYPE=image/jpeg:https://norriscommunitylibrary.com/wp-content/uploads/2023/07/Kids-art-club.jpg
END:VEVENT
BEGIN:VEVENT
DTSTART;TZID=UTC:20250220T153000
DTEND;TZID=UTC:20250220T163000
DTSTAMP:20260423T233907
CREATED:20250128T185225Z
LAST-MODIFIED:20250128T185225Z
UID:2583-1740065400-1740069000@norriscommunitylibrary.com
SUMMARY:Kids Art Club
DESCRIPTION:Kids can join us for our weekly art club every Thursday from 3:30-4:30pm! This week we’re making Zen Doodles!
URL:https://norriscommunitylibrary.com/event/kids-art-club-30
CATEGORIES:Art Club,Kids,Kids Art Club
ATTACH;FMTTYPE=image/jpeg:https://norriscommunitylibrary.com/wp-content/uploads/2023/07/Kids-art-club.jpg
END:VEVENT
BEGIN:VEVENT
DTSTART;TZID=UTC:20250213T153000
DTEND;TZID=UTC:20250213T163000
DTSTAMP:20260423T233907
CREATED:20250128T185103Z
LAST-MODIFIED:20250128T185103Z
UID:2581-1739460600-1739464200@norriscommunitylibrary.com
SUMMARY:Kids Art Club
DESCRIPTION:Kids can join us for our weekly art club every Thursday from 3:30-4:30pm! This week we’re making Valentine Mice!
URL:https://norriscommunitylibrary.com/event/kids-art-club-29
CATEGORIES:Art Club,Kids,Kids Art Club
ATTACH;FMTTYPE=image/jpeg:https://norriscommunitylibrary.com/wp-content/uploads/2023/07/Kids-art-club.jpg
END:VEVENT
BEGIN:VEVENT
DTSTART;TZID=UTC:20250206T153000
DTEND;TZID=UTC:20250206T163000
DTSTAMP:20260423T233907
CREATED:20250128T184952Z
LAST-MODIFIED:20250128T184952Z
UID:2579-1738855800-1738859400@norriscommunitylibrary.com
SUMMARY:Kids Art Club
DESCRIPTION:Kids can join us for our weekly art club every Thursday from 3:30-4:30pm! This week we’re making Gouache Van Gogh!
URL:https://norriscommunitylibrary.com/event/kids-art-club-28
CATEGORIES:Art Club,Kids,Kids Art Club
ATTACH;FMTTYPE=image/jpeg:https://norriscommunitylibrary.com/wp-content/uploads/2023/07/Kids-art-club.jpg
END:VEVENT
BEGIN:VEVENT
DTSTART;TZID=UTC:20250130T153000
DTEND;TZID=UTC:20250130T163000
DTSTAMP:20260423T233907
CREATED:20250102T154234Z
LAST-MODIFIED:20250102T154234Z
UID:2491-1738251000-1738254600@norriscommunitylibrary.com
SUMMARY:Kids Art Club
DESCRIPTION:Kids can join us for our weekly art club every Thursday from 3:30-4:30pm! This week we’re making Marbled Paper!
URL:https://norriscommunitylibrary.com/event/kids-art-club-27
CATEGORIES:Art Club,Kids,Kids Art Club
ATTACH;FMTTYPE=image/jpeg:https://norriscommunitylibrary.com/wp-content/uploads/2023/07/Kids-art-club.jpg
END:VEVENT
BEGIN:VEVENT
DTSTART;TZID=UTC:20250123T153000
DTEND;TZID=UTC:20250123T163000
DTSTAMP:20260423T233907
CREATED:20250102T153506Z
LAST-MODIFIED:20250102T153506Z
UID:2481-1737646200-1737649800@norriscommunitylibrary.com
SUMMARY:Kids Art Club
DESCRIPTION:Kids can join us for our weekly art club every Thursday from 3:30-4:30pm! This week we’re making Slime!
URL:https://norriscommunitylibrary.com/event/kids-art-club-26
CATEGORIES:Art Club,Kids,Kids Art Club
ATTACH;FMTTYPE=image/jpeg:https://norriscommunitylibrary.com/wp-content/uploads/2023/07/Kids-art-club.jpg
END:VEVENT
BEGIN:VEVENT
DTSTART;TZID=UTC:20250116T153000
DTEND;TZID=UTC:20250116T163000
DTSTAMP:20260423T233907
CREATED:20250102T151730Z
LAST-MODIFIED:20250102T151730Z
UID:2471-1737041400-1737045000@norriscommunitylibrary.com
SUMMARY:Kids Art Club
DESCRIPTION:Kids can join us for our weekly art club every Thursday from 3:30-4:30pm! This week we’re making Watercolor with Salt!
URL:https://norriscommunitylibrary.com/event/kids-art-club-25
CATEGORIES:Art Club,Kids,Kids Art Club
ATTACH;FMTTYPE=image/jpeg:https://norriscommunitylibrary.com/wp-content/uploads/2023/07/Kids-art-club.jpg
END:VEVENT
BEGIN:VEVENT
DTSTART;TZID=UTC:20250109T153000
DTEND;TZID=UTC:20250109T163000
DTSTAMP:20260423T233907
CREATED:20250102T150853Z
LAST-MODIFIED:20250102T150853Z
UID:2463-1736436600-1736440200@norriscommunitylibrary.com
SUMMARY:Kids Art Club
DESCRIPTION:Kids can join us for our weekly art club every Thursday from 3:30-4:30pm! This week we’re making Melted Snowmen!
URL:https://norriscommunitylibrary.com/event/kids-art-club-24
CATEGORIES:Art Club,Kids,Kids Art Club
ATTACH;FMTTYPE=image/jpeg:https://norriscommunitylibrary.com/wp-content/uploads/2023/07/Kids-art-club.jpg
END:VEVENT
BEGIN:VEVENT
DTSTART;TZID=UTC:20250102T153000
DTEND;TZID=UTC:20250102T163000
DTSTAMP:20260423T233907
CREATED:20250102T145646Z
LAST-MODIFIED:20250102T145646Z
UID:2451-1735831800-1735835400@norriscommunitylibrary.com
SUMMARY:Kids Art Club
DESCRIPTION:Kids can join us for our weekly art club every Thursday from 3:30-4:30pm! This week we’re making Chalk Auroras!
URL:https://norriscommunitylibrary.com/event/kids-art-club-23
CATEGORIES:Art Club,Kids,Kids Art Club
ATTACH;FMTTYPE=image/jpeg:https://norriscommunitylibrary.com/wp-content/uploads/2023/07/Kids-art-club.jpg
END:VEVENT
BEGIN:VEVENT
DTSTART;TZID=UTC:20241226T153000
DTEND;TZID=UTC:20241226T163000
DTSTAMP:20260423T233907
CREATED:20241203T192814Z
LAST-MODIFIED:20241203T192814Z
UID:2369-1735227000-1735230600@norriscommunitylibrary.com
SUMMARY:Kids Art Club
DESCRIPTION:Kids can join us for our weekly art club every Thursday from 3:30-4:30pm! This week we’re making Self Portraits!
URL:https://norriscommunitylibrary.com/event/kids-art-club-22
CATEGORIES:Art Club,Kids,Kids Art Club
ATTACH;FMTTYPE=image/jpeg:https://norriscommunitylibrary.com/wp-content/uploads/2023/07/Kids-art-club.jpg
END:VEVENT
BEGIN:VEVENT
DTSTART;TZID=UTC:20241219T153000
DTEND;TZID=UTC:20241219T163000
DTSTAMP:20260423T233907
CREATED:20241203T192637Z
LAST-MODIFIED:20241203T192637Z
UID:2367-1734622200-1734625800@norriscommunitylibrary.com
SUMMARY:Kids Art Club
DESCRIPTION:Kids can join us for our weekly art club every Thursday from 3:30-4:30pm! This week we’re making Cards!
URL:https://norriscommunitylibrary.com/event/kids-art-club-21
CATEGORIES:Art Club,Kids,Kids Art Club
ATTACH;FMTTYPE=image/jpeg:https://norriscommunitylibrary.com/wp-content/uploads/2023/07/Kids-art-club.jpg
END:VEVENT
BEGIN:VEVENT
DTSTART;TZID=UTC:20241212T153000
DTEND;TZID=UTC:20241212T163000
DTSTAMP:20260423T233907
CREATED:20241203T191633Z
LAST-MODIFIED:20241203T191655Z
UID:2351-1734017400-1734021000@norriscommunitylibrary.com
SUMMARY:Kids Art Club
DESCRIPTION:Kids can join us for our weekly art club every Thursday from 3:30-4:30pm! This week we’re making Paper Snowflakes!
URL:https://norriscommunitylibrary.com/event/kids-art-club-20
CATEGORIES:Art Club,Kids,Kids Art Club
ATTACH;FMTTYPE=image/jpeg:https://norriscommunitylibrary.com/wp-content/uploads/2023/07/Kids-art-club.jpg
END:VEVENT
BEGIN:VEVENT
DTSTART;TZID=UTC:20241205T153000
DTEND;TZID=UTC:20241205T163000
DTSTAMP:20260423T233907
CREATED:20241203T182613Z
LAST-MODIFIED:20241203T182613Z
UID:2340-1733412600-1733416200@norriscommunitylibrary.com
SUMMARY:Kids Art Club
DESCRIPTION:Kids can join us for our weekly art club every Thursday from 3:30-4:30pm! This week we’re making Friendship Bracelets!
URL:https://norriscommunitylibrary.com/event/kids-art-club-19
CATEGORIES:Art Club,Kids,Kids Art Club
ATTACH;FMTTYPE=image/jpeg:https://norriscommunitylibrary.com/wp-content/uploads/2023/07/Kids-art-club.jpg
END:VEVENT
BEGIN:VEVENT
DTSTART;TZID=UTC:20230601T153000
DTEND;TZID=UTC:20230601T163000
DTSTAMP:20260423T233907
CREATED:20230531T233627Z
LAST-MODIFIED:20230601T010631Z
UID:266-1685633400-1685637000@norriscommunitylibrary.com
SUMMARY:Kid's Art Club: Sew What!
DESCRIPTION:Join us for art club! Kids art club meetings are every Thursday 3:30-4:30 PM. Each month we’ll look at a different topic. On June 1st\, we’ll use all the skills you learned in May to create little critters!
URL:https://norriscommunitylibrary.com/event/kids-art-club-sew-what
LOCATION:Norris Community Library\, 1 Norris Square\, Norris\, TN\, 37828\, United States
CATEGORIES:Art Club,Kids
ATTACH;FMTTYPE=image/jpeg:https://norriscommunitylibrary.com/wp-content/uploads/2023/05/sew-what.jpeg
ORGANIZER;CN="Norris Community Library":MAILTO:questions@norriscommunitylibrary.com
END:VEVENT
END:VCALENDAR