BEGIN:VCALENDAR
VERSION:2.0
PRODID:-//Norris Community Library - ECPv6.15.20//NONSGML v1.0//EN
CALSCALE:GREGORIAN
METHOD:PUBLISH
X-ORIGINAL-URL:https://norriscommunitylibrary.com
X-WR-CALDESC:Events for Norris Community Library
REFRESH-INTERVAL;VALUE=DURATION:PT1H
X-Robots-Tag:noindex
X-PUBLISHED-TTL:PT1H
BEGIN:VTIMEZONE
TZID:UTC
BEGIN:STANDARD
TZOFFSETFROM:+0000
TZOFFSETTO:+0000
TZNAME:UTC
DTSTART:20250101T000000
END:STANDARD
END:VTIMEZONE
BEGIN:VEVENT
DTSTART;TZID=UTC:20260709T153000
DTEND;TZID=UTC:20260709T163000
DTSTAMP:20260423T215249
CREATED:20260422T163423Z
LAST-MODIFIED:20260422T164011Z
UID:6173-1783611000-1783614600@norriscommunitylibrary.com
SUMMARY:Kids Art Club
DESCRIPTION:Kids can join us for our weekly art club every Thursday from 3:30-4:30pm! This week we’re making Pasta Dinos!
URL:https://norriscommunitylibrary.com/event/kids-art-club-92
CATEGORIES:Art Club,Kids,Kids Art Club,Summer Reading
ATTACH;FMTTYPE=image/jpeg:https://norriscommunitylibrary.com/wp-content/uploads/2023/07/Kids-art-club.jpg
END:VEVENT
BEGIN:VEVENT
DTSTART;TZID=UTC:20260716T153000
DTEND;TZID=UTC:20260716T163000
DTSTAMP:20260423T215249
CREATED:20260422T163538Z
LAST-MODIFIED:20260422T163538Z
UID:6175-1784215800-1784219400@norriscommunitylibrary.com
SUMMARY:Kids Art Club
DESCRIPTION:Kids can join us for our weekly art club every Thursday from 3:30-4:30pm! This week we’re making DIY Fossils!
URL:https://norriscommunitylibrary.com/event/kids-art-club-93
CATEGORIES:Art Club,Kids,Kids Art Club,Summer Reading
ATTACH;FMTTYPE=image/jpeg:https://norriscommunitylibrary.com/wp-content/uploads/2023/07/Kids-art-club.jpg
END:VEVENT
BEGIN:VEVENT
DTSTART;TZID=UTC:20260723T153000
DTEND;TZID=UTC:20260723T163000
DTSTAMP:20260423T215249
CREATED:20260422T163849Z
LAST-MODIFIED:20260422T163849Z
UID:6177-1784820600-1784824200@norriscommunitylibrary.com
SUMMARY:Kids Art Club
DESCRIPTION:Kids can join us for our weekly art club every Thursday from 3:30-4:30pm! This week we’re crafting Dino Costumes!
URL:https://norriscommunitylibrary.com/event/kids-art-club-94
CATEGORIES:Art Club,Kids,Kids Art Club,Summer Reading
ATTACH;FMTTYPE=image/jpeg:https://norriscommunitylibrary.com/wp-content/uploads/2023/07/Kids-art-club.jpg
END:VEVENT
END:VCALENDAR