BEGIN:VCALENDAR
VERSION:2.0
PRODID:-//Norris Community Library - ECPv6.15.20//NONSGML v1.0//EN
CALSCALE:GREGORIAN
METHOD:PUBLISH
X-ORIGINAL-URL:https://norriscommunitylibrary.com
X-WR-CALDESC:Events for Norris Community Library
REFRESH-INTERVAL;VALUE=DURATION:PT1H
X-Robots-Tag:noindex
X-PUBLISHED-TTL:PT1H
BEGIN:VTIMEZONE
TZID:UTC
BEGIN:STANDARD
TZOFFSETFROM:+0000
TZOFFSETTO:+0000
TZNAME:UTC
DTSTART:20240101T000000
END:STANDARD
END:VTIMEZONE
BEGIN:VEVENT
DTSTART;TZID=UTC:20260415T143000
DTEND;TZID=UTC:20260415T153000
DTSTAMP:20260423T202511
CREATED:20260320T141827Z
LAST-MODIFIED:20260320T141827Z
UID:5836-1776263400-1776267000@norriscommunitylibrary.com
SUMMARY:Pokemon Club
DESCRIPTION:Pokémon Trainers can come by the library to battle their Pokémon\, trade cards\, and nerd out! It’s free\, fun\, and every other Wednesday\, 2:30-3:30pm.
URL:https://norriscommunitylibrary.com/event/pokemon-club-43
CATEGORIES:All Ages,Pokémon Club
ATTACH;FMTTYPE=image/png:https://norriscommunitylibrary.com/wp-content/uploads/2024/07/pngimg.com-pokeball_PNG22-e1721852270653.png
END:VEVENT
BEGIN:VEVENT
DTSTART;TZID=UTC:20260401T143000
DTEND;TZID=UTC:20260401T153000
DTSTAMP:20260423T202511
CREATED:20260320T141712Z
LAST-MODIFIED:20260320T141712Z
UID:5834-1775053800-1775057400@norriscommunitylibrary.com
SUMMARY:Pokemon Club
DESCRIPTION:Pokémon Trainers can come by the library to battle their Pokémon\, trade cards\, and nerd out! It’s free\, fun\, and every other Wednesday\, 2:30-3:30pm.
URL:https://norriscommunitylibrary.com/event/pokemon-club-42
CATEGORIES:All Ages,Pokémon Club
ATTACH;FMTTYPE=image/png:https://norriscommunitylibrary.com/wp-content/uploads/2024/07/pngimg.com-pokeball_PNG22-e1721852270653.png
END:VEVENT
BEGIN:VEVENT
DTSTART;TZID=UTC:20260318T143000
DTEND;TZID=UTC:20260318T153000
DTSTAMP:20260423T202511
CREATED:20260219T171956Z
LAST-MODIFIED:20260219T171956Z
UID:5656-1773844200-1773847800@norriscommunitylibrary.com
SUMMARY:Pokemon Club
DESCRIPTION:Pokémon Trainers can come by the library to battle their Pokémon\, trade cards\, and nerd out! It’s free\, fun\, and every other Wednesday\, 2:30-3:30pm.
URL:https://norriscommunitylibrary.com/event/pokemon-club-41
CATEGORIES:All Ages,Pokémon Club
ATTACH;FMTTYPE=image/png:https://norriscommunitylibrary.com/wp-content/uploads/2024/07/pngimg.com-pokeball_PNG22-e1721852270653.png
END:VEVENT
BEGIN:VEVENT
DTSTART;TZID=UTC:20260304T143000
DTEND;TZID=UTC:20260304T153000
DTSTAMP:20260423T202511
CREATED:20260219T171907Z
LAST-MODIFIED:20260219T171907Z
UID:5654-1772634600-1772638200@norriscommunitylibrary.com
SUMMARY:Pokemon Club
DESCRIPTION:Pokémon Trainers can come by the library to battle their Pokémon\, trade cards\, and nerd out! It’s free\, fun\, and every other Wednesday\, 2:30-3:30pm.
URL:https://norriscommunitylibrary.com/event/pokemon-club-40
CATEGORIES:All Ages,Pokémon Club
ATTACH;FMTTYPE=image/png:https://norriscommunitylibrary.com/wp-content/uploads/2024/07/pngimg.com-pokeball_PNG22-e1721852270653.png
END:VEVENT
BEGIN:VEVENT
DTSTART;TZID=UTC:20260218T143000
DTEND;TZID=UTC:20260218T153000
DTSTAMP:20260423T202511
CREATED:20260115T152902Z
LAST-MODIFIED:20260115T152902Z
UID:5473-1771425000-1771428600@norriscommunitylibrary.com
SUMMARY:Pokemon Club
DESCRIPTION:Pokémon Trainers can come by the library to battle their Pokémon\, trade cards\, and nerd out! It’s free\, fun\, and every other Wednesday\, 2:30-3:30pm.
URL:https://norriscommunitylibrary.com/event/pokemon-club-39
CATEGORIES:All Ages,Pokémon Club
ATTACH;FMTTYPE=image/png:https://norriscommunitylibrary.com/wp-content/uploads/2024/07/pngimg.com-pokeball_PNG22-e1721852270653.png
END:VEVENT
BEGIN:VEVENT
DTSTART;TZID=UTC:20260204T143000
DTEND;TZID=UTC:20260204T153000
DTSTAMP:20260423T202511
CREATED:20260115T152807Z
LAST-MODIFIED:20260115T152807Z
UID:5471-1770215400-1770219000@norriscommunitylibrary.com
SUMMARY:Pokemon Club
DESCRIPTION:Pokémon Trainers can come by the library to battle their Pokémon\, trade cards\, and nerd out! It’s free\, fun\, and every other Wednesday\, 2:30-3:30pm.
URL:https://norriscommunitylibrary.com/event/pokemon-club-38
CATEGORIES:All Ages,Pokémon Club
ATTACH;FMTTYPE=image/png:https://norriscommunitylibrary.com/wp-content/uploads/2024/07/pngimg.com-pokeball_PNG22-e1721852270653.png
END:VEVENT
BEGIN:VEVENT
DTSTART;TZID=UTC:20260121T143000
DTEND;TZID=UTC:20260121T153000
DTSTAMP:20260423T202511
CREATED:20251209T151438Z
LAST-MODIFIED:20251209T151438Z
UID:5043-1769005800-1769009400@norriscommunitylibrary.com
SUMMARY:Pokemon Club
DESCRIPTION:Pokémon Trainers can come by the library to battle their Pokémon\, trade cards\, and nerd out! It’s free\, fun\, and every other Wednesday\, 2:30-3:30pm.
URL:https://norriscommunitylibrary.com/event/pokemon-club-37
CATEGORIES:All Ages,Pokémon Club
ATTACH;FMTTYPE=image/png:https://norriscommunitylibrary.com/wp-content/uploads/2024/07/pngimg.com-pokeball_PNG22-e1721852270653.png
END:VEVENT
BEGIN:VEVENT
DTSTART;TZID=UTC:20260107T143000
DTEND;TZID=UTC:20260107T153000
DTSTAMP:20260423T202511
CREATED:20251209T151326Z
LAST-MODIFIED:20251209T151326Z
UID:5041-1767796200-1767799800@norriscommunitylibrary.com
SUMMARY:Pokemon Club
DESCRIPTION:Pokémon Trainers can come by the library to battle their Pokémon\, trade cards\, and nerd out! It’s free\, fun\, and every other Wednesday\, 2:30-3:30pm.
URL:https://norriscommunitylibrary.com/event/pokemon-club-36
CATEGORIES:All Ages,Pokémon Club
ATTACH;FMTTYPE=image/png:https://norriscommunitylibrary.com/wp-content/uploads/2024/07/pngimg.com-pokeball_PNG22-e1721852270653.png
END:VEVENT
BEGIN:VEVENT
DTSTART;TZID=UTC:20251210T143000
DTEND;TZID=UTC:20251210T153000
DTSTAMP:20260423T202511
CREATED:20251122T172349Z
LAST-MODIFIED:20251122T172349Z
UID:4922-1765377000-1765380600@norriscommunitylibrary.com
SUMMARY:Pokemon Club
DESCRIPTION:Pokémon Trainers can come by the library to battle their Pokémon\, trade cards\, and nerd out! It’s free\, fun\, and every other Wednesday\, 2:30-3:30pm.
URL:https://norriscommunitylibrary.com/event/pokemon-club-35
CATEGORIES:All Ages,Pokémon Club
ATTACH;FMTTYPE=image/png:https://norriscommunitylibrary.com/wp-content/uploads/2024/07/pngimg.com-pokeball_PNG22-e1721852270653.png
END:VEVENT
BEGIN:VEVENT
DTSTART;TZID=UTC:20251126T143000
DTEND;TZID=UTC:20251126T153000
DTSTAMP:20260423T202511
CREATED:20251022T142024Z
LAST-MODIFIED:20251022T142024Z
UID:4646-1764167400-1764171000@norriscommunitylibrary.com
SUMMARY:Pokemon Club
DESCRIPTION:Pokémon Trainers can come by the library to battle their Pokémon\, trade cards\, and nerd out! It’s free\, fun\, and every other Wednesday\, 2:30-3:30pm.
URL:https://norriscommunitylibrary.com/event/pokemon-club-34
CATEGORIES:All Ages,Pokémon Club
ATTACH;FMTTYPE=image/png:https://norriscommunitylibrary.com/wp-content/uploads/2024/07/pngimg.com-pokeball_PNG22-e1721852270653.png
END:VEVENT
BEGIN:VEVENT
DTSTART;TZID=UTC:20251112T143000
DTEND;TZID=UTC:20251112T153000
DTSTAMP:20260423T202511
CREATED:20251022T141939Z
LAST-MODIFIED:20251022T141939Z
UID:4644-1762957800-1762961400@norriscommunitylibrary.com
SUMMARY:Pokemon Club
DESCRIPTION:Pokémon Trainers can come by the library to battle their Pokémon\, trade cards\, and nerd out! It’s free\, fun\, and every other Wednesday\, 2:30-3:30pm.
URL:https://norriscommunitylibrary.com/event/pokemon-club-33
CATEGORIES:All Ages,Pokémon Club
ATTACH;FMTTYPE=image/png:https://norriscommunitylibrary.com/wp-content/uploads/2024/07/pngimg.com-pokeball_PNG22-e1721852270653.png
END:VEVENT
BEGIN:VEVENT
DTSTART;TZID=UTC:20251029T143000
DTEND;TZID=UTC:20251029T153000
DTSTAMP:20260423T202511
CREATED:20250916T150318Z
LAST-MODIFIED:20250916T150318Z
UID:4419-1761748200-1761751800@norriscommunitylibrary.com
SUMMARY:Pokemon Club
DESCRIPTION:Pokémon Trainers can come by the library to battle their Pokémon\, trade cards\, and nerd out! It’s free\, fun\, and every other Wednesday\, 2:30-3:30pm.
URL:https://norriscommunitylibrary.com/event/pokemon-club-32
CATEGORIES:All Ages,Pokémon Club
ATTACH;FMTTYPE=image/png:https://norriscommunitylibrary.com/wp-content/uploads/2024/07/pngimg.com-pokeball_PNG22-e1721852270653.png
END:VEVENT
BEGIN:VEVENT
DTSTART;TZID=UTC:20251015T143000
DTEND;TZID=UTC:20251015T153000
DTSTAMP:20260423T202511
CREATED:20250916T150224Z
LAST-MODIFIED:20250916T150224Z
UID:4417-1760538600-1760542200@norriscommunitylibrary.com
SUMMARY:Pokemon Club
DESCRIPTION:Pokémon Trainers can come by the library to battle their Pokémon\, trade cards\, and nerd out! It’s free\, fun\, and every other Wednesday\, 2:30-3:30pm.
URL:https://norriscommunitylibrary.com/event/pokemon-club-31
CATEGORIES:All Ages,Pokémon Club
ATTACH;FMTTYPE=image/png:https://norriscommunitylibrary.com/wp-content/uploads/2024/07/pngimg.com-pokeball_PNG22-e1721852270653.png
END:VEVENT
BEGIN:VEVENT
DTSTART;TZID=UTC:20251001T143000
DTEND;TZID=UTC:20251001T153000
DTSTAMP:20260423T202511
CREATED:20250916T150119Z
LAST-MODIFIED:20250916T150119Z
UID:4415-1759329000-1759332600@norriscommunitylibrary.com
SUMMARY:Pokemon Club
DESCRIPTION:Pokémon Trainers can come by the library to battle their Pokémon\, trade cards\, and nerd out! It’s free\, fun\, and every other Wednesday\, 2:30-3:30pm.
URL:https://norriscommunitylibrary.com/event/pokemon-club-30
CATEGORIES:All Ages,Pokémon Club
ATTACH;FMTTYPE=image/png:https://norriscommunitylibrary.com/wp-content/uploads/2024/07/pngimg.com-pokeball_PNG22-e1721852270653.png
END:VEVENT
BEGIN:VEVENT
DTSTART;TZID=UTC:20250917T143000
DTEND;TZID=UTC:20250917T153000
DTSTAMP:20260423T202511
CREATED:20250819T213818Z
LAST-MODIFIED:20250819T213818Z
UID:4307-1758119400-1758123000@norriscommunitylibrary.com
SUMMARY:Pokemon Club
DESCRIPTION:Pokémon Trainers can come by the library to battle their Pokémon\, trade cards\, and nerd out! It’s free\, fun\, and every other Wednesday\, 2:30-3:30pm.
URL:https://norriscommunitylibrary.com/event/pokemon-club-29
CATEGORIES:All Ages,Pokémon Club
ATTACH;FMTTYPE=image/png:https://norriscommunitylibrary.com/wp-content/uploads/2024/07/pngimg.com-pokeball_PNG22-e1721852270653.png
END:VEVENT
BEGIN:VEVENT
DTSTART;TZID=UTC:20250903T143000
DTEND;TZID=UTC:20250903T153000
DTSTAMP:20260423T202511
CREATED:20250819T213710Z
LAST-MODIFIED:20250819T213710Z
UID:4305-1756909800-1756913400@norriscommunitylibrary.com
SUMMARY:Pokemon Club
DESCRIPTION:Pokémon Trainers can come by the library to battle their Pokémon\, trade cards\, and nerd out! It’s free\, fun\, and every other Wednesday\, 2:30-3:30pm.
URL:https://norriscommunitylibrary.com/event/pokemon-club-28
CATEGORIES:All Ages,Pokémon Club
ATTACH;FMTTYPE=image/png:https://norriscommunitylibrary.com/wp-content/uploads/2024/07/pngimg.com-pokeball_PNG22-e1721852270653.png
END:VEVENT
BEGIN:VEVENT
DTSTART;TZID=UTC:20250820T143000
DTEND;TZID=UTC:20250820T153000
DTSTAMP:20260423T202511
CREATED:20250715T174315Z
LAST-MODIFIED:20250715T174315Z
UID:3999-1755700200-1755703800@norriscommunitylibrary.com
SUMMARY:Pokemon Club
DESCRIPTION:Pokémon Trainers can come by the library to battle their Pokémon\, trade cards\, and nerd out! It’s free\, fun\, and every other Wednesday\, 2:30-3:30pm.
URL:https://norriscommunitylibrary.com/event/pokemon-club-27
CATEGORIES:All Ages,Pokémon Club
ATTACH;FMTTYPE=image/png:https://norriscommunitylibrary.com/wp-content/uploads/2024/07/pngimg.com-pokeball_PNG22-e1721852270653.png
END:VEVENT
BEGIN:VEVENT
DTSTART;TZID=UTC:20250806T143000
DTEND;TZID=UTC:20250806T153000
DTSTAMP:20260423T202511
CREATED:20250715T174143Z
LAST-MODIFIED:20250715T174143Z
UID:3997-1754490600-1754494200@norriscommunitylibrary.com
SUMMARY:Pokemon Club
DESCRIPTION:Pokémon Trainers can come by the library to battle their Pokémon\, trade cards\, and nerd out! It’s free\, fun\, and every other Wednesday\, 2:30-3:30pm.
URL:https://norriscommunitylibrary.com/event/pokemon-club-26
CATEGORIES:All Ages,Pokémon Club
ATTACH;FMTTYPE=image/png:https://norriscommunitylibrary.com/wp-content/uploads/2024/07/pngimg.com-pokeball_PNG22-e1721852270653.png
END:VEVENT
BEGIN:VEVENT
DTSTART;TZID=UTC:20250723T143000
DTEND;TZID=UTC:20250723T153000
DTSTAMP:20260423T202511
CREATED:20250516T212224Z
LAST-MODIFIED:20250516T212224Z
UID:3588-1753281000-1753284600@norriscommunitylibrary.com
SUMMARY:Pokemon Club
DESCRIPTION:Pokémon Trainers can come by the library to battle their Pokémon\, trade cards\, and nerd out! It’s free\, fun\, and every other Wednesday\, 2:30-3:30pm.
URL:https://norriscommunitylibrary.com/event/pokemon-club-25
CATEGORIES:All Ages,Pokémon Club,Summer Reading
ATTACH;FMTTYPE=image/png:https://norriscommunitylibrary.com/wp-content/uploads/2024/07/pngimg.com-pokeball_PNG22-e1721852270653.png
END:VEVENT
BEGIN:VEVENT
DTSTART;TZID=UTC:20250709T143000
DTEND;TZID=UTC:20250709T153000
DTSTAMP:20260423T202511
CREATED:20250516T212134Z
LAST-MODIFIED:20250516T212134Z
UID:3586-1752071400-1752075000@norriscommunitylibrary.com
SUMMARY:Pokemon Club
DESCRIPTION:Pokémon Trainers can come by the library to battle their Pokémon\, trade cards\, and nerd out! It’s free\, fun\, and every other Wednesday\, 2:30-3:30pm.
URL:https://norriscommunitylibrary.com/event/pokemon-club-24
CATEGORIES:All Ages,Pokémon Club,Summer Reading
ATTACH;FMTTYPE=image/png:https://norriscommunitylibrary.com/wp-content/uploads/2024/07/pngimg.com-pokeball_PNG22-e1721852270653.png
END:VEVENT
BEGIN:VEVENT
DTSTART;TZID=UTC:20250625T143000
DTEND;TZID=UTC:20250625T153000
DTSTAMP:20260423T202511
CREATED:20250516T185704Z
LAST-MODIFIED:20250516T194701Z
UID:3521-1750861800-1750865400@norriscommunitylibrary.com
SUMMARY:Pokemon Club
DESCRIPTION:Pokémon Trainers can come by the library to battle their Pokémon\, trade cards\, and nerd out! It’s free\, fun\, and every other Wednesday\, 2:30-3:30pm.
URL:https://norriscommunitylibrary.com/event/pokemon-club-23
CATEGORIES:All Ages,Pokémon Club,Summer Reading
ATTACH;FMTTYPE=image/png:https://norriscommunitylibrary.com/wp-content/uploads/2024/07/pngimg.com-pokeball_PNG22-e1721852270653.png
END:VEVENT
BEGIN:VEVENT
DTSTART;TZID=UTC:20250611T143000
DTEND;TZID=UTC:20250611T153000
DTSTAMP:20260423T202511
CREATED:20250516T185624Z
LAST-MODIFIED:20250516T194213Z
UID:3519-1749652200-1749655800@norriscommunitylibrary.com
SUMMARY:Pokemon Club
DESCRIPTION:Pokémon Trainers can come by the library to battle their Pokémon\, trade cards\, and nerd out! It’s free\, fun\, and every other Wednesday\, 2:30-3:30pm.
URL:https://norriscommunitylibrary.com/event/pokemon-club-22
CATEGORIES:All Ages,Pokémon Club,Summer Reading
ATTACH;FMTTYPE=image/png:https://norriscommunitylibrary.com/wp-content/uploads/2024/07/pngimg.com-pokeball_PNG22-e1721852270653.png
END:VEVENT
BEGIN:VEVENT
DTSTART;TZID=UTC:20250528T143000
DTEND;TZID=UTC:20250528T153000
DTSTAMP:20260423T202511
CREATED:20250410T142055Z
LAST-MODIFIED:20250410T142055Z
UID:3153-1748442600-1748446200@norriscommunitylibrary.com
SUMMARY:Pokemon Club
DESCRIPTION:Pokémon Trainers can come by the library to battle their Pokémon\, trade cards\, and nerd out! It’s free\, fun\, and every other Wednesday\, 2:30-3:30pm.
URL:https://norriscommunitylibrary.com/event/pokemon-club-21
CATEGORIES:All Ages,Pokémon Club
ATTACH;FMTTYPE=image/png:https://norriscommunitylibrary.com/wp-content/uploads/2024/07/pngimg.com-pokeball_PNG22-e1721852270653.png
END:VEVENT
BEGIN:VEVENT
DTSTART;TZID=UTC:20250514T143000
DTEND;TZID=UTC:20250514T153000
DTSTAMP:20260423T202511
CREATED:20250410T142009Z
LAST-MODIFIED:20250410T142009Z
UID:3151-1747233000-1747236600@norriscommunitylibrary.com
SUMMARY:Pokemon Club
DESCRIPTION:Pokémon Trainers can come by the library to battle their Pokémon\, trade cards\, and nerd out! It’s free\, fun\, and every other Wednesday\, 2:30-3:30pm.
URL:https://norriscommunitylibrary.com/event/pokemon-club-18
CATEGORIES:All Ages,Pokémon Club
ATTACH;FMTTYPE=image/png:https://norriscommunitylibrary.com/wp-content/uploads/2024/07/pngimg.com-pokeball_PNG22-e1721852270653.png
END:VEVENT
BEGIN:VEVENT
DTSTART;TZID=UTC:20250430T143000
DTEND;TZID=UTC:20250430T153000
DTSTAMP:20260423T202511
CREATED:20250310T201946Z
LAST-MODIFIED:20250310T201946Z
UID:2844-1746023400-1746027000@norriscommunitylibrary.com
SUMMARY:Pokemon Club
DESCRIPTION:Pokémon Trainers can come by the library to battle their Pokémon\, trade cards\, and nerd out! It’s free\, fun\, and every other Wednesday\, 2:30-3:30pm.
URL:https://norriscommunitylibrary.com/event/pokemon-club-20
CATEGORIES:All Ages,Pokémon Club
ATTACH;FMTTYPE=image/png:https://norriscommunitylibrary.com/wp-content/uploads/2024/07/pngimg.com-pokeball_PNG22-e1721852270653.png
END:VEVENT
BEGIN:VEVENT
DTSTART;TZID=UTC:20250416T143000
DTEND;TZID=UTC:20250416T153000
DTSTAMP:20260423T202511
CREATED:20250310T201859Z
LAST-MODIFIED:20250310T201859Z
UID:2842-1744813800-1744817400@norriscommunitylibrary.com
SUMMARY:Pokemon Club
DESCRIPTION:Pokémon Trainers can come by the library to battle their Pokémon\, trade cards\, and nerd out! It’s free\, fun\, and every other Wednesday\, 2:30-3:30pm.
URL:https://norriscommunitylibrary.com/event/pokemon-club-19
CATEGORIES:All Ages,Pokémon Club
ATTACH;FMTTYPE=image/png:https://norriscommunitylibrary.com/wp-content/uploads/2024/07/pngimg.com-pokeball_PNG22-e1721852270653.png
END:VEVENT
BEGIN:VEVENT
DTSTART;TZID=UTC:20250319T143000
DTEND;TZID=UTC:20250319T153000
DTSTAMP:20260423T202511
CREATED:20250213T215529Z
LAST-MODIFIED:20250213T215529Z
UID:2660-1742394600-1742398200@norriscommunitylibrary.com
SUMMARY:Pokemon Club
DESCRIPTION:Pokémon Trainers can come by the library to battle their Pokémon\, trade cards\, and nerd out! It’s free\, fun\, and every other Wednesday\, 2:30-3:30pm.
URL:https://norriscommunitylibrary.com/event/pokemon-club-17
CATEGORIES:All Ages,Pokémon Club
ATTACH;FMTTYPE=image/png:https://norriscommunitylibrary.com/wp-content/uploads/2024/07/pngimg.com-pokeball_PNG22-e1721852270653.png
END:VEVENT
BEGIN:VEVENT
DTSTART;TZID=UTC:20250305T143000
DTEND;TZID=UTC:20250305T153000
DTSTAMP:20260423T202511
CREATED:20250213T215446Z
LAST-MODIFIED:20250213T215446Z
UID:2658-1741185000-1741188600@norriscommunitylibrary.com
SUMMARY:Pokemon Club
DESCRIPTION:Pokémon Trainers can come by the library to battle their Pokémon\, trade cards\, and nerd out! It’s free\, fun\, and every other Wednesday\, 2:30-3:30pm.
URL:https://norriscommunitylibrary.com/event/pokemon-club-16
CATEGORIES:All Ages,Pokémon Club
ATTACH;FMTTYPE=image/png:https://norriscommunitylibrary.com/wp-content/uploads/2024/07/pngimg.com-pokeball_PNG22-e1721852270653.png
END:VEVENT
BEGIN:VEVENT
DTSTART;TZID=UTC:20250219T143000
DTEND;TZID=UTC:20250219T153000
DTSTAMP:20260423T202511
CREATED:20250128T185536Z
LAST-MODIFIED:20250128T185536Z
UID:2589-1739975400-1739979000@norriscommunitylibrary.com
SUMMARY:Pokemon Club
DESCRIPTION:Pokémon Trainers can come by the library to battle their Pokémon\, trade cards\, and nerd out! It’s free\, fun\, and every other Wednesday\, 2:30-3:30pm.
URL:https://norriscommunitylibrary.com/event/pokemon-club-15
CATEGORIES:All Ages,Pokémon Club
ATTACH;FMTTYPE=image/png:https://norriscommunitylibrary.com/wp-content/uploads/2024/07/pngimg.com-pokeball_PNG22-e1721852270653.png
END:VEVENT
BEGIN:VEVENT
DTSTART;TZID=UTC:20250205T143000
DTEND;TZID=UTC:20250205T153000
DTSTAMP:20260423T202511
CREATED:20250128T185457Z
LAST-MODIFIED:20250128T185457Z
UID:2587-1738765800-1738769400@norriscommunitylibrary.com
SUMMARY:Pokemon Club
DESCRIPTION:Pokémon Trainers can come by the library to battle their Pokémon\, trade cards\, and nerd out! It’s free\, fun\, and every other Wednesday\, 2:30-3:30pm.
URL:https://norriscommunitylibrary.com/event/pokemon-club-14
CATEGORIES:All Ages,Pokémon Club
ATTACH;FMTTYPE=image/png:https://norriscommunitylibrary.com/wp-content/uploads/2024/07/pngimg.com-pokeball_PNG22-e1721852270653.png
END:VEVENT
END:VCALENDAR