BEGIN:VCALENDAR
VERSION:2.0
PRODID:-//Norris Community Library - ECPv6.15.20//NONSGML v1.0//EN
CALSCALE:GREGORIAN
METHOD:PUBLISH
X-ORIGINAL-URL:https://norriscommunitylibrary.com
X-WR-CALDESC:Events for Norris Community Library
REFRESH-INTERVAL;VALUE=DURATION:PT1H
X-Robots-Tag:noindex
X-PUBLISHED-TTL:PT1H
BEGIN:VTIMEZONE
TZID:UTC
BEGIN:STANDARD
TZOFFSETFROM:+0000
TZOFFSETTO:+0000
TZNAME:UTC
DTSTART:20240101T000000
END:STANDARD
END:VTIMEZONE
BEGIN:VEVENT
DTSTART;TZID=UTC:20251210T143000
DTEND;TZID=UTC:20251210T153000
DTSTAMP:20260423T220404
CREATED:20251122T172349Z
LAST-MODIFIED:20251122T172349Z
UID:4922-1765377000-1765380600@norriscommunitylibrary.com
SUMMARY:Pokemon Club
DESCRIPTION:Pokémon Trainers can come by the library to battle their Pokémon\, trade cards\, and nerd out! It’s free\, fun\, and every other Wednesday\, 2:30-3:30pm.
URL:https://norriscommunitylibrary.com/event/pokemon-club-35
CATEGORIES:All Ages,Pokémon Club
ATTACH;FMTTYPE=image/png:https://norriscommunitylibrary.com/wp-content/uploads/2024/07/pngimg.com-pokeball_PNG22-e1721852270653.png
END:VEVENT
BEGIN:VEVENT
DTSTART;TZID=UTC:20251203T110000
DTEND;TZID=UTC:20251203T173000
DTSTAMP:20260423T220404
CREATED:20251122T173749Z
LAST-MODIFIED:20251122T173749Z
UID:4936-1764759600-1764783000@norriscommunitylibrary.com
SUMMARY:Swap Swap: Toy Swap!
DESCRIPTION:‘Tis the season for presents- so come grab one! This month we’re exchanging toys for all ages; bring in something you don’t use or want any more and grab a gift from someone else! You can drop in any time from 11 to 5:30\, It’s completely free\, and there’s no RSVP or ticket system.
URL:https://norriscommunitylibrary.com/event/swap-swap-toy-swap
CATEGORIES:All Ages,Swap-Swap
ATTACH;FMTTYPE=image/png:https://norriscommunitylibrary.com/wp-content/uploads/2025/05/Swap-Swaps-logo.png
END:VEVENT
BEGIN:VEVENT
DTSTART;TZID=UTC:20251126T143000
DTEND;TZID=UTC:20251126T153000
DTSTAMP:20260423T220404
CREATED:20251022T142024Z
LAST-MODIFIED:20251022T142024Z
UID:4646-1764167400-1764171000@norriscommunitylibrary.com
SUMMARY:Pokemon Club
DESCRIPTION:Pokémon Trainers can come by the library to battle their Pokémon\, trade cards\, and nerd out! It’s free\, fun\, and every other Wednesday\, 2:30-3:30pm.
URL:https://norriscommunitylibrary.com/event/pokemon-club-34
CATEGORIES:All Ages,Pokémon Club
ATTACH;FMTTYPE=image/png:https://norriscommunitylibrary.com/wp-content/uploads/2024/07/pngimg.com-pokeball_PNG22-e1721852270653.png
END:VEVENT
BEGIN:VEVENT
DTSTART;TZID=UTC:20251121T153000
DTEND;TZID=UTC:20251121T163000
DTSTAMP:20260423T220404
CREATED:20251022T141312Z
LAST-MODIFIED:20251022T141312Z
UID:4636-1763739000-1763742600@norriscommunitylibrary.com
SUMMARY:LEGO Club
DESCRIPTION:LEGO Club is held every Friday from 3:30-4:30pm. We supply the LEGO\, you supply the imagination.
URL:https://norriscommunitylibrary.com/event/lego-club-108
CATEGORIES:All Ages,LEGO Club
ATTACH;FMTTYPE=image/jpeg:https://norriscommunitylibrary.com/wp-content/uploads/2023/07/LEGO-club.jpg
END:VEVENT
BEGIN:VEVENT
DTSTART;TZID=UTC:20251118T153000
DTEND;TZID=UTC:20251118T170000
DTSTAMP:20260423T220404
CREATED:20251022T143754Z
LAST-MODIFIED:20251022T143754Z
UID:4660-1763479800-1763485200@norriscommunitylibrary.com
SUMMARY:Try Virtual Reality!
DESCRIPTION:Join us to try out our VR headsets! Play games or explore a virtual world using the library’s two virtual reality headsets. There’s sure to be something fun for you whether you’re a seasoned VR pro or have never touched it before (or just come to watch; that’s fine too!). We have plenty of games for all ages and interests\, and it’s completely free with no RSVP.
URL:https://norriscommunitylibrary.com/event/try-virtual-reality-3
CATEGORIES:All Ages
END:VEVENT
BEGIN:VEVENT
DTSTART;TZID=UTC:20251114T153000
DTEND;TZID=UTC:20251114T163000
DTSTAMP:20260423T220404
CREATED:20251022T141146Z
LAST-MODIFIED:20251022T141146Z
UID:4634-1763134200-1763137800@norriscommunitylibrary.com
SUMMARY:LEGO Club
DESCRIPTION:LEGO Club is held every Friday from 3:30-4:30pm. We supply the LEGO\, you supply the imagination.
URL:https://norriscommunitylibrary.com/event/lego-club-107
CATEGORIES:All Ages,LEGO Club
ATTACH;FMTTYPE=image/jpeg:https://norriscommunitylibrary.com/wp-content/uploads/2023/07/LEGO-club.jpg
END:VEVENT
BEGIN:VEVENT
DTSTART;TZID=UTC:20251112T143000
DTEND;TZID=UTC:20251112T153000
DTSTAMP:20260423T220404
CREATED:20251022T141939Z
LAST-MODIFIED:20251022T141939Z
UID:4644-1762957800-1762961400@norriscommunitylibrary.com
SUMMARY:Pokemon Club
DESCRIPTION:Pokémon Trainers can come by the library to battle their Pokémon\, trade cards\, and nerd out! It’s free\, fun\, and every other Wednesday\, 2:30-3:30pm.
URL:https://norriscommunitylibrary.com/event/pokemon-club-33
CATEGORIES:All Ages,Pokémon Club
ATTACH;FMTTYPE=image/png:https://norriscommunitylibrary.com/wp-content/uploads/2024/07/pngimg.com-pokeball_PNG22-e1721852270653.png
END:VEVENT
BEGIN:VEVENT
DTSTART;TZID=UTC:20251107T153000
DTEND;TZID=UTC:20251107T163000
DTSTAMP:20260423T220404
CREATED:20251022T141044Z
LAST-MODIFIED:20251022T141044Z
UID:4632-1762529400-1762533000@norriscommunitylibrary.com
SUMMARY:LEGO Club
DESCRIPTION:LEGO Club is held every Friday from 3:30-4:30pm. We supply the LEGO\, you supply the imagination.
URL:https://norriscommunitylibrary.com/event/lego-club-106
CATEGORIES:All Ages,LEGO Club
ATTACH;FMTTYPE=image/jpeg:https://norriscommunitylibrary.com/wp-content/uploads/2023/07/LEGO-club.jpg
END:VEVENT
BEGIN:VEVENT
DTSTART;TZID=UTC:20251105T110000
DTEND;TZID=UTC:20251105T173000
DTSTAMP:20260423T220404
CREATED:20251022T142959Z
LAST-MODIFIED:20251022T142959Z
UID:4658-1762340400-1762363800@norriscommunitylibrary.com
SUMMARY:Swap Swap: Clothing Swap!
DESCRIPTION:Bring your funky hats and silly sweaters to trade at the clothing swap! This month we’re exchanging clothing and wearable items for people of all ages. You can drop in any time from 11 to 5:30\, It’s completely free\, and there’s no RSVP or ticket system.
URL:https://norriscommunitylibrary.com/event/swap-swap-clothing-swap-2
CATEGORIES:All Ages,Swap-Swap
ATTACH;FMTTYPE=image/png:https://norriscommunitylibrary.com/wp-content/uploads/2025/05/Swap-Swaps-logo.png
END:VEVENT
BEGIN:VEVENT
DTSTART;TZID=UTC:20251031T153000
DTEND;TZID=UTC:20251031T163000
DTSTAMP:20260423T220404
CREATED:20250916T151015Z
LAST-MODIFIED:20250916T151015Z
UID:4430-1761924600-1761928200@norriscommunitylibrary.com
SUMMARY:LEGO Club
DESCRIPTION:LEGO Club is held every Friday from 3:30-4:30pm. We supply the LEGO\, you supply the imagination.
URL:https://norriscommunitylibrary.com/event/lego-club-105
CATEGORIES:All Ages,LEGO Club
ATTACH;FMTTYPE=image/jpeg:https://norriscommunitylibrary.com/wp-content/uploads/2023/07/LEGO-club.jpg
END:VEVENT
BEGIN:VEVENT
DTSTART;TZID=UTC:20251029T143000
DTEND;TZID=UTC:20251029T153000
DTSTAMP:20260423T220404
CREATED:20250916T150318Z
LAST-MODIFIED:20250916T150318Z
UID:4419-1761748200-1761751800@norriscommunitylibrary.com
SUMMARY:Pokemon Club
DESCRIPTION:Pokémon Trainers can come by the library to battle their Pokémon\, trade cards\, and nerd out! It’s free\, fun\, and every other Wednesday\, 2:30-3:30pm.
URL:https://norriscommunitylibrary.com/event/pokemon-club-32
CATEGORIES:All Ages,Pokémon Club
ATTACH;FMTTYPE=image/png:https://norriscommunitylibrary.com/wp-content/uploads/2024/07/pngimg.com-pokeball_PNG22-e1721852270653.png
END:VEVENT
BEGIN:VEVENT
DTSTART;TZID=UTC:20251024T153000
DTEND;TZID=UTC:20251024T163000
DTSTAMP:20260423T220404
CREATED:20250916T150652Z
LAST-MODIFIED:20250916T150652Z
UID:4427-1761319800-1761323400@norriscommunitylibrary.com
SUMMARY:LEGO Club
DESCRIPTION:LEGO Club is held every Friday from 3:30-4:30pm. We supply the LEGO\, you supply the imagination.
URL:https://norriscommunitylibrary.com/event/lego-club-104
CATEGORIES:All Ages,LEGO Club
ATTACH;FMTTYPE=image/jpeg:https://norriscommunitylibrary.com/wp-content/uploads/2023/07/LEGO-club.jpg
END:VEVENT
BEGIN:VEVENT
DTSTART;TZID=UTC:20251021T153000
DTEND;TZID=UTC:20251021T163000
DTSTAMP:20260423T220404
CREATED:20250916T153008Z
LAST-MODIFIED:20250916T171807Z
UID:4448-1761060600-1761064200@norriscommunitylibrary.com
SUMMARY:3D Pen Workshop
DESCRIPTION:The library has recently added 3D pens (Scribl3d pens) to our collection! They work like little handheld 3D printers. Want to try one and learn how they work? Join us October 21st at 3:30 for a lesson and a chance to try making something. Afterwards\, you can check one out to take home!\nThis workshop is ages 10 and up due to the pens heating up to melt the plastic filament.
URL:https://norriscommunitylibrary.com/event/3d-pen-workshop-3
CATEGORIES:All Ages
ATTACH;FMTTYPE=image/jpeg:https://norriscommunitylibrary.com/wp-content/uploads/2025/09/3d-Pen-Workshop.jpg
END:VEVENT
BEGIN:VEVENT
DTSTART;TZID=UTC:20251018T193000
DTEND;TZID=UTC:20251018T223000
DTSTAMP:20260423T220404
CREATED:20250916T165849Z
LAST-MODIFIED:20250916T185414Z
UID:4470-1760815800-1760826600@norriscommunitylibrary.com
SUMMARY:Movies on the Commons
DESCRIPTION:Thanks to the generosity of the Norris Lions Club and the Friends of the Norris Library\, Movies on the Commons is back! This October\, we are glad to offer three free movies\, Saturday nights at 7:30 pm.\nThe lineup includes Dog Man (PG\, 10/4)\, The Wild Robot (PG\, 10/11)\, and A Minecraft Movie (PG\, 10/18) and they will all be played on the Norris Commons. Bring your blankets and lawn chairs and we’ll see you there!
URL:https://norriscommunitylibrary.com/event/movies-on-the-commons-6
CATEGORIES:All Ages,Library Events
ATTACH;FMTTYPE=image/jpeg:https://norriscommunitylibrary.com/wp-content/uploads/2025/09/Movies-on-the-Commons.jpg
END:VEVENT
BEGIN:VEVENT
DTSTART;TZID=UTC:20251017T153000
DTEND;TZID=UTC:20251017T163000
DTSTAMP:20260423T220404
CREATED:20250916T150604Z
LAST-MODIFIED:20250916T150604Z
UID:4425-1760715000-1760718600@norriscommunitylibrary.com
SUMMARY:LEGO Club
DESCRIPTION:LEGO Club is held every Friday from 3:30-4:30pm. We supply the LEGO\, you supply the imagination.
URL:https://norriscommunitylibrary.com/event/lego-club-103
CATEGORIES:All Ages,LEGO Club
ATTACH;FMTTYPE=image/jpeg:https://norriscommunitylibrary.com/wp-content/uploads/2023/07/LEGO-club.jpg
END:VEVENT
BEGIN:VEVENT
DTSTART;TZID=UTC:20251015T143000
DTEND;TZID=UTC:20251015T153000
DTSTAMP:20260423T220404
CREATED:20250916T150224Z
LAST-MODIFIED:20250916T150224Z
UID:4417-1760538600-1760542200@norriscommunitylibrary.com
SUMMARY:Pokemon Club
DESCRIPTION:Pokémon Trainers can come by the library to battle their Pokémon\, trade cards\, and nerd out! It’s free\, fun\, and every other Wednesday\, 2:30-3:30pm.
URL:https://norriscommunitylibrary.com/event/pokemon-club-31
CATEGORIES:All Ages,Pokémon Club
ATTACH;FMTTYPE=image/png:https://norriscommunitylibrary.com/wp-content/uploads/2024/07/pngimg.com-pokeball_PNG22-e1721852270653.png
END:VEVENT
BEGIN:VEVENT
DTSTART;TZID=UTC:20251014T160000
DTEND;TZID=UTC:20251014T170000
DTSTAMP:20260423T220404
CREATED:20250916T154419Z
LAST-MODIFIED:20250916T165625Z
UID:4460-1760457600-1760461200@norriscommunitylibrary.com
SUMMARY:Pumpkin Painting Party
DESCRIPTION:Bring a pumpkin with you and join us in the pavilion (across the street from the library) to paint them! Paint is provided by the library. You can choose whether you want to take your pumpkin home or leave it to decorate the library!
URL:https://norriscommunitylibrary.com/event/pumpkin-painting-party-3
CATEGORIES:All Ages,Library Events
ATTACH;FMTTYPE=image/jpeg:https://norriscommunitylibrary.com/wp-content/uploads/2025/09/Pumpkin-Painting.jpg
END:VEVENT
BEGIN:VEVENT
DTSTART;TZID=UTC:20251011T193000
DTEND;TZID=UTC:20251011T223000
DTSTAMP:20260423T220404
CREATED:20250916T165803Z
LAST-MODIFIED:20250916T185427Z
UID:4468-1760211000-1760221800@norriscommunitylibrary.com
SUMMARY:Movies on the Commons
DESCRIPTION:Thanks to the generosity of the Norris Lions Club and the Friends of the Norris Library\, Movies on the Commons is back! This October\, we are glad to offer three free movies\, Saturday nights at 7:30 pm.\nThe lineup includes Dog Man (PG\, 10/4)\, The Wild Robot (PG\, 10/11)\, and A Minecraft Movie (PG\, 10/18) and they will all be played on the Norris Commons. Bring your blankets and lawn chairs and we’ll see you there!
URL:https://norriscommunitylibrary.com/event/movies-on-the-commons-5
CATEGORIES:All Ages,Library Events
ATTACH;FMTTYPE=image/jpeg:https://norriscommunitylibrary.com/wp-content/uploads/2025/09/Movies-on-the-Commons.jpg
END:VEVENT
BEGIN:VEVENT
DTSTART;TZID=UTC:20251010T153000
DTEND;TZID=UTC:20251010T163000
DTSTAMP:20260423T220404
CREATED:20250916T150518Z
LAST-MODIFIED:20250916T150518Z
UID:4423-1760110200-1760113800@norriscommunitylibrary.com
SUMMARY:LEGO Club
DESCRIPTION:LEGO Club is held every Friday from 3:30-4:30pm. We supply the LEGO\, you supply the imagination.
URL:https://norriscommunitylibrary.com/event/lego-club-102
CATEGORIES:All Ages,LEGO Club
ATTACH;FMTTYPE=image/jpeg:https://norriscommunitylibrary.com/wp-content/uploads/2023/07/LEGO-club.jpg
END:VEVENT
BEGIN:VEVENT
DTSTART;TZID=UTC:20251008T110000
DTEND;TZID=UTC:20251008T173000
DTSTAMP:20260423T220404
CREATED:20250916T153656Z
LAST-MODIFIED:20250916T153656Z
UID:4458-1759921200-1759944600@norriscommunitylibrary.com
SUMMARY:Swap Swap: Mug Swap!
DESCRIPTION:Find your new favorite drinking vessel at this month’s swap! From 11 to 5:30\, bring your extra mugs and trade them for some new ones from what others have left! It’s completely free\, no RSVP\, and if you don’t have a mug to give away\, feel free to stop by towards the end of the event to grab any extras that are left.
URL:https://norriscommunitylibrary.com/event/swap-swap-mug-swap
CATEGORIES:All Ages,Swap-Swap
ATTACH;FMTTYPE=image/png:https://norriscommunitylibrary.com/wp-content/uploads/2025/05/Swap-Swaps-logo.png
END:VEVENT
BEGIN:VEVENT
DTSTART;TZID=UTC:20251004T193000
DTEND;TZID=UTC:20251004T223000
DTSTAMP:20260423T220404
CREATED:20250916T154926Z
LAST-MODIFIED:20250916T185442Z
UID:4462-1759606200-1759617000@norriscommunitylibrary.com
SUMMARY:Movies on the Commons
DESCRIPTION:Thanks to the generosity of the Norris Lions Club and the Friends of the Norris Library\, Movies on the Commons is back! This October\, we are glad to offer three free movies\, Saturday nights at 7:30 pm.\nThe lineup includes Dog Man (PG\, 10/4)\, The Wild Robot (PG\, 10/11)\, and A Minecraft Movie (PG\, 10/18) and they will all be played on the Norris Commons. Bring your blankets and lawn chairs and we’ll see you there!
URL:https://norriscommunitylibrary.com/event/movies-on-the-commons-4
CATEGORIES:All Ages,Library Events
ATTACH;FMTTYPE=image/jpeg:https://norriscommunitylibrary.com/wp-content/uploads/2025/09/Movies-on-the-Commons.jpg
END:VEVENT
BEGIN:VEVENT
DTSTART;TZID=UTC:20251003T153000
DTEND;TZID=UTC:20251003T163000
DTSTAMP:20260423T220404
CREATED:20250916T150420Z
LAST-MODIFIED:20250916T150420Z
UID:4421-1759505400-1759509000@norriscommunitylibrary.com
SUMMARY:LEGO Club
DESCRIPTION:LEGO Club is held every Friday from 3:30-4:30pm. We supply the LEGO\, you supply the imagination.
URL:https://norriscommunitylibrary.com/event/lego-club-101
CATEGORIES:All Ages,LEGO Club
ATTACH;FMTTYPE=image/jpeg:https://norriscommunitylibrary.com/wp-content/uploads/2023/07/LEGO-club.jpg
END:VEVENT
BEGIN:VEVENT
DTSTART;TZID=UTC:20251001T143000
DTEND;TZID=UTC:20251001T153000
DTSTAMP:20260423T220404
CREATED:20250916T150119Z
LAST-MODIFIED:20250916T150119Z
UID:4415-1759329000-1759332600@norriscommunitylibrary.com
SUMMARY:Pokemon Club
DESCRIPTION:Pokémon Trainers can come by the library to battle their Pokémon\, trade cards\, and nerd out! It’s free\, fun\, and every other Wednesday\, 2:30-3:30pm.
URL:https://norriscommunitylibrary.com/event/pokemon-club-30
CATEGORIES:All Ages,Pokémon Club
ATTACH;FMTTYPE=image/png:https://norriscommunitylibrary.com/wp-content/uploads/2024/07/pngimg.com-pokeball_PNG22-e1721852270653.png
END:VEVENT
BEGIN:VEVENT
DTSTART;TZID=UTC:20250930T160000
DTEND;TZID=UTC:20250930T180000
DTSTAMP:20260423T220404
CREATED:20250819T213451Z
LAST-MODIFIED:20250819T213451Z
UID:4301-1759248000-1759255200@norriscommunitylibrary.com
SUMMARY:Family Game Night
DESCRIPTION:Family Game Night is scheduled every last Tuesday of the month from 4-6pm. We’ll have games and puzzles for the whole family! Popcorn will be provided\, but patrons are welcome to bring their own snacks and beverages!
URL:https://norriscommunitylibrary.com/event/family-game-night-21
CATEGORIES:All Ages,Family Game Night
ATTACH;FMTTYPE=image/jpeg:https://norriscommunitylibrary.com/wp-content/uploads/2023/07/Family-Game-Night.jpg
END:VEVENT
BEGIN:VEVENT
DTSTART;TZID=UTC:20250926T153000
DTEND;TZID=UTC:20250926T163000
DTSTAMP:20260423T220404
CREATED:20250819T214231Z
LAST-MODIFIED:20250819T214231Z
UID:4315-1758900600-1758904200@norriscommunitylibrary.com
SUMMARY:LEGO Club
DESCRIPTION:LEGO Club is held every Friday from 3:30-4:30pm. We supply the LEGO\, you supply the imagination.
URL:https://norriscommunitylibrary.com/event/lego-club-100
CATEGORIES:All Ages,LEGO Club
ATTACH;FMTTYPE=image/jpeg:https://norriscommunitylibrary.com/wp-content/uploads/2023/07/LEGO-club.jpg
END:VEVENT
BEGIN:VEVENT
DTSTART;TZID=UTC:20250924T110000
DTEND;TZID=UTC:20250924T173000
DTSTAMP:20260423T220404
CREATED:20250819T215647Z
LAST-MODIFIED:20250821T141600Z
UID:4325-1758711600-1758735000@norriscommunitylibrary.com
SUMMARY:Swap Swap: Plant Swap!
DESCRIPTION:As the gardening season comes to a close for the summer\, it’s time to divide those irises and get a potted plant for indoors! Find yourself a plant at this month’s swap. From 11 to 5:30\, stop in with your extra cuttings\, potted plants\, or seeds and grab some new ones from what others have left! It’s completely free\, no RSVP\, and if you don’t have plants to give away\, feel free to stop by towards the end of the event to grab any extras that are left.
URL:https://norriscommunitylibrary.com/event/swap-swap-plant-swap
CATEGORIES:All Ages,Swap-Swap
ATTACH;FMTTYPE=image/png:https://norriscommunitylibrary.com/wp-content/uploads/2025/05/Swap-Swaps-logo.png
END:VEVENT
BEGIN:VEVENT
DTSTART;TZID=UTC:20250919T153000
DTEND;TZID=UTC:20250919T163000
DTSTAMP:20260423T220404
CREATED:20250819T214149Z
LAST-MODIFIED:20250819T214149Z
UID:4313-1758295800-1758299400@norriscommunitylibrary.com
SUMMARY:LEGO Club
DESCRIPTION:LEGO Club is held every Friday from 3:30-4:30pm. We supply the LEGO\, you supply the imagination.
URL:https://norriscommunitylibrary.com/event/lego-club-99
CATEGORIES:All Ages,LEGO Club
ATTACH;FMTTYPE=image/jpeg:https://norriscommunitylibrary.com/wp-content/uploads/2023/07/LEGO-club.jpg
END:VEVENT
BEGIN:VEVENT
DTSTART;TZID=UTC:20250917T143000
DTEND;TZID=UTC:20250917T153000
DTSTAMP:20260423T220404
CREATED:20250819T213818Z
LAST-MODIFIED:20250819T213818Z
UID:4307-1758119400-1758123000@norriscommunitylibrary.com
SUMMARY:Pokemon Club
DESCRIPTION:Pokémon Trainers can come by the library to battle their Pokémon\, trade cards\, and nerd out! It’s free\, fun\, and every other Wednesday\, 2:30-3:30pm.
URL:https://norriscommunitylibrary.com/event/pokemon-club-29
CATEGORIES:All Ages,Pokémon Club
ATTACH;FMTTYPE=image/png:https://norriscommunitylibrary.com/wp-content/uploads/2024/07/pngimg.com-pokeball_PNG22-e1721852270653.png
END:VEVENT
BEGIN:VEVENT
DTSTART;TZID=UTC:20250912T153000
DTEND;TZID=UTC:20250912T163000
DTSTAMP:20260423T220404
CREATED:20250819T214100Z
LAST-MODIFIED:20250819T214100Z
UID:4311-1757691000-1757694600@norriscommunitylibrary.com
SUMMARY:LEGO Club
DESCRIPTION:LEGO Club is held every Friday from 3:30-4:30pm. We supply the LEGO\, you supply the imagination.
URL:https://norriscommunitylibrary.com/event/lego-club-98
CATEGORIES:All Ages,LEGO Club
ATTACH;FMTTYPE=image/jpeg:https://norriscommunitylibrary.com/wp-content/uploads/2023/07/LEGO-club.jpg
END:VEVENT
BEGIN:VEVENT
DTSTART;TZID=UTC:20250905T153000
DTEND;TZID=UTC:20250905T163000
DTSTAMP:20260423T220404
CREATED:20250819T214006Z
LAST-MODIFIED:20250819T214006Z
UID:4309-1757086200-1757089800@norriscommunitylibrary.com
SUMMARY:LEGO Club
DESCRIPTION:LEGO Club is held every Friday from 3:30-4:30pm. We supply the LEGO\, you supply the imagination.
URL:https://norriscommunitylibrary.com/event/lego-club-97
CATEGORIES:All Ages,LEGO Club
ATTACH;FMTTYPE=image/jpeg:https://norriscommunitylibrary.com/wp-content/uploads/2023/07/LEGO-club.jpg
END:VEVENT
END:VCALENDAR